Workbook
Name Raion: '1'!$H$33
Name Rubrici: [1]populatia!$D$6:$DA$6
Name Tabel_Populatia: [1]populatia!$D$6:$DA$1000

Sheet 1
A3: Date de identificare/Идентификационные данные | K3: In conformitate cu Legea Republicii Moldova Nr. 412-XV din 9.12.2004 «Cu privire la statistica oficială» organele statisticii oficiale: - au dreptul să obţină date statistice de la toate persoanele fizice si juridice, indiferent de forma de proprietate; - asigura соnfidenţialitatea datelor individuale obţinute si utilizarea lor numai in scорuri statistice. Refuzul, prezentarea cu întîrziere a datelor statistice, prezentarea datelor eronate sau în volum incomplet constituie contravenţie administrativă şi se sancţionează conform legislaţiei în vigoare. В соответствии с Законом Республики Молдова N 412-XV oт 9.12.2004 «Об официальной статистике» органы официальной статистики: -имеют право получать статистические данные от всех физических и юридических лиц независимо от формы собственности; -гарантируют конфиденциальность полученных индивидуальных данных и их использование только в статистических целях. Отказ, представление статистических данных с опозданием, представление ошибочных данных или не в полном объеме являются административными правонарушениями и влекут за собой применение санкций в соответствии с действующим законодательством. Aprobat prin Ordinul Biroului Naţional de Statistică Nr. 88 din 27.11.2017 Утвержден приказом Национального бюро статистики № 88 от 27.11.2017 Prezintă: - instituţia medico-sanitară privată, agentul economic privat, care dispune de licenţă pentru prestarea serviciilor medicale pînă la 10 februarie - MSMPS al Republicii Moldova (сătre Agenţia . Naţională pentru Sănătate Publică) - MSMPS al Republicii Moldova ( Agenţia Naţională pentru Sănătate Publică) centralizator anual la 3 martie – Biroului Naţional de Statistică Представляют: - частное учреждение здравоохранения, частный экономический , агент имеющий лицензию по оказанию медицинских услуг до 10 февраля -МЗТСЗ Республики Молдова (Национальному Агентству Общественного Здоровья) - МЗТСЗ Республики Молдова (Национальное Агентство Общественного Здоровья) сводные данные за год 3 марта – Национальному Бюро Статистики
A4: Denumirea: Наименование: | F4: BIROUL NAŢIONAL DE STATISTICĂ RAPORT STATISTIC (anual) СТАТИСТИЧЕСКИЙ ОТЧЕТ (годовой) nr. 1-aim Privind activitatea agentului economic privat la prestarea serviciilor medicale О деятельности частного экономического агента по оказанию медицинских услуг
A5: „Denta-Ilașciuc”Î.I
A9: Adresa: | B9: Адрес:
A11: Raionul (municipiul, UTA Găgăuzia) | D11: Cahul
A12: Район (муниципий, ATO Гагаузия)
A14: Satul (comuna) , orașul | C14: Zîrnești
A15: Село (коммуна) , город
A17: Strada | B17: Ștefan cel Mare | D17: , nr | E17: 42
A18: Улица
A20: Cod CUIÎO | D20: 1585997
A21: Код
A23: Cod INDO | C23: 100603001094
A24: Код
C25: Cod CAEM, ediţia 2005
A27: Conducătorul Руководитель | C27: Ilașciuc Eduard | G27: pe 20 | H27: 20
A28: Руководитель (nume, prenume/ имя, фамилия) | G28: за
A30: Semnătura/ Подпись
A31: L.Ș. | B31: М.П.
F32: CODUL INSTITUŢIEI MEDICALE
A33: Executantul | C33: Ilașciuc Eduard | H33: 7
A34: Исполнитель (nume, prenume/ имя, фамилия)
A36: tel. | B36: 69004363
A37: тел.
A39: Adresa înregistrării agentului economic privat Адрес, по которому зарегистрирован частный экономический агент
A40: sat Zîrnești
A41: Denumirea instituţiei medicale, la care acest agent economic privat închiriază încăperea Наименование медицинского учреждения, у которого данный частный экономический агент арендует помещение | F41: Ziua | G41: Luna | I41: Anul
F42: 20 | G42: 1 | I42: 21

Sheet 2
B1: 3. Cadre medicale Медицинские кадры
F3: А. Medici Врачи
B5: Cod funcţie Код должности | C5: Denumirea funcţiei Наименование должности | D5: Număr persoane fizice Число физических лиц
D6: total всего | E6: categoria категория | H6: din ei - cumulari из них - совместители | L6: fără cumulari без совместителей
E7: superioară высшая | F7: I | G7: II | H7: total всего | I7: categoria категория | L7: total всего | M7: categoria категория
I8: superioară высшая | J8: I | K8: II | M8: superioară высшая | N8: I | O8: II
B9: A | C9: B | D9: 1 | E9: 2 | F9: 3 | G9: 4 | H9: 5 | I9: 6 | J9: 7 | K9: 8 | L9: 9 | M9: 10 | N9: 11 | O9: 12
B10: 4.0 | C10: Total (suma rînd.5.0-96.0) Всего(сумма стр.5.0-96.0) | D10: 1 | E10: 1 | H10: 1 | I10: 1 | L10: =D10-H10 -> 0 | M10: =E10-I10 -> 0 | N10: =F10-J10 -> 0 | O10: =G10-K10 -> 0
B11: 4.1 | C11: inclusiv femei в том числе женщин | L11: =D11-H11 -> 0 | M11: =E11-I11 -> 0 | N11: =F11-J11 -> 0 | O11: =G11-K11 -> 0
B12: 5.0 | C12: Din număr total medici (rînd. 4.0) Из общего числа врачей (стр. 4.0) conducătorii instituţiilor руководители учреждений | L12: =D12-H12 -> 0 | M12: =E12-I12 -> 0 | N12: =F12-J12 -> 0 | O12: =G12-K12 -> 0
B13: 7.0 | C13: internişti терапевты | L13: =D13-H13 -> 0 | M13: =E13-I13 -> 0 | N13: =F13-J13 -> 0 | O13: =G13-K13 -> 0
B14: 8.0 | C14: internişti аi cabinetelor pentru adolescenţi терапевты подростковых кабинетов | L14: =D14-H14 -> 0 | M14: =E14-I14 -> 0 | N14: =F14-J14 -> 0 | O14: =G14-K14 -> 0
B15: 9.0 | C15: reumatologi ревматологи | L15: =D15-H15 -> 0 | M15: =E15-I15 -> 0 | N15: =F15-J15 -> 0 | O15: =G15-K15 -> 0
B16: 10.0 | C16: cardiologi кардиологи | L16: =D16-H16 -> 0 | M16: =E16-I16 -> 0 | N16: =F16-J16 -> 0 | O16: =G16-K16 -> 0
A17: 2 | B17: 11.0 | C17: gastroenterologi гастроэнтерологи | L17: =D17-H17 -> 0 | M17: =E17-I17 -> 0 | N17: =F17-J17 -> 0 | O17: =G17-K17 -> 0
B18: 12.0 | C18: gastroenterologi pentru copii гастроэнтерологи детские | L18: =D18-H18 -> 0 | M18: =E18-I18 -> 0 | N18: =F18-J18 -> 0 | O18: =G18-K18 -> 0
B19: 13.0 | C19: dietologi диетологи | L19: =D19-H19 -> 0 | M19: =E19-I19 -> 0 | N19: =F19-J19 -> 0 | O19: =G19-K19 -> 0
B20: 14.0 | C20: nefrologi нефрологи | L20: =D20-H20 -> 0 | M20: =E20-I20 -> 0 | N20: =F20-J20 -> 0 | O20: =G20-K20 -> 0
B21: 15.0 | C21: endocrinologi эндокринологи | L21: =D21-H21 -> 0 | M21: =E21-I21 -> 0 | N21: =F21-J21 -> 0 | O21: =G21-K21 -> 0
B22: 16.0 | C22: endocrinologi pentru copii эндокринологи детские | L22: =D22-H22 -> 0 | M22: =E22-I22 -> 0 | N22: =F22-J22 -> 0 | O22: =G22-K22 -> 0 | P22: 0
B23: 17.0 | C23: alergologi аллергологи | L23: =D23-H23 -> 0 | M23: =E23-I23 -> 0 | N23: =F23-J23 -> 0 | O23: =G23-K23 -> 0
B24: 18.0 | C24: hematologi гематологи | L24: =D24-H24 -> 0 | M24: =E24-I24 -> 0 | N24: =F24-J24 -> 0 | O24: =G24-K24 -> 0
B25: 19.0 | C25: infecţionişti инфекционисты | L25: =D25-H25 -> 0 | M25: =E25-I25 -> 0 | N25: =F25-J25 -> 0 | O25: =G25-K25 -> 0
B26: 20.0 | C26: infecţionişti pentru copii инфекционисты детские | L26: =D26-H26 -> 0 | M26: =E26-I26 -> 0 | N26: =F26-J26 -> 0 | O26: =G26-K26 -> 0
B27: 21.0 | C27: fizioterapeuţi физиотерапевты | L27: =D27-H27 -> 0 | M27: =E27-I27 -> 0 | N27: =F27-J27 -> 0 | O27: =G27-K27 -> 0
B28: 22.0 | C28: medici medicină tradiţională по традиционной медицине | L28: =D28-H28 -> 0 | M28: =E28-I28 -> 0 | N28: =F28-J28 -> 0 | O28: =G28-K28 -> 0
B29: 23.0 | C29: kinetoterapeuţi кинетотерапевты | L29: =D29-H29 -> 0 | M29: =E29-I29 -> 0 | N29: =F29-J29 -> 0 | O29: =G29-K29 -> 0
B30: 24.0 | C30: medici medicină sportivă врачи по спортивной медицине | L30: =D30-H30 -> 0 | M30: =E30-I30 -> 0 | N30: =F30-J30 -> 0 | O30: =G30-K30 -> 0
B31: 25.0 | C31: medici diagnostic funcţional врачи по функциональной диагностике | L31: =D31-H31 -> 0 | M31: =E31-I31 -> 0 | N31: =F31-J31 -> 0 | O31: =G31-K31 -> 0
D32: =SUM(D12:D31)+SUM('3'!D6:D30)+SUM('4'!D6:D34)+SUM('5'!D6:D23)-'3'!D26-'3'!D29 -> 1 | E32: =SUM(E12:E31)+SUM('3'!E6:E30)+SUM('4'!E6:E34)+SUM('5'!E6:E23)-'3'!E26-'3'!E29 -> 1 | F32: =SUM(F12:F31)+SUM('3'!F6:F30)+SUM('4'!F6:F34)+SUM('5'!F6:F23)-'3'!F26-'3'!F29 -> 0 | G32: =SUM(G12:G31)+SUM('3'!G6:G30)+SUM('4'!G6:G34)+SUM('5'!G6:G23)-'3'!G26-'3'!G29 -> 0 | H32: =SUM(H12:H31)+SUM('3'!H6:H30)+SUM('4'!H6:H34)+SUM('5'!H6:H23)-'3'!H26-'3'!H29 -> 1 | I32: =SUM(I12:I31)+SUM('3'!I6:I30)+SUM('4'!I6:I34)+SUM('5'!I6:I23)-'3'!I26-'3'!I29 -> 1 | J32: =SUM(J12:J31)+SUM('3'!J6:J30)+SUM('4'!J6:J34)+SUM('5'!J6:J23)-'3'!J26-'3'!J29 -> 0 | K32: =SUM(K12:K31)+SUM('3'!K6:K30)+SUM('4'!K6:K34)+SUM('5'!K6:K23)-'3'!K26-'3'!K29 -> 0 | ... O32: =SUM(O12:O31)+SUM('3'!O6:O30)+SUM('4'!O6:O34)+SUM('5'!O6:O23)-'3'!O26-'3'!O29 -> 0

Sheet 3
B1: Cod funcţie Код должности | C1: Denumirea funcţiei Наименование должности | D1: Număr persoane fizice Число физических лиц
D2: total всего | E2: categoria категория | H2: din ei - cumulari из них - совместители | L2: fără cumulari без совместителей
E3: superioară высшая | F3: I | G3: II | H3: total всего | I3: categoria категория | L3: total всего | M3: categoria категория
I4: superioară высшая | J4: I | K4: II | M4: superioară высшая | N4: I | O4: II
B5: A | C5: B | D5: 1 | E5: 2 | F5: 3 | G5: 4 | H5: 5 | I5: 6 | J5: 7 | K5: 8 | L5: 9 | M5: 10 | N5: 11 | O5: 12
B6: 26.0 | C6: geneticieni генетики | L6: =D6-H6 -> 0 | M6: =E6-I6 -> 0 | N6: =F6-J6 -> 0 | O6: =G6-K6 -> 0
B7: 27.0 | C7: toxicologi токсикологи | L7: =D7-H7 -> 0 | M7: =E7-I7 -> 0 | N7: =F7-J7 -> 0 | O7: =G7-K7 -> 0
B8: 28.0 | C8: geriatri геронтологи | L8: =D8-H8 -> 0 | M8: =E8-I8 -> 0 | N8: =F8-J8 -> 0 | O8: =G8-K8 -> 0
B9: 29.0 | C9: medici de urgenţă врачи скорой помощи | L9: =D9-H9 -> 0 | M9: =E9-I9 -> 0 | N9: =F9-J9 -> 0 | O9: =G9-K9 -> 0
B10: 30.0 | C10: imagişti-sonografie врачи по ультразвуковой диагностики | L10: =D10-H10 -> 0 | M10: =E10-I10 -> 0 | N10: =F10-J10 -> 0 | O10: =G10-K10 -> 0
B11: 31.0 | C11: chirurgi хирурги | L11: =D11-H11 -> 0 | M11: =E11-I11 -> 0 | N11: =F11-J11 -> 0 | O11: =G11-K11 -> 0
B12: 32.0 | C12: chirurgi pentru copii хирурги детские | L12: =D12-H12 -> 0 | M12: =E12-I12 -> 0 | N12: =F12-J12 -> 0 | O12: =G12-K12 -> 0
B13: 33.0 | C13: chirurgi cardiovasculari сердечно-сосудистые хирурги | L13: =D13-H13 -> 0 | M13: =E13-I13 -> 0 | N13: =F13-J13 -> 0 | O13: =G13-K13 -> 0
B14: 34.0 | C14: chirurgi toracali торакальные хирурги | L14: =D14-H14 -> 0 | M14: =E14-I14 -> 0 | N14: =F14-J14 -> 0 | O14: =G14-K14 -> 0
B15: 35.0 | C15: proctologi проктологи | L15: =D15-H15 -> 0 | M15: =E15-I15 -> 0 | N15: =F15-J15 -> 0 | O15: =G15-K15 -> 0
B16: 36.0 | C16: ortopezi-traumatologi ортопеды-травматологи | L16: =D16-H16 -> 0 | M16: =E16-I16 -> 0 | N16: =F16-J16 -> 0 | O16: =G16-K16 -> 0
A17: 3 | B17: 37.0 | C17: ortopezi-traumatologi pentru copii ортопеды-травматологи детские | L17: =D17-H17 -> 0 | M17: =E17-I17 -> 0 | N17: =F17-J17 -> 0 | O17: =G17-K17 -> 0
B18: 38.0 | C18: urologi урологи | L18: =D18-H18 -> 0 | M18: =E18-I18 -> 0 | N18: =F18-J18 -> 0 | O18: =G18-K18 -> 0
B19: 39.0 | C19: urologi pentru copii урологи детские | L19: =D19-H19 -> 0 | M19: =E19-I19 -> 0 | N19: =F19-J19 -> 0 | O19: =G19-K19 -> 0
B20: 40.0 | C20: neurochirurgi нейрохирурги | L20: =D20-H20 -> 0 | M20: =E20-I20 -> 0 | N20: =F20-J20 -> 0 | O20: =G20-K20 -> 0
B21: 41.0 | C21: anesteziologi-reanimatologi анестезиологи-реаниматологи | L21: =D21-H21 -> 0 | M21: =E21-I21 -> 0 | N21: =F21-J21 -> 0 | O21: =G21-K21 -> 0
B22: 42.0 | C22: anesteziologi-reanimatologi pentru copii анестезиологи-реаниматологи детские | L22: =D22-H22 -> 0 | M22: =E22-I22 -> 0 | N22: =F22-J22 -> 0 | O22: =G22-K22 -> 0 | P22: 0
B23: 43.0 | C23: endoscopişti эндоскописты | L23: =D23-H23 -> 0 | M23: =E23-I23 -> 0 | N23: =F23-J23 -> 0 | O23: =G23-K23 -> 0
B24: 44.0 | C24: oncologi онкологи | L24: =D24-H24 -> 0 | M24: =E24-I24 -> 0 | N24: =F24-J24 -> 0 | O24: =G24-K24 -> 0
B25: 45.0 | C25: obstetricieni – ginecologi акушеры – гинекологи | L25: =D25-H25 -> 0 | M25: =E25-I25 -> 0 | N25: =F25-J25 -> 0 | O25: =G25-K25 -> 0
B26: 45.1 | C26: inclusiv obstetricieni-ginecologi a cabinetului de planificare a familiei в т. ч.акушеры- гинекологи кабинета планирования семьи | L26: =D26-H26 -> 0 | M26: =E26-I26 -> 0 | N26: =F26-J26 -> 0 | O26: =G26-K26 -> 0
B27: 46.0 | C27: obstetricieni – ginecologi pentru copii акушеры – гинекологи детские | L27: =D27-H27 -> 0 | M27: =E27-I27 -> 0 | N27: =F27-J27 -> 0 | O27: =G27-K27 -> 0
B28: 47.0 | C28: pediatri педиатры | L28: =D28-H28 -> 0 | M28: =E28-I28 -> 0 | N28: =F28-J28 -> 0 | O28: =G28-K28 -> 0
B29: 47.1 | C29: inclusiv pediatri – consultanţi в том числе педиатры- консультанты | L29: =D29-H29 -> 0 | M29: =E29-I29 -> 0 | N29: =F29-J29 -> 0 | O29: =G29-K29 -> 0
B30: 48.0 | C30: neonatologi неонатологи | L30: =D30-H30 -> 0 | M30: =E30-I30 -> 0 | N30: =F30-J30 -> 0 | O30: =G30-K30 -> 0

Sheet 4
B1: Cod funcţie Код должности | C1: Denumirea funcţiei Наименование должности | D1: Număr persoane fizice Число физических лиц
D2: total всего | E2: categoria категория | H2: din ei - cumulari из них - совместители | L2: fără cumulari без совместителей
E3: superioară высшая | F3: I | G3: II | H3: total всего | I3: categoria категория | L3: total всего | M3: categoria категория
I4: superioară высшая | J4: I | K4: II | M4: superioară высшая | N4: I | O4: II
B5: A | C5: B | D5: 1 | E5: 2 | F5: 3 | G5: 4 | H5: 5 | I5: 6 | J5: 7 | K5: 8 | L5: 9 | M5: 10 | N5: 11 | O5: 12
B6: 49.0 | C6: cardioreumatologi pediatri кардиоревматологи детские | L6: =D6-H6 -> 0 | M6: =E6-I6 -> 0 | N6: =F6-J6 -> 0 | O6: =G6-K6 -> 0
B7: 50.0 | C7: oftalmologi офтальмологи | L7: =D7-H7 -> 0 | M7: =E7-I7 -> 0 | N7: =F7-J7 -> 0 | O7: =G7-K7 -> 0
B8: 51.0 | C8: oftalmologi pentru copii офтальмологи детские | L8: =D8-H8 -> 0 | M8: =E8-I8 -> 0 | N8: =F8-J8 -> 0 | O8: =G8-K8 -> 0
B9: 52.0 | C9: otorinolaringologi оториноларингологи | L9: =D9-H9 -> 0 | M9: =E9-I9 -> 0 | N9: =F9-J9 -> 0 | O9: =G9-K9 -> 0
B10: 53.0 | C10: otorinolaringologi pentru copii оториноларингологи детские | L10: =D10-H10 -> 0 | M10: =E10-I10 -> 0 | N10: =F10-J10 -> 0 | O10: =G10-K10 -> 0
B11: 54.0 | C11: surdologi сурдологи | L11: =D11-H11 -> 0 | M11: =E11-I11 -> 0 | N11: =F11-J11 -> 0 | O11: =G11-K11 -> 0
B12: 55.0 | C12: ftiziopneumologi фтизиопульмонологи | L12: =D12-H12 -> 0 | M12: =E12-I12 -> 0 | N12: =F12-J12 -> 0 | O12: =G12-K12 -> 0
B13: 56.0 | C13: ftiziopneumologi pentru copii фтизиопульмонологи детские | L13: =D13-H13 -> 0 | M13: =E13-I13 -> 0 | N13: =F13-J13 -> 0 | O13: =G13-K13 -> 0
B14: 57.0 | C14: neurologi невропатологи | L14: =D14-H14 -> 0 | M14: =E14-I14 -> 0 | N14: =F14-J14 -> 0 | O14: =G14-K14 -> 0
B15: 58.0 | C15: neurologi pentru copii невропатологи детские | L15: =D15-H15 -> 0 | M15: =E15-I15 -> 0 | N15: =F15-J15 -> 0 | O15: =G15-K15 -> 0
B16: 59.0 | C16: psihiatri психиатры | L16: =D16-H16 -> 0 | M16: =E16-I16 -> 0 | N16: =F16-J16 -> 0 | O16: =G16-K16 -> 0
B17: 60.0 | C17: psihiatri pentru copii психиатры детские | L17: =D17-H17 -> 0 | M17: =E17-I17 -> 0 | N17: =F17-J17 -> 0 | O17: =G17-K17 -> 0
B18: 61.0 | C18: narcologi наркологи | L18: =D18-H18 -> 0 | M18: =E18-I18 -> 0 | N18: =F18-J18 -> 0 | O18: =G18-K18 -> 0
A19: 4 | B19: 62.0 | C19: psihoterapeuţi психотерапевты | L19: =D19-H19 -> 0 | M19: =E19-I19 -> 0 | N19: =F19-J19 -> 0 | O19: =G19-K19 -> 0
B20: 64.0 | C20: epidemiologi эпидемиологи | L20: =D20-H20 -> 0 | M20: =E20-I20 -> 0 | N20: =F20-J20 -> 0 | O20: =G20-K20 -> 0
B21: 65.0 | C21: dezinfecţionişti дезинфекционисты | L21: =D21-H21 -> 0 | M21: =E21-I21 -> 0 | N21: =F21-J21 -> 0 | O21: =G21-K21 -> 0
B22: 66.0 | C22: parazitologi паразитологи | L22: =D22-H22 -> 0 | M22: =E22-I22 -> 0 | N22: =F22-J22 -> 0 | O22: =G22-K22 -> 0 | P22: 0
B23: 67.0 | C23: microbiologi микробиологи | L23: =D23-H23 -> 0 | M23: =E23-I23 -> 0 | N23: =F23-J23 -> 0 | O23: =G23-K23 -> 0
B24: 68.0 | C24: virusologi вирусологи | L24: =D24-H24 -> 0 | M24: =E24-I24 -> 0 | N24: =F24-J24 -> 0 | O24: =G24-K24 -> 0
B25: 69.0 | C25: medici igienişti pe: врачи гигиенисты по: igiena generală общей гигиене | L25: =D25-H25 -> 0 | M25: =E25-I25 -> 0 | N25: =F25-J25 -> 0 | O25: =G25-K25 -> 0
B26: 70.0 | C26: igiena copiilor şi adolescenţilor гигиене детей и подростков | L26: =D26-H26 -> 0 | M26: =E26-I26 -> 0 | N26: =F26-J26 -> 0 | O26: =G26-K26 -> 0
B27: 71.0 | C27: igiena alimentară гигиене питания | L27: =D27-H27 -> 0 | M27: =E27-I27 -> 0 | N27: =F27-J27 -> 0 | O27: =G27-K27 -> 0
B28: 72.0 | C28: igiena muncii гигиене труда | L28: =D28-H28 -> 0 | M28: =E28-I28 -> 0 | N28: =F28-J28 -> 0 | O28: =G28-K28 -> 0
B29: 73.0 | C29: igiena radiaţiilor радиационной гигиене | L29: =D29-H29 -> 0 | M29: =E29-I29 -> 0 | N29: =F29-J29 -> 0 | O29: =G29-K29 -> 0
B30: 74.0 | C30: igiena mediului ambiant şi habitatului uman гигиене окружающей среды и среды обитания | L30: =D30-H30 -> 0 | M30: =E30-I30 -> 0 | N30: =F30-J30 -> 0 | O30: =G30-K30 -> 0
B31: 75.0 | C31: educaţie pentru sănătate здоровому образу жизни | L31: =D31-H31 -> 0 | M31: =E31-I31 -> 0 | N31: =F31-J31 -> 0 | O31: =G31-K31 -> 0
B32: 76.0 | C32: stоmatologi стоматологи | D32: 1 | E32: 1 | H32: 1 | I32: 1 | L32: =D32-H32 -> 0 | M32: =E32-I32 -> 0 | N32: =F32-J32 -> 0 | O32: =G32-K32 -> 0
B33: 77.0 | C33: stоmatologi pentru copii стоматологи детские | L33: =D33-H33 -> 0 | M33: =E33-I33 -> 0 | N33: =F33-J33 -> 0 | O33: =G33-K33 -> 0
B34: 78.0 | C34: stоmatologi chirurgi стоматологи хирурги | L34: =D34-H34 -> 0 | M34: =E34-I34 -> 0 | N34: =F34-J34 -> 0 | O34: =G34-K34 -> 0

Sheet 5
B1: Cod funcţie Код должности | C1: Denumirea funcţiei Наименование должности | D1: Număr persoane fizice Число физических лиц
D2: total всего | E2: categoria категория | H2: din ei - cumulari из них - совместители | L2: fără cumulari без совместителей
E3: superioară высшая | F3: I | G3: II | H3: total всего | I3: categoria категория | L3: total всего | M3: categoria категория
I4: superioară высшая | J4: I | K4: II | M4: superioară высшая | N4: I | O4: II
B5: A | C5: B | D5: 1 | E5: 2 | F5: 3 | G5: 4 | H5: 5 | I5: 6 | J5: 7 | K5: 8 | L5: 9 | M5: 10 | N5: 11 | O5: 12
B6: 79.0 | C6: stоmatologi ortopezi стоматологи ортопеды | L6: =D6-H6 -> 0 | M6: =E6-I6 -> 0 | N6: =F6-J6 -> 0 | O6: =G6-K6 -> 0
B7: 80.0 | C7: stоmatologi ortodonţi стоматологи ортодонты | L7: =D7-H7 -> 0 | M7: =E7-I7 -> 0 | N7: =F7-J7 -> 0 | O7: =G7-K7 -> 0
B8: 81.0 | C8: imagişti-radiologi рентгенологи | L8: =D8-H8 -> 0 | M8: =E8-I8 -> 0 | N8: =F8-J8 -> 0 | O8: =G8-K8 -> 0
B9: 82.0 | C9: imagişti-radiologi (radioterapeuţi) рентгенотерапевты | L9: =D9-H9 -> 0 | M9: =E9-I9 -> 0 | N9: =F9-J9 -> 0 | O9: =G9-K9 -> 0
B10: 83.0 | C10: imagişti- medicina nucleară радиологи (радионуклидная диагностика) | L10: =D10-H10 -> 0 | M10: =E10-I10 -> 0 | N10: =F10-J10 -> 0 | O10: =G10-K10 -> 0
B11: 86.0 | C11: morfopatologi морфопатологи | L11: =D11-H11 -> 0 | M11: =E11-I11 -> 0 | N11: =F11-J11 -> 0 | O11: =G11-K11 -> 0
B12: 87.0 | C12: laboranţi лаборанты | L12: =D12-H12 -> 0 | M12: =E12-I12 -> 0 | N12: =F12-J12 -> 0 | O12: =G12-K12 -> 0
B13: 88.0 | C13: laboranţi-geneticieni лаборанты-генетики | L13: =D13-H13 -> 0 | M13: =E13-I13 -> 0 | N13: =F13-J13 -> 0 | O13: =G13-K13 -> 0
B14: 89.0 | C14: farmacologi clinici клинические фармакологи | L14: =D14-H14 -> 0 | M14: =E14-I14 -> 0 | N14: =F14-J14 -> 0 | O14: =G14-K14 -> 0
B15: 90.0 | C15: transfuziologi трансфузиологи | L15: =D15-H15 -> 0 | M15: =E15-I15 -> 0 | N15: =F15-J15 -> 0 | O15: =G15-K15 -> 0
B16: 91.0 | C16: imunologi иммунологи | L16: =D16-H16 -> 0 | M16: =E16-I16 -> 0 | N16: =F16-J16 -> 0 | O16: =G16-K16 -> 0
A17: 5 | B17: 92.0 | C17: sexopatologi сексопатологи | L17: =D17-H17 -> 0 | M17: =E17-I17 -> 0 | N17: =F17-J17 -> 0 | O17: =G17-K17 -> 0
B18: 93.0 | C18: andrologi андрологи | L18: =D18-H18 -> 0 | M18: =E18-I18 -> 0 | N18: =F18-J18 -> 0 | O18: =G18-K18 -> 0
B19: 94.0 | C19: statisticieni статистики | L19: =D19-H19 -> 0 | M19: =E19-I19 -> 0 | N19: =F19-J19 -> 0 | O19: =G19-K19 -> 0
B20: 95.0 | C20: metodişti методисты | L20: =D20-H20 -> 0 | M20: =E20-I20 -> 0 | N20: =F20-J20 -> 0 | O20: =G20-K20 -> 0
B21: 96.0 | C21: dermato-venerologi дермато-венерологи | L21: =D21-H21 -> 0 | M21: =E21-I21 -> 0 | N21: =F21-J21 -> 0 | O21: =G21-K21 -> 0
B22: 97.0 | L22: =D22-H22 -> 0 | M22: =E22-I22 -> 0 | N22: =F22-J22 -> 0 | O22: =G22-K22 -> 0 | P22: 0
B23: 98.0 | C23: alţi specialişti другие специалисты | L23: =D23-H23 -> 0 | M23: =E23-I23 -> 0 | N23: =F23-J23 -> 0 | O23: =G23-K23 -> 0
B24: 99.0 | C24: În afară de aceasta: Кроме того: rezidenţi резиденты | E24: X | F24: X | G24: X | H24: X | I24: X | J24: X | K24: X
B25: 100.0 | C25: Dentişti Зубные врачи | L25: =D25-H25 -> 0 | M25: =E25-I25 -> 0 | N25: =F25-J25 -> 0 | O25: =G25-K25 -> 0
B26: 103.0 | C26: Specialişti cu studii superioare nemedicale, care ocupă funcţii de medici – total Специалисты с высшим немедицинским образованием, занимающие должности врачей - всего | L26: =D26-H26 -> 0 | M26: =E26-I26 -> 0 | N26: =F26-J26 -> 0 | O26: =G26-K26 -> 0
B27: 103.1 | C27: din ei: из них: medici – laboranţi врачей –лаборантов | L27: =D27-H27 -> 0 | M27: =E27-I27 -> 0 | N27: =F27-J27 -> 0 | O27: =G27-K27 -> 0
B28: 103.2 | C28: medici – statisticieni врачей - статистиков | L28: =D28-H28 -> 0 | M28: =E28-I28 -> 0 | N28: =F28-J28 -> 0 | O28: =G28-K28 -> 0
B29: 103.3 | C29: medici – kinetoterapeuţi врачей - кинетотерапевтов | L29: =D29-H29 -> 0 | M29: =E29-I29 -> 0 | N29: =F29-J29 -> 0 | O29: =G29-K29 -> 0
B30: 6.0 | C30: În afară de aceasta medici de familie care activează conform contractului cu CNAM Кроме того семейные врачи работающие на базе контракта с НКСM | L30: =D30-H30 -> 0 | M30: =E30-I30 -> 0 | N30: =F30-J30 -> 0 | O30: =G30-K30 -> 0
D31: ='2'!D10 -> 1 | E31: ='2'!E10 -> 1 | F31: ='2'!F10 -> 0 | G31: ='2'!G10 -> 0 | H31: ='2'!H10 -> 1 | I31: ='2'!I10 -> 1 | J31: ='2'!J10 -> 0 | K31: ='2'!K10 -> 0 | ... O31: ='2'!O10 -> 0

Sheet 6
D2: B. Personal medical mediu Средний медицинский персонал
B4: Cod funcţie Код должности | C4: Denumirea funcţiei Наименование должности | D4: Număr persoane fizice Число физических лиц
D5: total всего | E5: categoria категория | H5: din ei - cumulari из них - совместители | L5: fără cumulari без совместителей
E6: superioară высшая | F6: I | G6: II | H6: total всего | I6: categoria категория | L6: total всего | M6: categoria категория
I7: superioară высшая | J7: I | K7: II | M7: superioară высшая | N7: I | O7: II
B8: A | C8: B | D8: 1 | E8: 2 | F8: 3 | G8: 4 | H8: 5 | I8: 6 | J8: 7 | K8: 8 | L8: 9 | M8: 10 | N8: 11 | O8: 12
B9: 107.0 | C9: Total Всего | D9: 2 | E9: 1 | H9: 1 | L9: =D9-H9 -> 1 | M9: =E9-I9 -> 1 | N9: =F9-J9 -> 0 | O9: =G9-K9 -> 0
B10: 107.1 | C10: inclusiv femei в том числе женщин | D10: 1 | H10: 1 | L10: =D10-H10 -> 0 | M10: =E10-I10 -> 0 | N10: =F10-J10 -> 0 | O10: =G10-K10 -> 0
B11: 108.0 | C11: Din număr total personal medical mediu (rînd. 107.0), Из общего числа среднего медперсонала (стр. 107.0), asistenţi medicali медицинские сестры | D11: 1 | H11: 1 | L11: =D11-H11 -> 0 | M11: =E11-I11 -> 0 | N11: =F11-J11 -> 0 | O11: =G11-K11 -> 0
B12: 109.0 | C12: asistenţii medicului igienist помощники врача гигиениста | L12: =D12-H12 -> 0 | M12: =E12-I12 -> 0 | N12: =F12-J12 -> 0 | O12: =G12-K12 -> 0
B13: 110.0 | C13: asistenţii epidemiologului помощники эпидемиолога | L13: =D13-H13 -> 0 | M13: =E13-I13 -> 0 | N13: =F13-J13 -> 0 | O13: =G13-K13 -> 0
B14: 111.0 | C14: moaşe акушерки | L14: =D14-H14 -> 0 | M14: =E14-I14 -> 0 | N14: =F14-J14 -> 0 | O14: =G14-K14 -> 0
B15: 112.0 | C15: felceri фельдшера | L15: =D15-H15 -> 0 | M15: =E15-I15 -> 0 | N15: =F15-J15 -> 0 | O15: =G15-K15 -> 0
B16: 113.0 | C16: felceri-narcologi фельдшера -наркологи | L16: =D16-H16 -> 0 | M16: =E16-I16 -> 0 | N16: =F16-J16 -> 0 | O16: =G16-K16 -> 0
A17: 6 | B17: 114.0 | C17: laboranţi лаборанты | L17: =D17-H17 -> 0 | M17: =E17-I17 -> 0 | N17: =F17-J17 -> 0 | O17: =G17-K17 -> 0
B18: 115.0 | C18: tehnicieni-radiologi рентген-лаборанты | L18: =D18-H18 -> 0 | M18: =E18-I18 -> 0 | N18: =F18-J18 -> 0 | O18: =G18-K18 -> 0
B19: 116.0 | C19: statisticieni medicali медицинские статистики | L19: =D19-H19 -> 0 | M19: =E19-I19 -> 0 | N19: =F19-J19 -> 0 | O19: =G19-K19 -> 0
B20: 117.0 | C20: tehnicieni- dentari зубные техники | D20: 1 | E20: 1 | H20: 0 | I20: 0 | L20: =D20-H20 -> 1 | M20: =E20-I20 -> 1 | N20: =F20-J20 -> 0 | O20: =G20-K20 -> 0
B21: 118.0 | C21: registratori medicali медицинские регистраторы | L21: =D21-H21 -> 0 | M21: =E21-I21 -> 0 | N21: =F21-J21 -> 0 | O21: =G21-K21 -> 0
B22: 119.0 | C22: instructori – dezinfecţionişti инструкторы - дезинфекторы | L22: =D22-H22 -> 0 | M22: =E22-I22 -> 0 | N22: =F22-J22 -> 0 | O22: =G22-K22 -> 0 | P22: 0
B23: 120.0 | C23: felceri în educaţie pentru sănătate фельдшерa по здоровому образу жизни | L23: =D23-H23 -> 0 | M23: =E23-I23 -> 0 | N23: =F23-J23 -> 0 | O23: =G23-K23 -> 0
B24: 121.0 | C24: dezinfectori дезинфекторы | L24: =D24-H24 -> 0 | M24: =E24-I24 -> 0 | N24: =F24-J24 -> 0 | O24: =G24-K24 -> 0
B25: 122.0 | C25: alt personal medical mediu прочий cредний медицинский персонал | L25: =D25-H25 -> 0 | M25: =E25-I25 -> 0 | N25: =F25-J25 -> 0 | O25: =G25-K25 -> 0
B26: 123.0 | C26: În afară de aceasta, fără studii medicale medii, ocupă funcţii- total Кроме того, без среднего медицинского образования, занимающие должности- всего | E26: X | F26: X | G26: X | H26: X | I26: X | J26: X | K26: X
B27: 123.1 | C27: din ei: из них: registratori medicali медицинских регистраторов | E27: X | F27: X | G27: X | H27: X | I27: X | J27: X | K27: X
B28: 123.2 | C28: instructori – dezinfecţionişti инструкторов - дезинфекторов | E28: X | F28: X | G28: X | H28: X | I28: X | J28: X | K28: X
B29: 123.3 | C29: dezinfectori дезинфекторов | E29: X | F29: X | G29: X | H29: X | I29: X | J29: X | K29: X
B30: 123.4 | C30: alt personal medical mediu прочего cреднего медперсонала | L30: =D30-H30 -> 0 | M30: =E30-I30 -> 0 | N30: =F30-J30 -> 0 | O30: =G30-K30 -> 0
B31: 108.1 | C31: În afară de aceasta, asistente medicale ale medicilor de familie Кроме того, медицинские сёстры семейных врачей | L31: =D31-H31 -> 0 | M31: =E31-I31 -> 0 | N31: =F31-J31 -> 0 | O31: =G31-K31 -> 0

Sheet 7
B2: 4. Numar total de vizite la medici, inclusiv profilactice (fără vizite la stomatologi şi medici de familie care activează conform contractului cu CNAM)*
B3: Общее число посещений к врачам, включая профилактические (без посещений к стоматологам и семейным врачам работающим на базе контракта с НКСM)
B4: Cod funcţie Код должности | C4: Denumirea Наименование | D4: Vizite la medici, inclusiv profilactice Число посещений к врачам, включая профилактические | G4: Din număr total de vizite au fost efectuate pe motiv de boală Из общего числа посещений сделано по поводу заболеваний | J4: Vizite efectuate de medici la domiciliu Посещения, выполненные врачами на дому | M4: Din număr total de vizite la domiciliu- pe motiv de boală Из общего числа посещений на дому- по поводу заболеваний
D5: total всего | E5: inclusiv (din rub.1) в т.ч.(из гр.1) | G5: Din număr total de vizite au fost efectuate pe motiv de boală Из общего числа посещений сделано по поводу заболеваний | H5: inclusiv_ (din rub.4) в т.ч.(из гр.4) | J5: total всего | K5: inclusiv (din rub.7) в т.ч.(из гр.7) | M5: total всего | N5: inclusiv (din rub.10) в т.ч.(из гр.10)
E6: de către persoanele asigurate (achitate de СNAM) застрахованных лиц (оплачен-ных НКСМ) | F6: la copii 0 - 17 ani 11luni 29zile к детям 0-17 лет 11мес. 29 дн | I6: copii 0 – 17 ani 11 luni 29 zile детей 0 – 17 лет 11 мес. 29 дн. | K6: de către persoanele asigurate (achitate de СNAM) к застрахованным лицам (оплачен-ных НКСМ) | L6: la copii 0 - 17 ani 11luni 29zile к детям 0-17 лет 11мес. 29 дн | O6: la copii 0 - 17 ani 11luni 29zile к детям 0-17 лет 11мес. 29 дн
B8: A | C8: B | D8: 1 | E8: 2 | F8: 3 | G8: 4 | H8: 5 | I8: 6 | J8: 7 | K8: 8 | L8: 9 | M8: 10 | N8: 11 | O8: 12
B9: 1 | C9: Total Всего | H9: 0 | N9: 0
B10: 3 | C10: internişti терапевты | H10: 0 | N10: 0
B11: 4 | C11: internişti ai cabinetelor p-u adolescenţi терапевты подростковых кабинетов | H11: 0 | N11: 0
A12: 7 | B12: 5 | C12: reumatologi ревматологи | H12: 0 | N12: 0
B13: 6 | C13: cardiologi кардиологи | H13: 0 | N13: 0
B14: 7 | C14: gastroenterologi гастроентерологи | H14: 0 | N14: 0
B15: 8 | C15: dietologi диетологи | H15: 0 | N15: 0
B16: 9 | C16: nefrologi нефрологи | H16: 0 | N16: 0
B17: 10 | C17: endocrinologi эндокринологи | H17: 0 | N17: 0
B18: 11 | C18: alergologi алергологи | H18: 0 | N18: 0
B19: 12 | C19: hematologi гематологи | H19: 0 | N19: 0
B20: 13 | C20: infecţionişti инфекционисты | H20: 0 | N20: 0
B21: 14 | C21: fizioterapeuţi физиотерапевты | H21: 0 | N21: 0
B22: 15 | C22: medici medicină tradiţională врачи по традиционной медицине | H22: 0 | N22: 0
B23: 16 | C23: kinetoterapeuţi кинетотерапевты | H23: 0 | N23: 0
B24: 17 | C24: medici medicină sportivă врачи по спортивной медицине | H24: 0 | N24: 0
D25: =SUM('8'!D6:D21)+SUM('9'!D6:D23)-'8'!D20 -> 0 | E25: =SUM('8'!E6:E21)+SUM('9'!E6:E23)-'8'!E20 -> 0 | F25: =SUM('8'!F6:F21)+SUM('9'!F6:F23)-'8'!F20 -> 0 | G25: =SUM('8'!G6:G21)+SUM('9'!G6:G23)-'8'!G20 -> 0 | H25: =SUM('8'!H6:H21)+SUM('9'!H6:H23)-'8'!H20 -> 0 | I25: =SUM('8'!I6:I21)+SUM('9'!I6:I23)-'8'!I20 -> 0 | J25: =SUM('8'!J6:J21)+SUM('9'!J6:J23)-'8'!J20 -> 0 | K25: =SUM('8'!K6:K21)+SUM('9'!K6:K23)-'8'!K20 -> 0 | ... O25: =SUM('8'!O6:O21)+SUM('9'!O6:O23)-'8'!O20 -> 0
B26: *Vizite la medici de familie, care activează conform contractului cu CNAM se indică în rs30 – săn. Посещения к семейны*Vizite la medici de familie, care activează conform contractului cu CNAM se indică în rs30 – săn.

Sheet 8
B1: Cod funcţie Код должности | C1: Denumirea Наименование | D1: Vizite la medici, inclusiv profilactice Число посещений к врачам, включая профилактические | G1: Din număr total de vizite au fost efectuate pe motiv de boală Из общего числа посещений сделано по поводу заболеваний | J1: Vizite efectuate de medici la domiciliu Посещения, выполненные врачами на дому | M1: Din număr total de vizite la domiciliu- pe motiv de boală Из общего числа посещений на дому- по поводу заболеваний
D2: total всего | E2: inclusiv (din rub.1) в т.ч.(из гр.1) | G2: total всего | H2: inclusiv (din rub.4) в т.ч.(из гр.4) | J2: total всего | K2: inclusiv (din rub.7) в т.ч.(из гр.7) | M2: total всего | N2: inclusiv (din rub.10) в т.ч.(из гр.10)
E3: de către persoanele asigurate (achitate de СNAM) застрахованных лиц (оплачен-ных НКСМ) | F3: la copii 0 - 17 ani 11luni 29zile к детям 0-17 лет 11мес. 29 дн | I3: copii 0 – 17 ani 11 luni 29 zile детей 0 – 17 лет 11 мес. 29 дн. | K3: de către persoanele asigurate (achitate de СNAM) к застрахован-ным лицам (оплаченных НКСМ) | L3: la copii 0 - 17 ani 11luni 29zile к детям 0-17 лет 11мес. 29 дн | O3: la copii 0 - 17 ani 11luni 29zile к детям 0-17 лет 11мес. 29 дн
B5: A | C5: B | D5: 1 | E5: 2 | F5: 3 | G5: 4 | H5: 5 | I5: 6 | J5: 7 | K5: 8 | L5: 9 | M5: 10 | N5: 11 | O5: 12
B6: 18 | C6: medici diagnostic funcţional врачи по функциональной диагностике | H6: 0 | N6: 0
B7: 19 | C7: geneticieni генетики | H7: 0 | N7: 0
B8: 20 | C8: geriatri геронтологи | H8: 0 | N8: 0
A9: 8 | B9: 21 | C9: imagişti-sonografie врачи по ультразвуковой диагностике | H9: 0 | N9: 0
B10: 22 | C10: chirurgi хирурги | H10: 0 | N10: 0
B11: 23 | C11: chirurgi cardiovasculari сердечно-сосудистые хирурги | H11: 0 | N11: 0
B12: 24 | C12: chirurgi toracali торакальные хирурги | H12: 0 | N12: 0
B13: 25 | C13: proctologi проктологи | H13: 0 | N13: 0
B14: 26 | C14: ortopezi-traumatologi ортопеды-травматологи | H14: 0 | N14: 0
B15: 27 | C15: urologi урологи | H15: 0 | N15: 0
B16: 28 | C16: neurochirurgi нейрохирурги | H16: 0 | N16: 0
B17: 29 | C17: endoscopişti эндоскописты | H17: 0 | N17: 0
B18: 30 | C18: oncologi онкологи | H18: 0 | N18: 0
B19: 31 | C19: obstetricieni – ginecologi акушеры – гинекологи | H19: 0 | N19: 0
B20: 31.1 | C20: din ei obstetricieni – ginecologi a cabinetului de planificare a familiei из них акушеры – гинекологи кабинета планирования семьи | H20: 0 | N20: 0
B21: 32 | C21: pediatri педиатры | H21: 0 | N21: 0
B22: 32.1 | C22: din ei pediatri – consultanţi из них педиатры - консультанты | H22: 0 | N22: 0

Sheet 9
B1: Cod funcţie Код должности | C1: Denumirea Наименование | D1: Vizite la medici, inclusiv profilactice Число посещений к врачам, включая профилактические | G1: Din număr total de vizite au fost efectuate pe motiv de boală Из общего числа посещений сделано по поводу заболеваний | J1: Vizite efectuate de medici la domiciliu Посещения, выполненные врачами на дому | M1: Din număr total de vizite la domiciliu- pe motiv de boală Из общего числа посещений на дому- по поводу заболеваний
D2: total всего | E2: inclusiv (din rub.1) в т.ч.(из гр.1) | G2: total всего | H2: inclusiv (din rub.4) в т.ч.(из гр.4) | J2: total всего | K2: inclusiv (din rub.7) в т.ч.(из гр.7) | M2: total всего | N2: inclusiv (din rub.10) в т.ч.(из гр.10)
E3: de către persoanele asigurate (achitate de СNAM) застрахованных лиц (оплачен-ных НКСМ) | F3: la copii 0 - 17 ani 11luni 29zile к детям 0-17 лет 11мес. 29 дн | I3: copii 0 – 17 ani 11 luni 29 zile детей 0 – 17 лет 11 мес. 29 дн. | K3: de către persoanele asigurate (achitate de СNAM) к застрахован-ным лицам (оплаченных НКСМ) | L3: la copii 0 - 17 ani 11luni 29zile к детям 0-17 лет 11мес. 29 дн | O3: la copii 0 - 17 ani 11luni 29zile к детям 0-17 лет 11мес. 29 дн
B5: A | C5: B | D5: 1 | E5: 2 | F5: 3 | G5: 4 | H5: 5 | I5: 6 | J5: 7 | K5: 8 | L5: 9 | M5: 10 | N5: 11 | O5: 12
B6: 33 | C6: cardioreumatologi pediatri кардиоревматологи детские | H6: 0 | N6: 0
B7: 34 | C7: oftalmologi офтальмологи | H7: 0 | N7: 0
B8: 35 | C8: otorinolaringologi оториноларингологи | H8: 0 | N8: 0
A9: 9 | B9: 36 | C9: surdologi сурдологи | H9: 0 | N9: 0
B10: 37 | C10: ftiziopneumologi фтизиопульмонологи | H10: 0 | N10: 0
B11: 38 | C11: neurologi невропатологи | H11: 0 | N11: 0
B12: 39 | C12: psihiatri психиатры | H12: 0 | N12: 0
B13: 40 | C13: narcologi наркологи | H13: 0 | N13: 0
B14: 41 | C14: psihoterapeuţi психотерапевты | H14: 0 | N14: 0
B15: 42 | C15: experţi psihiatrie judiciară судебно-психиатрические эксперты | H15: 0 | N15: 0
B16: 44 | C16: imagişti-radiologi рентгенологи | H16: 0 | N16: 0
B17: 45 | C17: imagişti-radiologi (radioterapeuţi) рентгенотерапевты | H17: 0 | N17: 0
B18: 46 | C18: imagişti- medicina nucleară радиологи (радионуклидная диагностика) | H18: 0 | N18: 0
B19: 47 | C19: imunologi иммунологи | H19: 0 | N19: 0
B20: 48 | C20: sexopatologi сексопатологи | H20: 0 | N20: 0
B21: 49 | C21: andrologi андрологи | H21: 0 | N21: 0
B22: 50 | C22: dermato-venerologi дермато-венерологи | H22: 0 | N22: 0

Sheet 10
B1: 5. Activitatea serviciului stomatologic
B2: Работа стоматологической службы
A3: Denumirea Наименование | B3: Nr. rînd № строки | C3: Număr vizite la stomatologi şi dentişti Число посещений к стоматологам и зубным врачам | E3: În total au fost sanaţi conform planului şi adresărilor Всего санировано в порядке плановой санации и по обращению | F3: Plombaţi dinţi Запломбировано зубов | H3: Extraşi dinţi Удалено зубов | J3: Activitatea de profilaxie Профилактическая работа
C4: total всего | D4: inclusiv primare*) в т. ч. первичных | F4: total всего | G4: inclusiv pe motiv de caries complicat в т. ч. по поводу осложненного кариеса | H4: total всего | I4: inclusiv pe motiv de maladii ale paradontului в т. ч. по поводу заболеваний парoдонта | J4: au fost examinaţi cu scop profilactic total осмотрено с профилактической целью всего | K4: din numărul examinaţilor necesitau sanaţie из числа осмотренных нуждались в санации | L4: au fost sanaţi din numărul depistaţilor pe parcursul sanării planificate санировано из числа выявлен. при плановой санации
A5: A | B5: B | C5: 1 | D5: 2 | E5: 3 | F5: 4 | G5: 5 | H5: 6 | I5: 7 | J5: 8 | K5: 9 | L5: 10
A6: Total Всего | B6: 1 | C6: 568 | D6: 328 | E6: 340 | F6: 768 | G6: 230
A7: inclusiv copii 0 - 17 ani 11 luni 29 zile в том числе дети 0-17лет 11мес.29 дн | B7: 2 | C7: 23 | D7: 12 | E7: 20 | F7: 30 | G7: 23
A8: *) Primară se consideră prima adresare la stomatolog în anul gestionar indiferent de caracterul adresării Первичным считается первое обращение к стоматологу в отчетном году независимо от характера обращения
A9: Nota: în tabela Nr. 5 se includ şi datele din tabela Nr. 6 privind asistenţa stomatologică de urgenţă Примечание: в таблицу № 5 включаются и данные из таблицы № 6 о срочной стоматологической помощи.
A10: 5.1 Unităţi convenţionale volumului de muncă lucrate 1. | E10: 663 | F10: Zile de muncă lucrate 2 | H10: 204 | I10: inc.de către medicii stomatologi+ chirurgi 3 | M10: 0
A11: Nota: Ziua lucrătoare trebue calculată reeşind din durata zilei lucratore a medicului stomatolog de 6 ore 30 min
B12: 6. Asistenţa stomatologică de urgenţă
B13: Срочная стоматологическая помощь
A14: Denumirea Наименование | B14: Nr. rînd № строки | C14: Număr bolnavi tratați în caz de urgenţă Число пролеченных больных при ургентных состояниях | F14: Plombaţi dinţi pe motiv de Запломбировано зубов по поводу | H14: Extraşi dinţi Удалено зубов | I14: Trataţi bolnavi pe motiv de Пролечено больных по поводу
C15: total всего | D15: inclusiv в том числе
D16: primare первичные | E16: de persoane asigurate застрахованными лицами | F16: pulpită acută острого пульпита | G16: periodontită acută sau exacerbată острого периодонтита или обострения | I16: absces абсцесса | J16: periostită периостита | K16: flegmonă флегмоны | L16: fractură a maxilarului перелома челюсти | M16: stomatită acută острого стоматита
A17: A | B17: B | C17: 1 | D17: 2 | E17: 3 | F17: 4 | G17: 5 | H17: 6 | I17: 7 | J17: 8 | K17: 9 | L17: 10 | M17: 11
A18: Total Всего | B18: 1 | C18: 230 | D18: 150 | E18: 0 | F18: 246 | G18: 158
A19: inclusiv copii 0 - 17 ani 11 luni 29 zile в том числе дети 0-17лет 11мес.29 дн | B19: 2 | C19: 15 | D19: 5 | E19: 0 | F19: 12 | G19: 10
B22: 7. Confecţionarea protezelor dentare
B23: Изготовление зубных протезов
A24: Număr persoane ce au primit proteze dentare Число лиц, получивших протезы | C24: Confecţionate Изготовлено
C25: coroane unice одиночных коронок | G25: proteze mobile съемных протезов | I25: unităţi metalocera-mice şi porcelan единиц металло-керамики и фарфора | J25: proteze cosmetice космети-ческих протезов | K25: alte tipuri de proteze dentare прочих видов зубных протезов
D26: punţi protetice total мостовид-ных протезов всего | E26: în ele в них | G26: total всего | H26: schele-tate бюгель-ных
A27: total всего | B27: din ei locu- itori rurali из них сельских жителей | E27: coroane коронок | F27: dinţi artificiali искус-ствен. зубов
A28: 1 | B28: 2 | C28: 3 | D28: 4 | E28: 5 | F28: 6 | G28: 7 | H28: 8 | I28: 9 | J28: 10 | K28: 11
A29: 38 | B29: 38 | C29: 18 | D29: 23 | E29: 48 | F29: 23 | G29: 17 | H29: 3 | I29: 32 | J29: 0 | K29: 0
A31: 7.1 Număr persoane се au primit tratament ortodontic: total 1 | G31: 0 | H31: , din ei copii 0-17 ani 11 luni 29 zile 2 | K31: 0
A32: Число лиц, получивших ортодонтическое лечение: всего | H32: из них детей 0-17 лет 11 мес. 29 дн.

Sheet 11
B3: 8. Activitatea chirurgicală a stomatologului* | I3: 10. Activitatea cabinetelor de diagnosticare
B4: Хирургическая работа стоматолога | I4: Работа диагностических кабинетов
B6: Denumirea investigaţiei Наименование исследования | C6: Nr rînd № стр. | D6: Număr intervenţii - total Число операций - всего | E6: inclusiv în staţionar в том числе в стационаре | I6: Denumirea investigaţiei Наименование исследования | J6: Nr rînd № стр. | K6: Număr investiga-ţii Число исследо-ваний | L6: inclusiv achitate de CNAM persoanelor asigurate в т. ч. оплаченных НКСМ застрахованным лицам
B7: А | C7: B | D7: 1 | E7: 2 | I7: А | J7: B | K7: 1
B8: Total intervenţii Всего операций | C8: 1.0 | I8: Rezonanţă magnetică nucleară Ядерномагнитный резонанс | J8: 1
B9: pe aparatul osteo-muscular - total на костно-мышечной системе - всего | C9: 2.0 | I9: Tomografia computerizată Kомпьютерная томография | J9: 2
B10: inclusiv: в том числе: - de inserare a implantelor osteointegrante по установке имплантов | C10: 2.1 | I10: Radiologice - total Радиологические – всего | J10: 3
B11: - osteoplastia defectelor osoase și apofizei alvеolare остеопластика костных дефектов и альвeолярного отростка | C11: 2.2 | I11: inclusiv: в том числе: - viziografia визиография | J11: 3.1
B12: - osteoplastia defectelor osoase și apofizei alvеolare сu inserarea simultană a implantelor остеопластика костных дефектов и альвeолярного отростка с одновременной установкой имплантов | C12: 2.3 | I12: Endoscopice - total Эндоскопические - всего | J12: 4
B13: pe piele şi ţesutul celular subcutanat на коже и подкожной клетчатке | C13: 3.0 | I13: inclusiv: в том числе: - esofagogastroduodenoscopie эзофагогастродуоденоскопия | J13: 4.1
B14: alte intervenţii прочие операции | C14: 4.0 | I14: - bronhoscopie бронхоскопия | J14: 4.2
B15: *Notă: în intervenții nu se include extracţia dinţilor | I15: - сolonoscopie колоноскопия | J15: 4.3
B16: Примечание: в операции не включать удаление зубов | I16: - rectoromanoscopie ректороманоскопия | J16: 4.4
B17: 9. Activitatea cabinetelor curativ-auxiliare | I17: - altele другие | J17: 4.5
B18: Работа лечебно-вспомогательных кабинетов | I18: Ecografie - total Эхография (УЗИ) – всего | J18: 5
B19: Denumirea cabinetului Название кабинета | C19: Nr rînd № стр. | D19: Număr persoane, care au terminat tratamentul Число лиц, закончивших лечение | E19: Număr şedinţe efectuate Число отпущенных процедур | F19: inclusiv şedinţe achitate de CNAM persoanelor asigurate (din rub.2) в т. ч. Оплаченных процедур НКСМ застрахованным лицам (из гр.2) | I19: inclusiv: в том числе: - ecografia organelor cavităţii abdominale şi retroperitoneale эхография органов брюшной полости и забрюшинного пространства | J19: 5.1
B20: А | C20: В | D20: 1 | E20: 2 | F20: 3 | I20: - ecografia sarcinii эхография при беременности | J20: 5.2
B21: fizioterapie (inclusiv masaj) физиотерапии (в.т.я. Массаж) | C21: 1 | I21: din ele : из них: - în termen 18-21 săptămîni ale sarcinii в сроке беременности 18-21 недель | J21: 5.2.1
B22: reflexoterapie рефлексотерапии | C22: 2 | I22: - ecografia prostatei эхография предстательной железы | J22: 5.3 | P22: 0
B23: chinetoterapie кинетотерапии | C23: 3 | I23: - ecografia în ginecologie эхография в гинекологии | J23: 5.4
B24: hemosorbţie гемосорбции | C24: 4 | I24: - doplerografia vaselor sangvine доплерография сосудов | J24: 5.5
I25: - ecografia altor organe эхография других органов | J25: 5.6
B26: 11. Diagnostică funcţională Функциональная диагностика | I26: 12. Analize de laborator
B27: Функциональная диагностика | I27: Лабораторные анализы
B28: Numărul persoanelor examinate 1 | I28: Denumirea investigaţiei Наименование исследования | J28: Nr rînd № стр | K28: Număr investigaţii Число исследований
B29: Число обследованных лиц | I29: Total Всего | J29: 1 | M29: =K30+K31+K32+K33+K34 -> 0
B30: Număr investigaţii 2 | I30: inclusiv: в том числе: - hematologice гематологические | J30: 1.1
B31: Число исследований | I31: - citologice цитологические | J31: 1.2
B32: inclusiv achitate de CNAM persoanelor asigurate 2.1 | I32: - biochimice биохимические | J32: 1.3
B33: в т.ч. оплаченных НКСМ застрахованным лицам | I33: - microbiologice микробиологические | J33: 1.4
I34: - imunologice иммунологические | J34: 1.5
D36: Număr analize pozitive la: sifilis 12.1 | J36: gonoree 12.2
D37: Число анализов положительных на сифилис | J37: гонорею
C38: Din numărul total analize de laborator (din rînd.1) efectuate persoanelor asigurate (achitate de CNAM) 12.3 Из общего числа лабораторных анализов (из стр.1)проведено застрахованным лицам (оплаченных НКСМ) .

Sheet 12
C2: 13. Activitatea staţionarului
C3: Деятельность стационара
A5: Nr. rînd. № стр | B5: Profil paturi Профиль коек | C5: Număr paturi Число коек | E5: În anul gestionar В отчетном году | I5: Număr zile-pat spitalizate Проведено больными койко-дней
C6: la finele anului gestionar на конец отчетного года | D6: medii- anuale средне-годовых | E6: bolnavi internaţi total поступило больных всего | F6: inclusiv copii 0-17 ani 11luni 29 zile в т.ч. дети 0-17 лет 11 мес. 29дн. | G6: bolnavi externaţi выписано больных | H6: decedaţi умерло
A7: A | B7: B | C7: 1 | D7: 2 | E7: 3 | F7: 4 | G7: 5 | H7: 6 | I7: 7
A8: 1 | B8: Total Всего
C9: ='[2]2'!$D$11 -> 0 | D9: ='[2]2'!$E$11 -> 0 | E9: ='[2]2'!$F$11 -> 0 | F9: ='[2]2'!$G$11 -> 0 | G9: ='[2]2'!$H$11 -> 0 | H9: ='[2]2'!$I$11 -> 0 | I9: ='[2]2'!$K$11 -> 0
B10: Notă: Datele desfăşurate pe profiuri de prezentat în anexa Nr.1 f30.
B11: Примечание: Развернутые данные по профилям представить в приложении № 1 f30.
C13: 14. Activitatea staţionarului de zi
C14: Деятельность дневного стационара
B16: Număr locurilor total 1.0 | D16: inclusiv pentru copii 1.1 | G16: trataţi bolnavi total 2.0
B17: Число мест всего | C17: ='[2]7'!$D$25 -> 0 | D17: в т.ч. для детей | F17: ='[2]7'!$G$25 -> 0 | G17: пролечено больных всего | I17: ='[2]7'!$J$25 -> 0
B19: inclusiv copii 2.1 | D19: număr zile-pat total 3.0 | G19: inclusiv de către copii 3.1
B20: в т.ч. детей | C20: ='[2]7'!$L$25 -> 0 | D20: проведено койко-дней всего | F20: ='[2]7'!$F$28 -> 0 | G20: в т.ч. детьми | I20: ='[2]7'!$J$28 -> 0
B22: 15. Activitatea chirurgicală (fără activitatea stomatologului )
B23: Хирургическая работа (без работы стоматолога)
B25: Denumirea intervenţiei Название операции | C25: Nr. rînd № стр. | D25: Număr intervenţii - total Число операций - всего | F25: inclusiv în staţionar в том числе в стационаре
B26: A | C26: B | D26: 1 | F26: 2
B27: Total intervenţii Всего операций | C27: 1.0 | H27: ='[2]15'!$D$6 -> 0
B28: inclusiv: в том числе: intervenţii pe sistemul nervos операции на нервной системе | C28: 2.0 | H28: ='[2]15'!$D$7 -> 0
B29: intervenţii pe sistemul endocrin операции на эндокринной системе | C29: 3.0 | H29: ='[2]15'!$D$10 -> 0
B30: intervenţii pe ochi операции на органе зрения | C30: 4.0 | H30: ='[2]15'!$D$12 -> 0
B31: intervenţii pe ureche, nas, faringe операции на органах уха, носа, горла | C31: 5.0 | H31: ='[2]16'!$D$5 -> 0
B32: intervenţii pe aparatul respirator операции на органах дыхания | C32: 6.0 | H32: ='[2]16'!$D$7 -> 0
B33: intervenţii pe inimă (cord) операции на сердце | C33: 7.0 | H33: ='[2]16'!$D$11 -> 0
B34: intervenţii pe vasele de sînge şi limfatice операции на сосудах | C34: 8.0 | H34: ='[2]16'!$D$14 -> 0
B35: intervenţii pe organele cavităţii abdominale операции на органах брюшной полости | C35: 9.0 | H35: ='[2]17'!$D$5 -> 0
B36: intervenţii pe rinichi şi uretere операции на почках и мочеточниках | C36: 10.0 | H36: ='[2]18'!$D$5 -> 0
B37: intervenţii pe prostată операции на предстательной железе | C37: 11.0 | H37: ='[2]18'!$D$6 -> 0
B38: intervenţii pe organele genitale feminine операции на женских половых органах | C38: 12.0 | H38: ='[2]18'!$D$7 -> 0
B39: intervenţii obstetricale акушерские операции | C39: 13.0 | H39: ='[2]18'!$D$10 -> 0
B40: intervenţii pe aparatul osteo-muscular операции на костно-мышечной системе | C40: 14.0 | H40: ='[2]19'!$D$5 -> 0
B41: intervenţii pe glanda mamară операции на молочной железе | C41: 15.0 | H41: ='[2]19'!$D$12 -> 0
B42: intervenţii pe piele şi ţesutul subcutanat операции на коже и подкожной клетчатке | C42: 16.0 | H42: ='[2]19'!$D$13 -> 0
B43: alte intervenţii прочие операции | C43: 17.0 | H43: ='[2]19'!$D$14 -> 0
B45: 16. Activitatea instituţiei de medicină preventivă (dezinfecţie, deratizaţie, dezinsecţie)
B46: Деятельность учреждения превентивной медицины (дезинфекция, дератизация, дезинсекция)
B48: Denumirea activităţii Наименование деятельности | C48: Nr. rînd № стр. | D48: Volumul lucrărilor efectuate (м2 ) Объем выполненных работ (м2 )
B49: A | C49: B | D49: 1
B50: dezinfecţie дезинфекция | C50: 1
B51: deratizaţie дератизация | C51: 2
B52: dezinsecţie дезинсекция | C52: 3

Sheet 13
A1: 17. Depistați bolnavi de Trihomoniază, infecții cu Chlamydia și herpes ano-genital
A2: Выявлено больных трихомониазом, хламидийными инфекциями и аногенитальным герпесом
A3: Denumirea Наименование | B3: Cifru conform CIM revizia X Шифр по МКБ Х пере-смотра | C3: Sex Пол | D3: Nr. rînd № стр. | E3: Număr bolnavi cu diagnosticul stabilit caz nou Число больных с впервые в жизни установленным диагнозом | L3: din numărul total de bolnavi locuitori rurali из общего числа больных сельские жители
E4: TOTAL ВСЕГО | F4: inclusiv în vîrstă в том числе в возрасте
F5: pînă la 14 ani до 14 лет | G5: 15-17 ani лет | H5: 18-19 ani лет | I5: 20-29 ani лет | J5: 30-39 ani лет | K5: 40 ani şi peste 40 лет и старше
A6: A | B6: B | C6: C | D6: D | E6: 1 | F6: 2 | G6: 3 | H6: 4 | I6: 5 | J6: 6 | K6: 7 | L6: 8
A7: Trichomoniază Трихомониаз | B7: A 59.0 | C7: b/м | D7: 1
C8: f/ж | D8: 2
A9: Infecţii cu Chlamydia transmise pe cale sexuală Хламидийные инфек-ции, передающиеся половым путем | B9: A 56; A 63 | C9: b/м | D9: 3
C10: f/ж | D10: 4
A11: Infecţii ano-genitale prin virusul herpetic (herpes simplex) Аногенитальные герпетические инфекции (герпес простой) | B11: A 60 | C11: b/м | D11: 5
C12: f/ж | D12: 6

Sheet 14
B2: 3200 2. Activitatea secţiei dializă Деятельность отделения диализа
B4: Denumirea Наименование | C4: Nr rînd № строки | D4: Total Всего
B5: A | C5: B | D5: C
B6: Dializa este prestată * : Диализ осуществляется *: - În cadrul asistenței medicale spitalicești (de fixat în rubrica C: da -1 , nu - 0 ) - В госпитальной системе медицинской помощи (отметить в столбике С: да - 1, нет -0 ) | C6: 1
B7: - În cadrul asistenței medicale specializate de ambulator (de fixat în rubrica C: da -1 , nu - 0) - В амбулаторной специализированной системе медицинской помощи (отметить в столбике С: да - 1, нет -0) | C7: 2
B8: Tipul serviciilor de dializă: Типы услуги диализа: - Hemodializa și alte metode extracorporale (hemofiltrare, hemodiafiltrare, plasmafereza, hemoperfuzia): - da -1 , nu - 0 - Гемодиализ и другие экстракорпоральные методы (гемофильтрация, гемодиафильтрация, плазмаферез, гемосорбция) да - 1, нет -0 | C8: 3
B9: - Dializa peritoneală : - da -1 , nu - 0 - Перитонеальный диализ: да - 1, нет -0 | C9: 4
B10: Număr locuri dialize (aparate “rinichi artificiali”) Число диализных мест ( аппараты «искусственная почка») | C10: 5
B11: Numărul pacienților cu Boala Cronică de Rinichi (BCR), tratați cu hemodializă și alte metode extracorporale pe parcursul anului Число пациентов с Хронической Болезнью Почек (ХПБ), лечившихся гемодиализом и другими экстракорпоральными методами в течении года | C11: 6
B12: Numărul pacienților cu BCR, tratați cu dializa peritoneală pe parcursul anului ** Число пациентов с ХБП, лечившихся перитонеальным диализом в течении года ** | C12: 7
B13: Numărul pacienților cu BCR, spitalizați primar la tratament prin dializă pe parcursul anului Число пациентов с ХБП, впервые госпитализированных на лечение диализом в течении года | C13: 8
B14: Numărul pacienților cu BCR, aflați la tratament prin dializă la finele anului (31 decembrie inclusiv) Число пациентов с ХБП, состоящих на лечении диализом на конец года (31 декабря включительно) | C14: 9
B15: Numărul pacienților cu Leziune Acută a Rinichiului (LAR) (insuficiență renală acută - IRA) tratați cu dializă pe parcursul anului Число пациентов с Острым Поражением Почек - ОПП (Острой Почечной Недостаточностью-ОПН), лечившихся диализом в течении года | C15: 10
A16: 11 | B16: Număr ședințe hemodializă și alte metode extracorporale efectuate pe parcursul anului, în total Число проведенных сеансов гемодиализа и других экстракорпоральных методов в течении года, всего | C16: 11
B17: Inclusiv : в том числе: - ședințe hemodializă (HD); сеансов гемодиализа (ГД) | C17: 12
B18: - ședințe hemofiltrare (HF), hemodiafiltrare (HDF); сеансов гемофильтрации (ГФ), сеансов гемодиафильтрации (ГДФ) | C18: 13
B19: - ședințe plasmafereză (PF): сеансов плазмафереза (ПФ) | C19: 14
B20: - ședințe hemoperfuzie (hemoadsorbție) (HP); сеансов гемосорбции (ГС) | C20: 15
B21: Numărul de ședințe hemodializă și alte metode extracorporale efectuate pe parcursul anului la pacienți cu BCR Число проведенных сеансов гемодиализа и других экстракорпоральных методов в течении года пациентам с ХБП | C21: 16
B22: Numărul de ședințe hemodializă și alte metode extracorporale efectuate pe parcursul anului la pacienți cu LAR (IRA) Число проведенных сеансов гемодиализа и других экстракорпоральных методов в течении года пациентам с ОПП (ОПН) | C22: 17
B23: Numărul pacienților decedați cu BCR la tratament prin dializă Число пациентов умерших с ХБП на диализе | C23: 18
B24: Numărul pacienților decedați cu LAR (IRA) la tratament prin dializă Число пациентов умерших с ОПП (ОПН) на диализе | C24: 19
B25: Din numărul total de ședințe hemodializă și alte metode extracorporale efectuate ( din rind.11), la pacienți din staționar Из общего числа проведенных сеансов диализа и других экстракорпоральных методов (из стр.11), больным из стационара | C25: 20
B26: * în dependență de statutul secției, dializa poate fi prestată pacienților din staționar (spital), ambulator sau mixt (staționar și ambulator) в зависимости от статуса отделения, диализ осуществляется пациентам из стационара (больницы), амбулаторно или смешано (стационар и амбулаторно)
B27: ** pentru pacienții tratați cu dializă peritoneală (DP), datele statistice se referă doar la numărul de pacienți tratați cu DP, fără a indica numărul de ședințe для пациентов лечившихся перитонеальным диализом (ПД), статистические данные относятся только к числу пациентов, без необходимости отметить число сеансов ПД

Sheet indicatori
A1: Calcularea indicatorilor Raport statistic Nr 1-aim
A2: «Privind activitatea agentului economic privat la prestarea serviciilor medicale»
A3: Cod | B3: Denumire indicator | C3: Valoare absoluta | D3: Indicator
A4: aim1_i1 | B4: Ponderea medicilor cumulari | C4: ='2'!H10 -> 1 | D4: ='2'!H10*100/'2'!D10 -> 100
A5: aim1_i2 | B5: Ponderea medicilor cu categorie de calificare total | C5: ='2'!E10+'2'!F10+'2'!G10 -> 1 | D5: =('2'!E10+'2'!F10+'2'!G10)*100/'2'!D10 -> 100
A6: aim1_i3 | B6: categorie superioară | C6: ='2'!E10 -> 1 | D6: ='2'!E10*100/'2'!D10 -> 100
A7: aim1_i4 | B7: prima categorie | C7: ='2'!F10 -> 0 | D7: ='2'!F10*100/'2'!D10 -> 0
A8: aim1_i5 | B8: a doua categorie | C8: ='2'!G10 -> 0 | D8: ='2'!G10*100/'2'!D10 -> 0
A9: aim1_i6 | B9: Ponderea medicilor, care nu au avut categorie de calificare | C9: ='2'!D10-('2'!E10+'2'!F10+'2'!G10) -> 0 | D9: =('2'!D10-('2'!E10+'2'!F10+'2'!G10))*100/'2'!D10 -> 0
A10: aim1_i7 | B10: Ponderea personalului medical mediu cumulari | C10: ='6'!H9 -> 1 | D10: ='6'!H9*100/'6'!D9 -> 50
A11: aim1_i8 | B11: Ponderea personalului medical mediu cu categorie de calificare total | C11: ='6'!E9+'6'!F9+'6'!G9 -> 1 | D11: =('6'!E9+'6'!F9+'6'!G9)*100/'6'!D9 -> 50
A12: aim1_i9 | B12: categorie superioară | C12: ='6'!E9 -> 1 | D12: ='6'!E9*100/'6'!D9 -> 50
A13: aim1_i10 | B13: prima categorie | C13: ='6'!F9 -> 0 | D13: ='6'!F9*100/'6'!D9 -> 0
A14: aim1_i11 | B14: a doua categorie | C14: ='6'!G9 -> 0 | D14: ='6'!G9*100/'6'!D9 -> 0
A15: aim1_i12 | B15: Ponderea personalului medical mediu, care nu a avut categorie de calificare: | C15: ='6'!D9-('6'!E9+'6'!F9+'6'!G9) -> 1 | D15: =('6'!D9-('6'!E9+'6'!F9+'6'!G9))*100/'6'!D9 -> 50
A16: aim1_i13 | B16: Ponderea vizitelor copiilor la medici_TOTAL | C16: ='7'!F9 -> 0 | D16: ='7'!F9*100/'7'!D9 -> #DIV/0!
A17: aim1_i14 | B17: internişti терапевты 7 | C17: ='7'!F10 -> 0 | D17: ='7'!F10*100/'7'!D10 -> #DIV/0!
A18: aim1_i15 | B18: internişti ai cabinetelor p-u adolescenţi терапевты подростковых кабинетов | C18: ='7'!F11 -> 0 | D18: ='7'!F11*100/'7'!D11 -> #DIV/0!
A19: aim1_i16 | B19: reumatologi ревматологи | C19: ='7'!F12 -> 0 | D19: ='7'!F12*100/'7'!D12 -> #DIV/0!
A20: aim1_i17 | B20: cardiologi кардиологи | C20: ='7'!F13 -> 0 | D20: ='7'!F13*100/'7'!D13 -> #DIV/0!
A21: aim1_i18 | B21: gastroenterologi гастроентерологи | C21: ='7'!F14 -> 0 | D21: ='7'!F14*100/'7'!D14 -> #DIV/0!
A22: aim1_i19 | B22: dietologi диетологи | C22: ='7'!F15 -> 0 | D22: ='7'!F15*100/'7'!D15 -> #DIV/0!
A23: aim1_i20 | B23: nefrologi нефрологи | C23: ='7'!F16 -> 0 | D23: ='7'!F16*100/'7'!D16 -> #DIV/0!
A24: aim1_i21 | B24: endocrinologi эндокринологи | C24: ='7'!F17 -> 0 | D24: ='7'!F17*100/'7'!D17 -> #DIV/0!
A25: aim1_i22 | B25: alergologi алергологи | C25: ='7'!F18 -> 0 | D25: ='7'!F18*100/'7'!D18 -> #DIV/0!
A26: aim1_i23 | B26: hematologi гематологи | C26: ='7'!F19 -> 0 | D26: ='7'!F19*100/'7'!D19 -> #DIV/0!
A27: aim1_i24 | B27: infecţionişti инфекционисты | C27: ='7'!F20 -> 0 | D27: ='7'!F20*100/'7'!D20 -> #DIV/0!
... A31: aim1_i28 | B31: medici medicină sportivă врачи по спортивной медицине | C31: ='7'!F24 -> 0 | D31: ='7'!F24*100/'7'!D24 -> #DIV/0!
A32: aim1_i29 | B32: medici diagnostic funcţional врачи по функциональной диагностике 8 | C32: ='8'!F6 -> 0 | D32: ='8'!F6*100/'8'!D6 -> #DIV/0!
A33: aim1_i30 | B33: geneticieni генетики | C33: ='8'!F7 -> 0 | D33: ='8'!F7*100/'8'!D7 -> #DIV/0!
A34: aim1_i31 | B34: geriatri геронтологи | C34: ='8'!F8 -> 0 | D34: ='8'!F8*100/'8'!D8 -> #DIV/0!
A35: aim1_i32 | B35: imagişti-sonografie врачи по ультразвуковой диагностике | C35: ='8'!F9 -> 0 | D35: ='8'!F9*100/'8'!D9 -> #DIV/0!
A36: aim1_i33 | B36: chirurgi хирурги | C36: ='8'!F10 -> 0 | D36: ='8'!F10*100/'8'!D10 -> #DIV/0!
A37: aim1_i34 | B37: chirurgi cardiovasculari сердечно-сосудистые хирурги | C37: ='8'!F11 -> 0 | D37: ='8'!F11*100/'8'!D11 -> #DIV/0!
A38: aim1_i35 | B38: chirurgi toracali торакальные хирурги | C38: ='8'!F12 -> 0 | D38: ='8'!F12*100/'8'!D12 -> #DIV/0!
A39: aim1_i36 | B39: proctologi проктологи | C39: ='8'!F13 -> 0 | D39: ='8'!F13*100/'8'!D13 -> #DIV/0!
A40: aim1_i37 | B40: ortopezi-traumatologi ортопеды-травматологи | C40: ='8'!F14 -> 0 | D40: ='8'!F14*100/'8'!D14 -> #DIV/0!
A41: aim1_i38 | B41: urologi урологи | C41: ='8'!F15 -> 0 | D41: ='8'!F15*100/'8'!D15 -> #DIV/0!
A42: aim1_i39 | B42: neurochirurgi нейрохирурги | C42: ='8'!F16 -> 0 | D42: ='8'!F16*100/'8'!D16 -> #DIV/0!
A43: aim1_i40 | B43: endoscopişti эндоскописты | C43: ='8'!F17 -> 0 | D43: ='8'!F17*100/'8'!D17 -> #DIV/0!
... A48: aim1_i45 | B48: din ei pediatri – consultanţi из них педиатры - консультанты | C48: ='8'!F22 -> 0 | D48: ='8'!F22*100/'8'!D22 -> #DIV/0!
A49: aim1_i46 | B49: cardioreumatologi pediatri кардиоревматологи детские 9 | C49: ='9'!F6 -> 0 | D49: ='9'!F6*100/'9'!D6 -> #DIV/0!
A50: aim1_i47 | B50: oftalmologi офтальмологи | C50: ='9'!F7 -> 0 | D50: ='9'!F7*100/'9'!D7 -> #DIV/0!
A51: aim1_i48 | B51: otorinolaringologi оториноларингологи | C51: ='9'!F8 -> 0 | D51: ='9'!F8*100/'9'!D8 -> #DIV/0!
A52: aim1_i49 | B52: surdologi сурдологи | C52: ='9'!F9 -> 0 | D52: ='9'!F9*100/'9'!D9 -> #DIV/0!
A53: aim1_i50 | B53: ftiziopneumologi фтизиопульмонологи | C53: ='9'!F10 -> 0 | D53: ='9'!F10*100/'9'!D10 -> #DIV/0!
A54: aim1_i51 | B54: neurologi невропатологи | C54: ='9'!F11 -> 0 | D54: ='9'!F11*100/'9'!D11 -> #DIV/0!
A55: aim1_i52 | B55: psihiatri психиатры | C55: ='9'!F12 -> 0 | D55: ='9'!F12*100/'9'!D12 -> #DIV/0!
A56: aim1_i53 | B56: narcologi наркологи | C56: ='9'!F13 -> 0 | D56: ='9'!F13*100/'9'!D13 -> #DIV/0!
A57: aim1_i54 | B57: psihoterapeuţi психотерапевты | C57: ='9'!F14 -> 0 | D57: ='9'!F14*100/'9'!D14 -> #DIV/0!
A58: aim1_i55 | B58: experţi psihiatrie judiciară судебно-психиатрические эксперты | C58: ='9'!F15 -> 0 | D58: ='9'!F15*100/'9'!D15 -> #DIV/0!
A59: aim1_i56 | B59: imagişti-radiologi рентгенологи | C59: ='9'!F16 -> 0 | D59: ='9'!F16*100/'9'!D16 -> #DIV/0!
A60: aim1_i57 | B60: imagişti-radiologi (radioterapeuţi) рентгенотерапевты | C60: ='9'!F17 -> 0 | D60: ='9'!F17*100/'9'!D17 -> #DIV/0!
... A65: aim1_i62 | B65: dermato-venerologi дермато-венерологи | C65: ='9'!F22 -> 0 | D65: ='9'!F22*100/'9'!D22 -> #DIV/0!
A66: aim1_i63 | B66: Ponderea vizitelor achitate de СNAM _ total | C66: ='7'!E9 -> 0 | D66: ='7'!E9*100/'7'!D9 -> #DIV/0!
A67: aim1_i64 | B67: Ponderea vizitelor pe motiv de boală total | C67: ='7'!G9 -> 0 | D67: ='7'!G9*100/'7'!D9 -> #DIV/0!
A68: aim1_i65 | B68: adulți | C68: ='7'!G9-'7'!I9 -> 0 | D68: =('7'!G9-'7'!I9)*100/('7'!D9-'7'!F9) -> #DIV/0!
A69: aim1_i66 | B69: copii | C69: ='7'!I9 -> 0 | D69: ='7'!I9*100/'7'!F9 -> #DIV/0!
A70: aim1_i67 | B70: Ponderea vizitelor achitate de СNAM la domiciliu TOTAL | C70: ='7'!K9 -> 0 | D70: ='7'!K9*100/'7'!J9 -> #DIV/0!
A71: aim1_i68 | B71: Ponderea vizitelor copiilor la domiciliu_ TOTAL | C71: ='7'!L9 -> 0 | D71: ='7'!L9*100/'7'!J9 -> #DIV/0!
A72: aim1_i69 | B72: Ponderea vizitelor pe motiv de boală la domiciliu: total | C72: ='7'!M9 -> 0 | D72: ='7'!M9*100/'7'!J9 -> #DIV/0!
A73: aim1_i70 | B73: Ponderea vizitelor pe motiv de boală achitate de СNAM la domiciliu: total | C73: ='7'!N9 -> 0 | D73: ='7'!N9*100/'7'!M9 -> #DIV/0!
A74: aim1_i71 | B74: Ponderea investigaţiilor achitate de СNAM : pentru rezonanţă magnetică nucleară | C74: ='11'!L8 -> 0 | D74: ='11'!L8*100/'11'!K8 -> #DIV/0!
A75: aim1_i72 | B75: Tomografia computerizată | C75: ='11'!L9 -> 0 | D75: ='11'!L9*100/'11'!K9 -> #DIV/0!
A76: aim1_i73 | B76: Investigaţii radiologice - Total | C76: ='11'!L10 -> 0 | D76: ='11'!L10*100/'11'!K10 -> #DIV/0!
A77: aim1_i74 | B77: inclusiv: в том числе: - viziografia визиография | C77: ='11'!L11 -> 0 | D77: ='11'!L11*100/'11'!K11 -> #DIV/0!
A78: aim1_i75 | B78: Endoscopice - total Эндоскопические - всего | C78: ='11'!L12 -> 0 | D78: ='11'!L12*100/'11'!K12 -> #DIV/0!
A79: aim1_i76 | B79: inclusiv: в том числе: - esofagogastroduodenoscopie эзофагогастродуоденоскопия | C79: ='11'!L13 -> 0 | D79: ='11'!L13*100/'11'!K13 -> #DIV/0!
A80: aim1_i77 | B80: - bronhoscopie бронхоскопия | C80: ='11'!L14 -> 0 | D80: ='11'!L14*100/'11'!K14 -> #DIV/0!
A81: aim1_i78 | B81: - сolonoscopie колоноскопия | C81: ='11'!L15 -> 0 | D81: ='11'!L15*100/'11'!K15 -> #DIV/0!
A82: aim1_i79 | B82: - rectoromanoscopie ректороманоскопия | C82: ='11'!L16 -> 0 | D82: ='11'!L16*100/'11'!K16 -> #DIV/0!
A83: aim1_i80 | B83: - altele другие | C83: ='11'!L17 -> 0 | D83: ='11'!L17*100/'11'!K17 -> #DIV/0!
A84: aim1_i81 | B84: Ecografie - total Эхография (УЗИ) – всего | C84: ='11'!L18 -> 0 | D84: ='11'!L18*100/'11'!K18 -> #DIV/0!
A85: aim1_i82 | B85: inclusiv: в том числе: - ecografia organelor cavităţii abdominale şi retroperitoneale эхография органов брюшной полости и забрюшинного пространства | C85: ='11'!L19 -> 0 | D85: ='11'!L19*100/'11'!K19 -> #DIV/0!
... A91: aim1_i88 | B91: - ecografia altor organe эхография других органов | C91: ='11'!L25 -> 0 | D91: ='11'!L25*100/'11'!K25 -> #DIV/0!
A92: aim1_i89 | B92: Ponderea analizelor achitate de СNAM | C92: ='11'!L38 -> 0 | D92: ='11'!L38*100/'11'!K29 -> #DIV/0!
A93: aim1_i90 | B93: Ponderea bolnavilor cu trihomoniază din număr total de trihomoniază caz nou - copii 0-17 ani 11 luni 29 zile de sex masculin | C93: ='13'!F7+'13'!G7 -> 0 | D93: =('13'!F7+'13'!G7)*100/('13'!E7+'13'!E8) -> #DIV/0!
A94: aim1_i91 | B94: copii 0-17 ani 11 luni 29 zile de sex feminin | C94: ='13'!F8+'13'!G8 -> 0 | D94: =('13'!F8+'13'!G8)*100/('13'!E7+'13'!E8) -> #DIV/0!
A95: aim1_i92 | B95: bărbaţi 18 ani şi peste | C95: ='13'!H7+'13'!I7+'13'!J7+'13'!K7 -> 0 | D95: =('13'!H7+'13'!I7+'13'!J7+'13'!K7)*100/('13'!E7+'13'!E8) -> #DIV/0!
A96: aim1_i93 | B96: femei 18 ani şi peste | C96: ='13'!H8+'13'!I8+'13'!J8+'13'!K8 -> 0 | D96: =('13'!H8+'13'!I8+'13'!J8+'13'!K8)*100/('13'!E7+'13'!E8) -> #DIV/0!
A97: aim1_i94 | B97: bărbaţi locuitori urbani | C97: ='13'!E7-'13'!L7 -> 0 | D97: =('13'!E7-'13'!L7)*100/('13'!E7+'13'!E8) -> #DIV/0!
A98: aim1_i95 | B98: femei locuitori urbani | C98: ='13'!E8-'13'!L8 -> 0 | D98: =('13'!E8-'13'!L8)*100/('13'!E7+'13'!E8) -> #DIV/0!
A99: aim1_i96 | B99: locuitori urbani | C99: =('13'!E7+'13'!E8)-('13'!L7+'13'!L8) -> 0 | D99: =(('13'!E7+'13'!E8)-('13'!L7+'13'!L8))*100/('13'!E7+'13'!E8) -> #DIV/0!
A100: aim1_i97 | B100: locuitori rurali | C100: ='13'!L7+'13'!L8 -> 0 | D100: =('13'!L7+'13'!L8)*100/('13'!E7+'13'!E8) -> #DIV/0!
A101: aim1_i98 | B101: copii 0-17 ani 11 luni 29 zile | C101: ='13'!F7+'13'!G7+'13'!F8+'13'!G8 -> 0 | D101: =('13'!F7+'13'!F8+'13'!G7+'13'!G8)*100/('13'!E7+'13'!E8) -> #DIV/0!
A102: aim1_i99 | B102: 18 ani şi peste | C102: ='13'!H7+'13'!H8+'13'!I7+'13'!I8+'13'!J7+'13'!J8+'13'!K7+'13'!K8 -> 0 | D102: =('13'!H7+'13'!H8+'13'!I7+'13'!I8+'13'!J7+'13'!J8+'13'!K7+'13'!K8)*100/('13'!E7+'13'!E8) -> #DIV/0!
A103: aim1_i100 | B103: Ponderea bolnavilor cu infecţii cu Chlamydia transmise pe cale sexuală din număr total de infecţii cu Chlamydia transmise pe cale sexuală caz nou - copii 0-17 ani 11 luni 29 zile de sex masculin | C103: ='13'!F9+'13'!G9 -> 0 | D103: =('13'!F9+'13'!G9)*100/('13'!E9+'13'!E10) -> #DIV/0!
A104: aim1_i101 | B104: copii 0-17 ani 11 luni 29 zile de sex feminin | C104: ='13'!F10+'13'!G10 -> 0 | D104: =('13'!F10+'13'!G10)*100/('13'!E9+'13'!E10) -> #DIV/0!
A105: aim1_i102 | B105: bărbaţi 18 ani şi peste | C105: ='13'!H9+'13'!I9+'13'!J9+'13'!K9 -> 0 | D105: =('13'!H9+'13'!I9+'13'!J9+'13'!K9)*100/('13'!E9+'13'!E10) -> #DIV/0!
A106: aim1_i103 | B106: femei 18 ani şi peste | C106: ='13'!H10+'13'!I10+'13'!J10+'13'!K10 -> 0 | D106: =('13'!H10+'13'!I10+'13'!J10+'13'!K10)*100/('13'!E9+'13'!E10) -> #DIV/0!
A107: aim1_i104 | B107: bărbaţi locuitori urbani | C107: ='13'!E9-'13'!L9 -> 0 | D107: =('13'!E9-'13'!L9)*100/('13'!E9+'13'!E10) -> #DIV/0!
A108: aim1_i105 | B108: femei locuitori urbani | C108: ='13'!E10-'13'!L10 -> 0 | D108: =('13'!E10-'13'!L10)*100/('13'!E9+'13'!E10) -> #DIV/0!
A109: aim1_i106 | B109: locuitori urbani | C109: =('13'!E9+'13'!E10)-('13'!L9+'13'!L10) -> 0 | D109: =(('13'!E9+'13'!E10)-('13'!L9+'13'!L10))*100/('13'!E9+'13'!E10) -> #DIV/0!
A110: aim1_i107 | B110: locuitori rurali | C110: ='13'!L9+'13'!L10 -> 0 | D110: =('13'!L9+'13'!L10)*100/('13'!E9+'13'!E10) -> #DIV/0!
A111: aim1_i108 | B111: copii 0-17 ani 11 luni 29 zile | C111: ='13'!F9+'13'!G10+'13'!F9+'13'!G10 -> 0 | D111: =('13'!F9+'13'!F10+'13'!G9+'13'!G10)*100/('13'!E9+'13'!E10) -> #DIV/0!
A112: aim1_i109 | B112: 18 ani şi peste | C112: ='13'!H9+'13'!H10+'13'!I9+'13'!I10+'13'!J9+'13'!J10+'13'!K9+'13'!K10 -> 0 | D112: =('13'!H9+'13'!H10+'13'!I9+'13'!I10+'13'!J9+'13'!J10+'13'!K9+'13'!K10)*100/('13'!E9+'13'!E10) -> #DIV/0!
A113: aim1_i110 | B113: Ponderea bolnavilor cu infecţii ano-genitale prin virusul herpetic (herpes simplex) din număr total de infecţii ano-genitale prin virusul herpetic (herpes simplex) caz nou - copii 0-17 ani 11 luni 29 zile de sex masculin | C113: ='13'!F11+'13'!G11 -> 0 | D113: =('13'!F11+'13'!G11)*100/('13'!E11+'13'!E12) -> #DIV/0!
A114: aim1_i111 | B114: copii 0-17 ani 11 luni 29 zile de sex feminin | C114: ='13'!F12+'13'!G12 -> 0 | D114: =('13'!F12+'13'!G12)*100/('13'!E11+'13'!E12) -> #DIV/0!
A115: aim1_i112 | B115: bărbaţi 18 ani şi peste | C115: ='13'!H11+'13'!I11+'13'!J11+'13'!K11 -> 0 | D115: =('13'!H11+'13'!I11+'13'!J11+'13'!K11)*100/('13'!E11+'13'!E12) -> #DIV/0!
A116: aim1_i113 | B116: femei 18 ani şi peste | C116: ='13'!H12+'13'!I12+'13'!J12+'13'!K12 -> 0 | D116: =('13'!H12+'13'!I12+'13'!J12+'13'!K12)*100/('13'!E11+'13'!E12) -> #DIV/0!
...
