Workbook
Name Raion: '1'!$H$33
Name Raion: '1'!$H$33
Name Rubrici: [1]populatia!$D$6:$DA$6
Name Tabel_Populatia: [1]populatia!$D$6:$DA$1000

Sheet 1
A2: RAPORT STATISTIC DE RAMURĂ
K3: In conformitate cu Legea Republicii Moldova Nr. 93/2017 „Cu privire la statistica oficială”: - producătorii de date statistice oficiale au dreptul să colecteze datele individuale și agregate necesare producerii și diseminării de statistici oficiale de la toate persoanele fizice sau juridice care cad sub incidența prezentei legi, inclusiv din sursele de date administrative și private (Art.13); - producătorii de date statistice oficiale întreprind toate măsurile regulatorii, administrative, tehnice şi organizatorice pentru protecţia datelor confidenţiale şi neadmiterea divulgării lor (Art. 19); - furnizor de date este persoană fizică sau juridică deținătoare și/sau posesoare de surse de date administrative sau private, care este obligată să ofere datele necesare pentru producerea de statistici oficiale. (Art. 3) Aprobat de Ministerul Sănătății al Republicii Moldova prin ordinul Nr. 1058 din 20.12.2024 Prezintă: - spitalul raional, centrul medicilor de familie, centrul de sănătate autonom;direcţia/secţia sănătăţii mun. Chişinău, mun. Bălţi şi UTA Găgăuzia prezintă rapoartele statistice a instituţiilor subordonate; CSP (raional, municipal, UTA Găgăuzia); instituţia medico-sanitară republicană – MS - către Agenția Națională pentru Sănătate Publică; instituţia altor Ministere şi Departamente - MS al Republicii Moldova (către ANSP); instituția medico-sanitară privată,agentul economic privat,care dispune de licență pentru prestarea serviciilor medicale; puctele medicale ale caselor de copii și școlilor internate; punctele medicale pe lîngă întreprinderi și instituții - MS (către ANSP).
A4: Denumirea instituției:
A5: Denat-Ilaşciuc Î.I
A9: Adresa:
F10: RAPORT STATISTIC Nr. 17
A11: Raionul (municipiul) | C11: Cahul | F11: (anual)
A14: Satul (comuna) | C14: Zîrneşti | F14: PRIVIND STATELE DE FUNCŢII ŞI CADRELE INSTITUŢIEI MEDICO- SANITARE
A17: Strada | B17: Ştefan cel Mare si Sf]nt | D17: , nr | E17: 42
A20: Cod CUIÎO
A23: Cod IDNO | C23: 1006603001094
C25: Cod CAEM-2
G27: pentru anul | H27: 24
A28: Activitatea principală
B29: Stomatologie
F32: CODUL MUNICIPIULUI / RAIONULUI
A33: Conducătorul L.Ş. Руководитель М.П. | H33: 7
A36: Datele de contact ale executantului:
A37: Nume, prenume
B38: Ilaşciuc Eduard
A40: Tel: | B40: 069004363
F41: Ziua | G41: Luna | I41: Anul
A42: e-mail: | B42: ilasciuc68@mail.ru | F42: 21 | G42: 01 | I42: 2025

Sheet 2
B1: 1000. 1. Statele de funcţii şi cadrele instituţiei medico – sanitare
B2: Cod funcţie | C2: Denumirea funcţiei | D2: Număr funcţii pe instituţie | J2: Număr persoane fizice lucrători de bază în funcţii ocupate
D3: total | F3: inclusiv în | J3: total | K3: inclusiv în | M3: repartizați pe grupe de vîrstă (din total, col. 7) | R3: inclusiv în localitatea rurală (din total, col. 7)
F4: instituţia de asistenţă medicală primară | H4: secţia consultativă | K4: instituţia de asistenţă medicală primară | L4: secţia consultativă | M4: <35 ani | N4: 35-44 ani | O4: 45-54 ani | P4: 55-64 ani | Q4: >65 ani
D5: scriptice | E5: ocupate | F5: scriptice | G5: ocupate | H5: scriptice | I5: ocupate
B6: A | C6: B | D6: 1 | E6: 2 | F6: 3 | G6: 4 | H6: 5 | I6: 6 | J6: 7 | K6: 8 | L6: 9 | M6: 10 | N6: 11 | O6: 12 | P6: 13 | Q6: 14 | R6: 15
B7: 1.0 | C7: Număr medici la sfîrşitul anului precedent
B8: 2.0 | C8: Angajaţi în cursul anului | D8: X | E8: X | F8: X | G8: X | H8: X | I8: X | K8: X | L8: X | M8: X | N8: X | O8: X | P8: X | Q8: X
B9: 2.1 | C9: inclusiv din promoţia anului gestionar | D9: X | E9: X | F9: X | G9: X | H9: X | I9: X | K9: X | L9: X | M9: X | N9: X | O9: X | P9: X | Q9: X
B10: 3.0 | C10: Eliberaţi în cursul anului | D10: X | E10: X | F10: X | G10: X | H10: X | I10: X | K10: X | L10: X | M10: X | N10: X | O10: X | P10: X | Q10: X
B11: 4.0 | C11: Se află la finele anului
B12: 4.1 | C12: inclusiv femei | D12: X | E12: X | F12: X | G12: X | H12: X | I12: X
B13: 5.0 | C13: Din număr total medici (rînd. 4.0) conducătorii instituţiilor
A14: 2 | B14: 6.0 | C14: medici de familie
B15: 7.0 | C15: internişti
B16: 8.0 | C16: internişti аi cabinetelor pentru adolescenţi
B17: 9.0 | C17: reumatologi
B18: 10.0 | C18: cardiologi
B19: 11.0 | C19: gastroenterologi
B20: 12.0 | C20: gastroenterologi pentru copii
B21: 13.0 | C21: dietologi | F21: X | G21: X | H21: X | I21: X | K21: X | L21: X
B22: 14.0 | C22: nefrologi
B23: 15.0 | C23: endocrinologi
B24: 16.0 | C24: endocrinologi pentru copii
B25: 17.0 | C25: alergologi
B26: 18.0 | C26: hematologi
B27: 19.0 | C27: infecţionişti
B28: 20.0 | C28: infecţionişti pentru copii
B29: 21.0 | C29: fizioterapeuţi
D30: =SUM(D13:D29)+SUM('3'!D6:D31)+SUM('4'!D6:D38)+SUM('5'!D8:D30)-'3'!D30-'4'!D7 -> 0 | E30: =SUM(E13:E29)+SUM('3'!E6:E31)+SUM('4'!E6:E38)+SUM('5'!E8:E30)-'3'!E30-'4'!E7 -> 0 | F30: =SUM(F13:F29)+SUM('3'!F6:F31)+SUM('4'!F6:F38)+SUM('5'!F6:F30)-'3'!F30-'4'!F7 -> 0 | G30: =SUM(G13:G29)+SUM('3'!G6:G31)+SUM('4'!G6:G38)+SUM('5'!G6:G30)-'3'!G30-'4'!G7 -> 0 | H30: =SUM(H13:H29)+SUM('3'!H6:H31)+SUM('4'!H6:H38)+SUM('5'!H6:H30)-'3'!H30-'4'!H7 -> 0 | I30: =SUM(I13:I29)+SUM('3'!I6:I31)+SUM('4'!I6:I38)+SUM('5'!I6:I30)-'3'!I30-'4'!I7 -> 0 | J30: =SUM(J13:J29)+SUM('3'!J6:J31)+SUM('4'!J6:J38)+SUM('5'!J8:J30)-'3'!J30-'4'!J7 -> 0 | K30: =SUM(K13:K29)+SUM('3'!K6:K31)+SUM('4'!K6:K38)+SUM('5'!K6:K30)-'3'!K30-'4'!K7 -> 0 | L30: =SUM(L13:L29)+SUM('3'!L6:L31)+SUM('4'!L6:L38)+SUM('5'!L6:L30)-'3'!L30-'4'!L7 -> 0 | M30: =SUM(M13:M29)+SUM('3'!M6:M31)+SUM('4'!M6:M38)+SUM('5'!M8:M30)-'3'!M30-'4'!M7 -> 0 | N30: =SUM(N13:N29)+SUM('3'!N6:N31)+SUM('4'!N6:N38)+SUM('5'!N8:N30)-'3'!N30-'4'!N7 -> 0 | O30: =SUM(O13:O29)+SUM('3'!O6:O31)+SUM('4'!O6:O38)+SUM('5'!O8:O30)-'3'!O30-'4'!O7 -> 0 | P30: =SUM(P13:P29)+SUM('3'!P6:P31)+SUM('4'!P6:P38)+SUM('5'!P8:P30)-'3'!P30-'4'!P7 -> 0 | Q30: =SUM(Q13:Q29)+SUM('3'!Q6:Q31)+SUM('4'!Q6:Q38)+SUM('5'!Q8:Q30)-'3'!Q30-'4'!Q7 -> 0 | R30: =SUM(R13:R29)+SUM('3'!R6:R31)+SUM('4'!R6:R38)+SUM('5'!R6:R30)-'3'!R30-'4'!R7 -> 0

Sheet 3
B1: Cod funcţie | C1: Denumirea funcţiei | D1: Număr funcţii pe instituţie | J1: Număr persoane fizice lucrători de bază în funcţii ocupate
D2: total | F2: inclusiv în | J2: total | K2: inclusiv în | M2: repartizați pe grupe de vîrstă (din total, col. 7) | R2: inclusiv în localitatea rurală (din total, col. 7)
F3: instituţia de asistenţă medicală primară | H3: secţia consultativă | K3: instituţia de asistenţă medicală primară | L3: secţia consultativă | M3: <35 ani | N3: 35-44 ani | O3: 45-54 ani | P3: 55-64 ani | Q3: >65 ani
D4: scriptice | E4: ocupate | F4: scriptice | G4: ocupate | H4: scriptice | I4: ocupate
B5: A | C5: B | D5: 1 | E5: 2 | F5: 3 | G5: 4 | H5: 5 | I5: 6 | J5: 7 | K5: 8 | L5: 9 | M5: 10 | N5: 11 | O5: 12 | P5: 13 | Q5: 14 | R5: 15
B6: 22.0 | C6: medici medicină tradiţională
B7: 23.0 | C7: kinetoterapeuţi
B8: 24.0 | C8: medici medicină sportivă
B9: 25.0 | C9: medici diagnostic funcţional
B10: 26.0 | C10: geneticieni
B11: 27.0 | C11: toxicologi
B12: 28.0 | C12: geriatri
B13: 29.0 | C13: medici de urgenţă
B14: 30.0 | C14: imagişti-sonografie
A15: 3 | B15: 31.0 | C15: chirurgi
B16: 32.0 | C16: chirurgi pentru copii
B17: 33.0 | C17: chirurgi cardiovasculari
B18: 34.0 | C18: chirurgi toracali
B19: 35.0 | C19: proctologi
B20: 36.0 | C20: ortopezi-traumatologi
B21: 37.0 | C21: ortopezi-traumatologi pentru copii
B22: 38.0 | C22: urologi
B23: 39.0 | C23: urologi pentru copii
B24: 40.0 | C24: neurochirurgi
B25: 41.0 | C25: anesteziologi-reanimatologi
B26: 42.0 | C26: anesteziologi-reanimatologi pentru copii
B27: 43.0 | C27: endoscopişti
... B31: 46.0 | C31: obstetricieni – ginecologi pentru copii

Sheet 4
B1: Cod funcţie | C1: Denumirea funcţiei | D1: Număr funcţii pe instituţie | J1: Număr persoane fizice lucrători de bază în funcţii ocupate
D2: total | F2: inclusiv în | J2: total | K2: inclusiv în | M2: repartizați pe grupe de vîrstă (din total, col. 7) | R2: inclusiv în localitatea rurală (din total, col. 7)
F3: instituţia de asistenţă medicală primară | H3: secţia consultativă | K3: instituţia de asistenţă medicală primară | L3: secţia consultativă | M3: <35 ani | N3: 35-44 ani | O3: 45-54 ani | P3: 55-64 ani | Q3: >65 ani
D4: scriptice | E4: ocupate | F4: scriptice | G4: ocupate | H4: scriptice | I4: ocupate
B5: A | C5: B | D5: 1 | E5: 2 | F5: 3 | G5: 4 | H5: 5 | I5: 6 | J5: 7 | K5: 8 | L5: 9 | M5: 10 | N5: 11 | O5: 12 | P5: 13 | Q5: 14 | R5: 15
B6: 47.0 | C6: pediatri
B7: 47.1 | C7: inclusiv pediatri – consultanţi
B8: 48.0 | C8: neonatologi
B9: 49.0 | C9: cardioreumatologi pediatri
B10: 50.0 | C10: oftalmologi
B11: 51.0 | C11: oftalmologi pentru copii
B12: 52.0 | C12: otorinolaringologi
B13: 53.0 | C13: otorinolaringologi pentru copii
B14: 54.0 | C14: audiolog-surdolog
B15: 55.0 | C15: ftiziopneumologi
A16: 4 | B16: 56.0 | C16: ftiziopneumologi pentru copii
B17: 57.0 | C17: neurologi
B18: 58.0 | C18: neurologi pentru copii
B19: 59.0 | C19: psihiatri
B20: 60.0 | C20: psihiatri pentru copii
B21: 61.0 | C21: narcologi
B22: 62.0 | C22: psihoterapeuţi
B23: 63.0 | C23: experţi psihiatrie judiciară
B24: 64.0 | C24: epidemiologi
B25: 65.0 | C25: dezinfecţionişti
B26: 66.0 | C26: parazitologi | D26: X | E26: X | J26: X | M26: X | N26: X | O26: X | P26: X | Q26: X | R26: X
B27: 67.0 | C27: microbiologi
B28: 68.0 | C28: inspectori
B29: 69.0 | C29: medici igienişti pe: igiena generală
B30: 70.0 | C30: medici specialiști врачи специалисты
B31: 71.0 | C31: igiena alimentară гигиене питания | D31: X | E31: X | J31: X | O31: X | P31: X | Q31: X
B32: 72.0 | C32: igiena muncii гигиене труда | D32: X | E32: X | J32: X | O32: X | P32: X | Q32: X
B33: 73.0 | C33: igiena radiaţiilor радиационной гигиене | D33: X | E33: X | J33: X | O33: X | P33: X | Q33: X
B38: 70.0 | C38: medici specialiști | D38: X | E38: X | F38: X | G38: X | H38: X | I38: X | J38: X | K38: X | L38: X | M38: X | N38: X | O38: X | P38: X | Q38: X | R38: X
B39: 71.0 | C39: igiena alimentară | D39: X | E39: X | J39: X | M39: X | N39: X | O39: X | P39: X | Q39: X | R39: X
B40: 72.0 | C40: igiena muncii | D40: X | E40: X | J40: X | M40: X | N40: X | O40: X | P40: X | Q40: X | R40: X
B41: 73.0 | C41: igiena radiaţiilor | D41: X | E41: X | J41: X | M41: X | N41: X | O41: X | P41: X | Q41: X | R41: X

Sheet 5
B1: Cod funcţie | C1: Denumirea funcţiei | D1: Număr funcţii pe instituţie | J1: Număr persoane fizice lucrători de bază în funcţii ocupate
D2: total | F2: inclusiv în | J2: total | K2: inclusiv în | M2: repartizați pe grupe de vîrstă (din total, col. 7) | R2: inclusiv în localitatea rurală (din total, col. 7)
F3: instituţia de asistenţă medicală primară | H3: secţia consultativă | K3: instituţia de asistenţă medicală primară | L3: secţia consultativă | M3: <35 ani | N3: 35-44 ani | O3: 45-54 ani | P3: 55-64 ani | Q3: >65 ani
D4: scriptice | E4: ocupate | F4: scriptice | G4: ocupate | H4: scriptice | I4: ocupate
B5: A | C5: B | D5: 1 | E5: 2 | F5: 3 | G5: 4 | H5: 5 | I5: 6 | J5: 7 | K5: 8 | L5: 9 | M5: 10 | N5: 11 | O5: 12 | P5: 13 | Q5: 14 | R5: 15
B6: 74.0 | C6: igiena mediului ambiant şi habitatului uman | D6: X | E6: X | J6: X | M6: X | N6: X | O6: X | P6: X | Q6: X | R6: X
B7: 75.0 | C7: educaţie pentru sănătate | D7: X | E7: X | J7: X | M7: X | N7: X | O7: X | P7: X | Q7: X | R7: X
B8: 76.0 | C8: stоmatologi
B9: 77.0 | C9: stоmatologi pentru copii
B10: 78.0 | C10: stоmatologi chirurgi
B11: 79.0 | C11: stоmatologi ortopezi
B12: 80.0 | C12: stоmatologi ortodonţi
B13: 81.0 | C13: imagişti-radiologi
B14: 82.0 | C14: imagişti-radiologi (radioterapeuţi)
B15: 83.0 | C15: imagişti- medicina nucleară
A16: 5 | B16: 84.0 | C16: experţi medicină legală de profil general
B17: 85.0 | C17: experţi medicină legală subdiviziunilor de laborator
B18: 86.0 | C18: morfopatologi | F18: X | G18: X | K18: X
B19: 87.0 | C19: laboranţi
B20: 88.0 | C20: laboranţi-geneticieni
B21: 89.0 | C21: farmacologi clinici
B22: 90.0 | C22: transfuziologi
B23: 91.0 | C23: imunologi
B24: 92.0 | C24: sexopatologi
B25: 93.0 | C25: andrologi
B26: 94.0 | C26: statisticieni
B27: 95.0 | C27: metodişti
B28: 96.0 | C28: dermato-venerologi
B29: 97.0
B30: 98.0 | C30: alţi specialişti
B31: 99.0 | C31: În afară de aceasta: rezidenţi | O31: X | P31: X | Q31: X

Sheet 6
B1: Cod funcţie | C1: Denumirea funcţiei | D1: Număr funcţii pe instituţie | J1: Număr persoane fizice lucrători de bază în funcţii ocupate
D2: total | F2: inclusiv în | J2: total | K2: inclusiv în | M2: repartizați pe grupe de vîrstă (din total, col. 7) | R2: inclusiv în localitatea rurală (din total, col. 7)
F3: instituţia de asistenţă medicală primară | H3: secţia consultativă | K3: instituţia de asistenţă medicală primară | L3: secţia consultativă | M3: <35 ani | N3: 35-44 ani | O3: 45-54 ani | P3: 55-64 ani | Q3: >65 ani
D4: scriptice | E4: ocupate | F4: scriptice | G4: ocupate | H4: scriptice | I4: ocupate
B5: A | C5: B | D5: 1 | E5: 2 | F5: 3 | G5: 4 | H5: 5 | I5: 6 | J5: 7 | K5: 8 | L5: 9 | M5: 10 | N5: 11 | O5: 12 | P5: 13 | Q5: 14 | R5: 15
B6: 100.0 | C6: Psihologi
B7: 101.0 | C7: Farmacişti
B8: 102.0 | C8: Asistenți medicali cu studii superioare (CORM 2221)
B9: 103.0 | C9: Specialişti in domenii de sănătate publică (cu studii superioare, CORM 226319)
B10: 103.1 | C10: Specialiști cu studii superioare nemedicale care ocupă funcții de laborant in medicină (chimist,biolog ) | D10: X | E10: X | F10: X | G10: X | H10: X | I10: X
B11: 103.2 | C11: Optometriști (CORM 226702)
B12: 103.3 | C12: Tehnicieni radiologi cu studii superioare (CORM 226921)
B13: 104.0 | C13: Număr personal medical mediu la sfîrşitul anului precedent
A14: 6 | B14: 105.0 | C14: Angajaţi în cursul anului | D14: X | E14: X | F14: X | G14: X | H14: X | I14: X | K14: X | L14: X | M14: X | N14: X | O14: X | P14: X | Q14: X
B15: 105.1 | C15: inclusiv din promoţia anului gestionar | D15: X | E15: X | F15: X | G15: X | H15: X | I15: X | K15: X | L15: X | M15: X | N15: X | O15: X | P15: X | Q15: X
B16: 106.0 | C16: Eliberaţi în cursul anului | D16: X | E16: X | F16: X | G16: X | H16: X | I16: X | K16: X | L16: X | M16: X | N16: X | O16: X | P16: X | Q16: X
B17: 107.0 | C17: Se află la finele anului
B18: 107.1 | C18: inclusiv femei | D18: X | E18: X | F18: X | G18: X | H18: X | I18: X
B19: 108.0 | C19: Din număr total personal medical mediu (rînd. 107.0), asistenţi medicali
B20: 108.1 | C20: inclusiv asistenţi medicali a medicilor de familie
B21: 108.2 | C21: inclusiv asistenți medicali comunitari
B22: 109.0 | C22: asistenţii medicului igienist
B23: 110.0 | C23: asistenţii medicului epidemiolog
B24: 111.0 | C24: moaşe
B25: 112.0 | C25: felceri
B26: 113.0 | C26: felceri-narcologi
B27: 114.0 | C27: laboranţi
D28: =SUM('7'!D6:D13) -> 0 | E28: =SUM('7'!E6:E13) -> 0 | F28: =SUM('7'!F6:F13) -> 0 | G28: =SUM('7'!G6:G13) -> 0 | H28: =SUM('7'!H6:H13) -> 0 | I28: =SUM('7'!I6:I13) -> 0 | J28: =SUM('7'!J6:J13) -> 0 | K28: =SUM('7'!K6:K13) -> 0 | ... R28: =SUM('7'!R6:R13) -> 0

Sheet 7
B1: Cod funcţie | C1: Denumirea funcţiei | D1: Număr funcţii pe instituţie | J1: Număr persoane fizice lucrători de bază în funcţii ocupate
D2: total | F2: inclusiv în | J2: total | K2: inclusiv în | M2: repartizați pe grupe de vîrstă (din total, col. 7) | R2: inclusiv în localitatea rurală (din total, col. 7)
F3: instituţia de asistenţă medicală primară | H3: secţia consultativă | K3: instituţia de asistenţă medicală primară | L3: secţia consultativă | M3: <35 ani | N3: 35-44 ani | O3: 45-54 ani | P3: 55-64 ani | Q3: >65 ani
D4: scriptice | E4: ocupate | F4: scriptice | G4: ocupate | H4: scriptice | I4: ocupate
B5: A | C5: B | D5: 1 | E5: 2 | F5: 3 | G5: 4 | H5: 5 | I5: 6 | J5: 7 | K5: 8 | L5: 9 | M5: 10 | N5: 11 | O5: 12 | P5: 13 | Q5: 14 | R5: 15
B6: 115.0 | C6: tehnicieni-radiologi (studii profesional tehnice)
B7: 116.0 | C7: statisticieni medicali
B8: 117.0 | C8: tehnicieni-dentari
B9: 118.0 | C9: registratori medicali
B10: 119.0 | C10: instructori – dezinfecţionişti
B11: 120.0 | C11: felceri în educaţie pentru sănătate
B12: 121.0 | C12: dezinfectori
B13: 122.0 | C13: alt personal medical mediu
B14: 123.0 | C14: În afară de aceasta, fără studii medicale medii, ocupă funcţii- total | D14: X | E14: X | F14: X | G14: X | H14: X | I14: X
B15: 123.1 | C15: din ei: registratori medicali | D15: X | E15: X | F15: X | G15: X | H15: X | I15: X
A16: 7 | B16: 123.2 | C16: instructori – dezinfecţionişti | D16: X | E16: X | F16: X | G16: X | H16: X | I16: X
B17: 123.3 | C17: dezinfectori | D17: X | E17: X | F17: X | G17: X | H17: X | I17: X
B18: 123.4 | C18: alt personal medical mediu | D18: X | E18: X | F18: X | G18: X | H18: X | I18: X
B19: 124.0 | C19: Laboranţi – farmacişti - total
B20: 124.1 | C20: din ei: în instituţiile medico – sanitare
B21: 124.2 | C21: în asociaţia „Sanfarm-Prim”
B22: 125.0 | C22: Surori medicale inferioare pentru îngrijirea bolnavilor
B23: 126.0 | C23: Personal medical inferior
B24: 127.0 | C24: Alt personal
B25: 128.0 | C25: Total funcţii şi persoane fizice, care activează în instituţie
D26: ='2'!D11+'6'!D6+'6'!D7+'6'!D8+'6'!D17+'7'!D19+'7'!D22+'7'!D23+'7'!D24+'5'!D31+'6'!D9+'6'!D11+'6'!D12 -> 0 | E26: ='2'!E11+'6'!E6+'6'!E7+'6'!E8+'6'!E17+'7'!E19+'7'!E22+'7'!E23+'7'!E24+'5'!E31+'6'!E9+'6'!E11+'6'!E12 -> 0 | F26: ='2'!F11+'6'!F6+'6'!F7+'6'!F8+'6'!F17+'7'!F19+'7'!F22+'7'!F23+'7'!F24+'5'!F31+'6'!F9+'6'!F11+'6'!F12 -> 0 | G26: ='2'!G11+'6'!G6+'6'!G7+'6'!G8+'6'!G17+'7'!G19+'7'!G22+'7'!G23+'7'!G24+'5'!G31+'6'!G9+'6'!G11+'6'!G12 -> 0 | H26: ='2'!H11+'6'!H6+'6'!H7+'6'!H8+'6'!H17+'7'!H19+'7'!H22+'7'!H23+'7'!H24+'5'!H31+'6'!H9+'6'!H11+'6'!H12 -> 0 | I26: ='2'!I11+'6'!I6+'6'!I7+'6'!I8+'6'!I17+'7'!I19+'7'!I22+'7'!I23+'7'!I24+'5'!I31+'6'!I9+'6'!I11+'6'!I12 -> 0 | J26: ='2'!J11+'6'!J6+'6'!J7+'6'!J8+'6'!J17+'7'!J19+'7'!J22+'7'!J23+'7'!J24+'7'!J14+'6'!J9+'5'!J31+'6'!J10+'6'!J11+'6'!J12 -> 0 | K26: ='2'!K11+'6'!K6+'6'!K7+'6'!K8+'6'!K17+'7'!K19+'7'!K22+'7'!K23+'7'!K24+K14+'6'!K9+'5'!K31+'6'!K10+'6'!K11+'6'!K12 -> 0 | L26: ='2'!L11+'6'!L6+'6'!L7+'6'!L8+'6'!L17+'7'!L19+'7'!L22+'7'!L23+'7'!L24+L14+'6'!L9+'5'!L31+'6'!L10+'6'!L11+'6'!L12 -> 0 | M26: ='2'!M11+'6'!M6+'6'!M7+'6'!M8+'6'!M17+'7'!M19+'7'!M22+'7'!M23+'7'!M24+M14+'6'!M9+'5'!M31+'6'!M10+'6'!M11+'6'!M12 -> 0 | N26: ='2'!N11+'6'!N6+'6'!N7+'6'!N8+'6'!N17+'7'!N19+'7'!N22+'7'!N23+'7'!N24+N14+'6'!N9+'5'!N31+'6'!N10+'6'!N11+'6'!N12 -> 0 | O26: ='2'!O11+'6'!O6+'6'!O7+'6'!O8+'6'!O17+'7'!O19+'7'!O22+'7'!O23+'7'!O24+O14+'6'!O9+'6'!O10+'6'!O11+'6'!O12 -> 0 | P26: ='2'!P11+'6'!P6+'6'!P7+'6'!P8+'6'!P17+'7'!P19+'7'!P22+'7'!P23+'7'!P24+P14+'6'!P9+'6'!P10+'6'!P11+'6'!P12 -> 0 | Q26: ='2'!Q11+'6'!Q6+'6'!Q7+'6'!Q8+'6'!Q17+'7'!Q19+'7'!Q22+'7'!Q23+'7'!Q24+Q14+'6'!Q9+'6'!Q10+'6'!Q11+'6'!Q12 -> 0 | R26: ='2'!R11+'6'!R6+'6'!R7+'6'!R8+'6'!R17+'7'!R19+'7'!R22+'7'!R23+'7'!R24+R14+'6'!R9+'5'!R31+'6'!R10+'6'!R11+'6'!R12 -> 0

Sheet 8
B1: 2000. 2. Statele de funcţii şi cadrele medicale ale instituţiei (secţiei) la autogestiune şi mijloace speciale
B2: Cod funcţie | C2: Denumirea funcţiei | D2: Număr funcţii pe instituţie | J2: Număr persoane fizice lucrători de bază în funcţii ocupate
D3: total | F3: inclusiv în | J3: total | K3: inclusiv în | M3: repartizați pe grupe de vîrstă (din total, col. 7) | R3: inclusiv în localitatea rurală (din total, col. 7)
F4: instituţia de asistenţă medicală primară | H4: secţia consultativă | K4: instituţia de asistenţă medicală primară | L4: secţia consultativă | M4: <35 ani | N4: 35-44 ani | O4: 45-54 ani | P4: 55-64 ani | Q4: >65 ani
D5: scriptice | E5: ocupate | F5: scriptice | G5: ocupate | H5: scriptice | I5: ocupate
B6: A | C6: B | D6: 1 | E6: 2 | F6: 3 | G6: 4 | H6: 5 | I6: 6 | J6: 7 | K6: 8 | L6: 9 | M6: 10 | N6: 11 | O6: 12 | P6: 13 | Q6: 14 | R6: 15
B7: 1.0 | C7: Număr medici la sfîrşitul anului precedent
B8: 2.0 | C8: Angajaţi în cursul anului | D8: X | E8: X | F8: X | G8: X | H8: X | I8: X | J8: 1 | K8: X | L8: X | M8: X | N8: X | O8: X | P8: X | Q8: X | R8: 1
B9: 2.1 | C9: inclusiv din promoţia anului gestionar | D9: X | E9: X | F9: X | G9: X | H9: X | I9: X | J9: 1 | K9: X | L9: X | M9: X | N9: X | O9: X | P9: X | Q9: X | R9: 1
B10: 3.0 | C10: Eliberaţi în cursul anului | D10: X | E10: X | F10: X | G10: X | H10: X | I10: X | K10: X | L10: X | M10: X | N10: X | O10: X | P10: X | Q10: X
B11: 4.0 | C11: Se află la finele anului | D11: 1.5 | E11: 1.5 | J11: 1 | M11: 1 | R11: 1
B12: 4.1 | C12: inclusiv femei | D12: X | E12: X | F12: X | G12: X | H12: X | I12: X
B13: 5.0 | C13: Din număr total medici (rînd. 4.0) conducătorii instituţiilor
A14: 8 | B14: 6.0 | C14: medici de familie
B15: 7.0 | C15: internişti
B16: 8.0 | C16: internişti аi cabinetelor pentru adolescenţi
B17: 9.0 | C17: reumatologi
B18: 10.0 | C18: cardiologi
B19: 11.0 | C19: gastroenterologi
B20: 12.0 | C20: gastroenterologi pentru copii
B21: 13.0 | C21: dietologi | F21: X | G21: X | H21: X | I21: X | K21: X | L21: X
B22: 14.0 | C22: nefrologi
B23: 15.0 | C23: endocrinologi
B24: 16.0 | C24: endocrinologi pentru copii
B25: 17.0 | C25: alergologi
B26: 18.0 | C26: hematologi
B27: 19.0 | C27: infecţionişti
B28: 20.0 | C28: infecţionişti pentru copii
B29: 21.0 | C29: fizioterapeuţi
D30: =SUM(D13:D29)+SUM('9'!D6:D31)+SUM('10'!D6:D38)+SUM('11'!D6:D30)-'9'!D30-'10'!D7 -> 1.5 | E30: =SUM(E13:E29)+SUM('9'!E6:E31)+SUM('10'!E6:E38)+SUM('11'!E6:E30)-'9'!E30-'10'!E7 -> 1.5 | F30: =SUM(F13:F29)+SUM('9'!F6:F31)+SUM('10'!F6:F38)+SUM('11'!F6:F30)-'9'!F30-'10'!F7 -> 0 | G30: =SUM(G13:G29)+SUM('9'!G6:G31)+SUM('10'!G6:G38)+SUM('11'!G6:G30)-'9'!G30-'10'!G7 -> 0 | H30: =SUM(H13:H29)+SUM('9'!H6:H31)+SUM('10'!H6:H38)+SUM('11'!H6:H30)-'9'!H30-'10'!H7 -> 0 | I30: =SUM(I13:I29)+SUM('9'!I6:I31)+SUM('10'!I6:I38)+SUM('11'!I6:I30)-'9'!I30-'10'!I7 -> 0 | J30: =SUM(J13:J29)+SUM('9'!J6:J31)+SUM('10'!J6:J38)+SUM('11'!J6:J30)-'9'!J30-'10'!J7 -> 1 | K30: =SUM(K13:K29)+SUM('9'!K6:K31)+SUM('10'!K6:K38)+SUM('11'!K6:K30)-'9'!K30-'10'!K7 -> 0 | L30: =SUM(L13:L29)+SUM('9'!L6:L31)+SUM('10'!L6:L38)+SUM('11'!L6:L30)-'9'!L30-'10'!L7 -> 0 | M30: =SUM(M13:M29)+SUM('9'!M6:M31)+SUM('10'!M6:M38)+SUM('11'!M8:M30)-'9'!M30-'10'!M7 -> 1 | N30: =SUM(N13:N29)+SUM('9'!N6:N31)+SUM('10'!N6:N38)+SUM('11'!N8:N30)-'9'!N30-'10'!N7 -> 0 | O30: =SUM(O13:O29)+SUM('9'!O6:O31)+SUM('10'!O6:O38)+SUM('11'!O6:O30)-'9'!O30-'10'!O7 -> 0 | P30: =SUM(P13:P29)+SUM('9'!P6:P31)+SUM('10'!P6:P38)+SUM('11'!P6:P30)-'9'!P30-'10'!P7 -> 0 | Q30: =SUM(Q13:Q29)+SUM('9'!Q6:Q31)+SUM('10'!Q6:Q38)+SUM('11'!Q6:Q30)-'9'!Q30-'10'!Q7 -> 0 | R30: =SUM(R13:R29)+SUM('9'!R6:R31)+SUM('10'!R6:R38)+SUM('11'!R6:R30)-'9'!R30-'10'!R7 -> 1

Sheet 9
B1: Cod funcţie | C1: Denumirea funcţiei | D1: Număr funcţii pe instituţie | J1: Număr persoane fizice lucrători de bază în funcţii ocupate
D2: total | F2: inclusiv în | J2: total | K2: inclusiv în | M2: repartizați pe grupe de vîrstă (din total, col. 7) | R2: inclusiv în localitatea rurală (din total, col. 7)
F3: instituţia de asistenţă medicală primară | H3: secţia consultativă | K3: instituţia de asistenţă medicală primară | L3: secţia consultativă | M3: <35 ani | N3: 35-44 ani | O3: 45-54 ani | P3: 55-64 ani | Q3: >65 ani
D4: scriptice | E4: ocupate | F4: scriptice | G4: ocupate | H4: scriptice | I4: ocupate
B5: A | C5: B | D5: 1 | E5: 2 | F5: 3 | G5: 4 | H5: 5 | I5: 6 | J5: 7 | K5: 8 | L5: 9 | M5: 10 | N5: 11 | O5: 12 | P5: 13 | Q5: 14 | R5: 15
B6: 22.0 | C6: medici medicină tradiţională
B7: 23.0 | C7: kinetoterapeuţi
B8: 24.0 | C8: medici medicină sportivă
B9: 25.0 | C9: medici diagnostic funcţional
B10: 26.0 | C10: geneticieni
B11: 27.0 | C11: toxicologi
B12: 28.0 | C12: geriatri
B13: 29.0 | C13: medici de urgenţă
B14: 30.0 | C14: imagişti-sonografie
B15: 31.0 | C15: chirurgi
A16: 9 | B16: 32.0 | C16: chirurgi pentru copii
B17: 33.0 | C17: chirurgi cardiovasculari
B18: 34.0 | C18: chirurgi toracali
B19: 35.0 | C19: proctologi
B20: 36.0 | C20: ortopezi-traumatologi
B21: 37.0 | C21: ortopezi-traumatologi pentru copii
B22: 38.0 | C22: urologi
B23: 39.0 | C23: urologi pentru copii
B24: 40.0 | C24: neurochirurgi
B25: 41.0 | C25: anesteziologi-reanimatologi
B26: 42.0 | C26: anesteziologi-reanimatologi pentru copii
B27: 43.0 | C27: endoscopişti
B28: 44.0 | C28: oncologi
... B31: 46.0 | C31: obstetricieni – ginecologi pentru copii

Sheet 10
B1: Cod funcţie | C1: Denumirea funcţiei | D1: Număr funcţii pe instituţie | J1: Număr persoane fizice lucrători de bază în funcţii ocupate
D2: total | F2: inclusiv în | J2: total | K2: inclusiv în | M2: repartizați pe grupe de vîrstă (din total, col. 7) | R2: inclusiv în localitatea rurală (din total, col. 7)
F3: instituţia de asistenţă medicală primară | H3: secţia consultativă | K3: instituţia de asistenţă medicală primară | L3: secţia consultativă | M3: <35 ani | N3: 35-44 ani | O3: 45-54 ani | P3: 55-64 ani | Q3: >65 ani
D4: scriptice | E4: ocupate | F4: scriptice | G4: ocupate | H4: scriptice | I4: ocupate
B5: A | C5: B | D5: 1 | E5: 2 | F5: 3 | G5: 4 | H5: 5 | I5: 6 | J5: 7 | K5: 8 | L5: 9 | M5: 10 | N5: 11 | O5: 12 | P5: 13 | Q5: 14 | R5: 15
B6: 47.0 | C6: pediatri
B7: 47.1 | C7: inclusiv pediatri–consultanţi
B8: 48.0 | C8: neonatologi
B9: 49.0 | C9: cardioreumatologi pediatri
B10: 50.0 | C10: oftalmologi
B11: 51.0 | C11: oftalmologi pentru copii
B12: 52.0 | C12: otorinolaringologi
B13: 53.0 | C13: otorinolaringologi pentru copii
B14: 54.0 | C14: audiolog-surdolog
B15: 55.0 | C15: ftiziopneumologi
A16: 10 | B16: 56.0 | C16: ftiziopneumologi pentru copii
B17: 57.0 | C17: neurologi
B18: 58.0 | C18: neurologi pentru copii
B19: 59.0 | C19: psihiatri
B20: 60.0 | C20: psihiatri pentru copii
B21: 61.0 | C21: narcologi
B22: 62.0 | C22: psihoterapeuţi
B23: 63.0 | C23: experţi psihiatrie judiciară
B24: 64.0 | C24: epidemiologi
B25: 65.0 | C25: dezinfecţionişti
B26: 66.0 | C26: parazitologi | D26: X | E26: X | J26: X | M26: X | N26: X | O26: X | P26: X | Q26: X | R26: X
B27: 67.0 | C27: microbiologi
B28: 68.0 | C28: inspectori
B29: 69.0 | C29: medici igienişti pe: igiena generală
B30: 70.0 | C30: medici specialiști врачи специалисты
B31: 71.0 | C31: igiena alimentară гигиене питания | D31: X | E31: X | J31: X | O31: X | P31: X | Q31: X
B32: 72.0 | C32: igiena muncii гигиене труда | D32: X | E32: X | J32: X | O32: X | P32: X | Q32: X
B33: 73.0 | C33: igiena radiaţiilor радиационной гигиене | D33: X | E33: X | J33: X | O33: X | P33: X | Q33: X
B38: 70.0 | C38: medici specialiști | D38: X | E38: X | F38: X | G38: X | H38: X | I38: X | J38: X | K38: X | L38: X | M38: X | N38: X | O38: X | P38: X | Q38: X | R38: X
B39: 71.0 | C39: igiena alimentară | D39: X | E39: X | J39: X | M39: X | N39: X | O39: X | P39: X | Q39: X | R39: X
B40: 72.0 | C40: igiena muncii | D40: X | E40: X | J40: X | M40: X | N40: X | O40: X | P40: X | Q40: X | R40: X
B41: 73.0 | C41: igiena radiaţiilor | D41: X | E41: X | J41: X | M41: X | N41: X | O41: X | P41: X | Q41: X | R41: X

Sheet 11
B1: Cod funcţie | C1: Denumirea funcţiei | D1: Număr funcţii pe instituţie | J1: Număr persoane fizice lucrători de bază în funcţii ocupate
D2: total | F2: inclusiv în | J2: total | K2: inclusiv în | M2: repartizați pe grupe de vîrstă (din total, col. 7) | R2: inclusiv în localitatea rurală (din total, col. 7)
F3: instituţia de asistenţă medicală primară | H3: secţia consultativă | K3: instituţia de asistenţă medicală primară | L3: secţia consultativă | M3: <35 ani | N3: 35-44 ani | O3: 45-54 ani | P3: 55-64 ani | Q3: >65 ani
D4: scriptice | E4: ocupate | F4: scriptice | G4: ocupate | H4: scriptice | I4: ocupate
B5: A | C5: B | D5: 1 | E5: 2 | F5: 3 | G5: 4 | H5: 5 | I5: 6 | J5: 7 | K5: 8 | L5: 9 | M5: 10 | N5: 11 | O5: 12 | P5: 13 | Q5: 14 | R5: 15
B6: 74.0 | C6: igiena mediului ambiant şi habitatului uman | D6: X | E6: X | J6: X | O6: X | P6: X | Q6: X | R6: X
B7: 75.0 | C7: educaţie pentru sănătate | D7: X | E7: X | J7: X | O7: X | P7: X | Q7: X | R7: X
B8: 76.0 | C8: stоmatologi | D8: 1.5 | E8: 1.5 | J8: 1 | M8: 1 | R8: 1
B9: 77.0 | C9: stоmatologi pentru copii
B10: 78.0 | C10: stоmatologi chirurgi
B11: 79.0 | C11: stоmatologi ortopezi
B12: 80.0 | C12: stоmatologi ortodonţi
B13: 81.0 | C13: imagişti-radiologi
B14: 82.0 | C14: imagişti-radiologi (radioterapeuţi)
B15: 83.0 | C15: imagişti-medicina nucleară
A16: 11 | B16: 84.0 | C16: experţi medicină legală de profil general
B17: 85.0 | C17: experţi medicină legală subdiviziunilor de laborator
B18: 86.0 | C18: morfopatologi | F18: X | G18: X | K18: X
B19: 87.0 | C19: laboranţi
B20: 88.0 | C20: laboranţi-geneticieni
B21: 89.0 | C21: farmacologi clinici
B22: 90.0 | C22: transfuziologi
B23: 91.0 | C23: imunologi
B24: 92.0 | C24: sexopatologi
B25: 93.0 | C25: andrologi
B26: 94.0 | C26: statisticieni
B27: 95.0 | C27: metodişti
B28: 96.0 | C28: dermato-venerologi
B29: 97.0
B30: 98.0 | C30: alţi specialişti
B31: 99.0 | C31: În afară de aceasta: rezidenţi | O31: X | P31: X | Q31: X

Sheet 12
B1: Cod funcţie | C1: Denumirea funcţiei | D1: Număr funcţii pe instituţie | J1: Număr persoane fizice lucrători de bază în funcţii ocupate
D2: total | F2: inclusiv în | J2: total | K2: inclusiv în | M2: repartizați pe grupe de vîrstă (din total, col. 7) | R2: inclusiv în localitatea rurală (din total, col. 7)
F3: instituţia de asistenţă medicală primară | H3: secţia consultativă | K3: instituţia de asistenţă medicală primară | L3: secţia consultativă | M3: <35 ani | N3: 35-44 ani | O3: 45-54 ani | P3: 55-64 ani | Q3: >65 ani
D4: scriptice | E4: ocupate | F4: scriptice | G4: ocupate | H4: scriptice | I4: ocupate
B5: A | C5: B | D5: 1 | E5: 2 | F5: 3 | G5: 4 | H5: 5 | I5: 6 | J5: 7 | K5: 8 | L5: 9 | M5: 10 | N5: 11 | O5: 12 | P5: 13 | Q5: 14 | R5: 15
B6: 100.0 | C6: Psihologi
B7: 101.0 | C7: Farmacişti
B8: 102.0 | C8: Asistenți medicali cu studii superioare (CORM 2221)
B9: 103.0 | C9: Specialişti in domenii de sănătate publică (cu studii superioare, CORM 226319)
B10: 103.1 | C10: Specialiști cu studii superioare nemedicale care ocupă funcții de laborant in medicină (chimist,biolog ) | D10: X | E10: X | F10: X | G10: X | H10: X | I10: X
B11: 103.2 | C11: Optometriști (CORM 226702)
B12: 103.3 | C12: Tehnicieni radiologi cu studii superioare (CORM 226921)
A13: 12 | B13: 104.0 | C13: Număr personal medical mediu la sfîrşitul anului precedent | D13: 1.5 | E13: 1.5 | J13: 1 | N13: 1 | R13: 1
B14: 105.0 | C14: Angajaţi în cursul anului | D14: X | E14: X | F14: X | G14: X | H14: X | I14: X | K14: X | L14: X | M14: X | N14: X | O14: X | P14: X | Q14: X
B15: 105.1 | C15: inclusiv din promoţia anului gestionar | D15: X | E15: X | F15: X | G15: X | H15: X | I15: X | K15: X | L15: X | M15: X | N15: X | O15: X | P15: X | Q15: X
B16: 106.0 | C16: Eliberaţi în cursul anului | D16: X | E16: X | F16: X | G16: X | H16: X | I16: X | K16: X | L16: X | M16: X | N16: X | O16: X | P16: X | Q16: X
B17: 107.0 | C17: Se află la finele anului | D17: 1.5 | E17: 1.5 | J17: 1 | P17: 1 | R17: 1
B18: 107.1 | C18: inclusiv femei | D18: X | E18: X | F18: X | G18: X | H18: X | I18: X
B19: 108.0 | C19: Din număr total personal medical mediu (rînd. 107.0), asistenţi medicali | D19: 0.5 | E19: 0.5
B20: 108.1 | C20: inclusiv asistenţi medicali ale medicilor de familie
B21: 108.2 | C21: inclusiv asistenți medicali comunitari
B22: 109.0 | C22: asistenţii medicului igienist
B23: 110.0 | C23: asistenţii medicului epidemiolog
B24: 111.0 | C24: moaşe
B25: 112.0 | C25: felceri
B26: 113.0 | C26: felceri-narcologi
B27: 114.0 | C27: laboranţi
D28: =SUM('13'!D6:D13) -> 1 | E28: =SUM('13'!E6:E13) -> 1 | F28: =SUM('13'!F6:F13) -> 0 | G28: =SUM('13'!G6:G13) -> 0 | H28: =SUM('13'!H6:H13) -> 0 | I28: =SUM('13'!I6:I13) -> 0 | J28: =SUM('13'!J6:J13) -> 1 | K28: =SUM('13'!K6:K13) -> 0 | ... R28: =SUM('13'!R6:R13) -> 1

Sheet 13
B1: Cod funcţie | C1: Denumirea funcţiei | D1: Număr funcţii pe instituţie | J1: Număr persoane fizice lucrători de bază în funcţii ocupate
D2: total | F2: inclusiv în | J2: total | K2: inclusiv în | M2: repartizați pe grupe de vîrstă (din total, col. 7) | R2: inclusiv în localitatea rurală (din total, col. 7)
F3: instituţia de asistenţă medicală primară | H3: secţia consultativă | K3: instituţia de asistenţă medicală primară | L3: secţia consultativă | M3: <35 ani | N3: 35-44 ani | O3: 45-54 ani | P3: 55-64 ani | Q3: >65 ani
D4: scriptice | E4: ocupate | F4: scriptice | G4: ocupate | H4: scriptice | I4: ocupate
B5: A | C5: B | D5: 1 | E5: 2 | F5: 3 | G5: 4 | H5: 5 | I5: 6 | J5: 7 | K5: 8 | L5: 9 | M5: 10 | N5: 11 | O5: 12 | P5: 13 | Q5: 14 | R5: 15
B6: 115.0 | C6: tehnicieni-radiologi (studii profesional tehnice)
B7: 116.0 | C7: statisticieni medicali
B8: 117.0 | C8: tehnicieni- dentari | D8: 1 | E8: 1 | J8: 1 | P8: 1 | R8: 1
B9: 118.0 | C9: registratori medicali
B10: 119.0 | C10: instructori – dezinfecţionişti
B11: 120.0 | C11: felceri în educaţie pentru sănătate
B12: 121.0 | C12: dezinfectori
B13: 122.0 | C13: alt personal medical mediu
B14: 123.0 | C14: În afară de aceasta, fără studii medicale medii, ocupă funcţii- total | D14: X | E14: X | F14: X | G14: X | H14: X | I14: X
B15: 123.1 | C15: din ei: registratori medicali | D15: X | E15: X | F15: X | G15: X | H15: X | I15: X
B16: 123.2 | C16: instructori – dezinfecţionişti | D16: X | E16: X | F16: X | G16: X | H16: X | I16: X
A17: 13 | B17: 123.3 | C17: dezinfectori | D17: X | E17: X | F17: X | G17: X | H17: X | I17: X
B18: 123.4 | C18: alt personal medical mediu | D18: X | E18: X | F18: X | G18: X | H18: X | I18: X
B19: 124.0 | C19: Laboranţi – farmacişti - total
B20: 124.1 | C20: din ei: în instituţiile medico – sanitare
B21: 124.2 | C21: în asociaţia „Sanfarm-Prim”
B22: 125.0 | C22: Surori medicale inferioare pentru îngrijirea bolnavilor
B23: 126.0 | C23: Personal medical inferior | D23: 0.5 | E23: 0.5 | J23: 1 | N23: 1 | R23: 1
B24: 127.0 | C24: Alt personal
B25: 128.0 | C25: Total funcţii şi persoane fizice, care activează în instituţie | D25: 3.5 | E25: 3.5 | J25: 3 | M25: 1 | N25: 1 | P25: 1 | R25: 3
D26: ='8'!D11+'12'!D6+'12'!D7+'12'!D8+'12'!D17+'13'!D19+'13'!D22+'13'!D23+'13'!D24+'11'!D31+'12'!D9+'12'!D11+'12'!D12 -> 3.5 | E26: ='8'!E11+'12'!E6+'12'!E7+'12'!E8+'12'!E17+'13'!E19+'13'!E22+'13'!E23+'13'!E24+'11'!E31+'12'!E9+'12'!E11+'12'!E12 -> 3.5 | F26: ='8'!F11+'12'!F6+'12'!F7+'12'!F8+'12'!F17+'13'!F19+'13'!F22+'13'!F23+'13'!F24+'11'!F31+'12'!F9+'12'!F11+'12'!F12 -> 0 | G26: ='8'!G11+'12'!G6+'12'!G7+'12'!G8+'12'!G17+'13'!G19+'13'!G22+'13'!G23+'13'!G24+'11'!G31+'12'!G9+'12'!G11+'12'!G12 -> 0 | H26: ='8'!H11+'12'!H6+'12'!H7+'12'!H8+'12'!H17+'13'!H19+'13'!H22+'13'!H23+'13'!H24+'11'!H31+'12'!H9+'12'!H11+'12'!H12 -> 0 | I26: ='8'!I11+'12'!I6+'12'!I7+'12'!I8+'12'!I17+'13'!I19+'13'!I22+'13'!I23+'13'!I24+'11'!I31+'12'!I9+'12'!I11+'12'!I12 -> 0 | J26: ='8'!J11+'12'!J6+'12'!J7+'12'!J8+'12'!J17+'13'!J19+'13'!J22+'13'!J23+'13'!J24+J14+'12'!J9+'11'!J31+'12'!J10+'12'!J11+'12'!J12 -> 3 | K26: ='8'!K11+'12'!K6+'12'!K7+'12'!K8+'12'!K17+'13'!K19+'13'!K22+'13'!K23+'13'!K24+K14+'12'!K9+'11'!K31+'12'!K10+'12'!K11+'12'!K12 -> 0 | L26: ='8'!L11+'12'!L6+'12'!L7+'12'!L8+'12'!L17+'13'!L19+'13'!L22+'13'!L23+'13'!L24+L14+'12'!L9+'11'!L31+'12'!L10+'12'!L11+'12'!L12 -> 0 | M26: ='8'!M11+'12'!M6+'12'!M7+'12'!M8+'12'!M17+'13'!M19+'13'!M22+'13'!M23+'13'!M24+M14+'12'!M9+'11'!M31+'12'!M10+'12'!M11+'12'!M12 -> 1 | N26: ='8'!N11+'12'!N6+'12'!N7+'12'!N8+'12'!N17+'13'!N19+'13'!N22+'13'!N23+'13'!N24+N14+'12'!N9+'11'!N31+'12'!N10+'12'!N11+'12'!N12 -> 1 | O26: ='8'!O11+'12'!O6+'12'!O7+'12'!O8+'12'!O17+'13'!O19+'13'!O22+'13'!O23+'13'!O24+O14+'12'!O9+'12'!O10+'12'!O11+'12'!O12 -> 0 | P26: ='8'!P11+'12'!P6+'12'!P7+'12'!P8+'12'!P17+'13'!P19+'13'!P22+'13'!P23+'13'!P24+P14+'12'!P9+'12'!P10+'12'!P11+'12'!P12 -> 1 | Q26: ='8'!Q11+'12'!Q6+'12'!Q7+'12'!Q8+'12'!Q17+'13'!Q19+'13'!Q22+'13'!Q23+'13'!Q24+Q14+'12'!Q9+'12'!Q10+'12'!Q11+'12'!Q12 -> 0 | R26: ='8'!R11+'12'!R6+'12'!R7+'12'!R8+'12'!R17+'13'!R19+'13'!R22+'13'!R23+'13'!R24+R14+'12'!R9+'11'!R31+'12'!R10+'12'!R11+'12'!R12 -> 3

Sheet 14
B1: 3000. | C1: Din număr personal medical mediu (asistenţi medicali ale medicilor de familie rîndul 108.1, rub. 7, tabela 1), asistenţi medicali ale medicilor de familie, care lucrează în Oficii ale Medicilor de Familie, unde lipsesc medici de familie 1
B5: 4000. | C5: Din număr medici, pensionari:
C7: a) din rînd 4.0, rub. 7 | D7: bărbaţi 1 | F7: , | G7: femei 2
C9: b) din rînd 103.0, rub. 7 | D9: bărbaţi 1 | F9: , | G9: femei 2
B12: 4100. | C12: Din număr personal medical mediu, pensionari:
C14: a) din rînd 107.0, rub. 7 | D14: bărbaţi 1 | F14: , | G14: femei 2
C16: b) din rînd 123.0, rub. 7 | D16: bărbaţi 1 | F16: , | G16: femei 2
B19: 5000. | C19: Persoane, care se află în concediu neplătit (din rub. 7):
D21: medici ( din rînd. 4.0 şi 103.0) 1
D23: personal medical mediu( din rînd. 107.0 şi 123.0) 2
B26: 5100. | C26: Persoane, care se află în concediu de maternitate(din rub. 7):
D28: medici ( din rînd. 4.0 şi 103.0) 1
D30: personal medical mediu( din rînd. 107.0 şi 123.0) 2
D31: средний медицинский персонал(из стр. 107.0 и 123.0)

Sheet indicatori
A1: Calcularea indicatorilor Forma Nr. 17-săn.
A2: «PRIVIND STATELE DE FUNCŢII ŞI CADRELE INSTITUŢIEI MEDICO- SANITARE PUBLICE»
A3: Cod | B3: Denumire indicator | C3: Valoare absoluta | D3: Indicator
A4: f17_i1 | B4: TABELUL 1000 Completarea instituţiei medicale cu medici în % total | C4: ='2'!E11+'6'!E6 -> 0 | D4: =('2'!E11+'6'!E6)*100/'2'!D11 -> #DIV/0!
A5: f17_i2 | B5: Completarea instituţiei medicale (în %) cu conducători şi locţiitorii lor | C5: ='2'!E13 -> 0 | D5: ='2'!E13*100/'2'!D13 -> #DIV/0!
A6: f17_i3 | B6: medici de familie | C6: ='2'!E14 -> 0 | D6: ='2'!E14*100/'2'!D14 -> #DIV/0!
A7: f17_i4 | B7: internişti | C7: ='2'!E15 -> 0 | D7: ='2'!E15*100/'2'!D15 -> #DIV/0!
A8: f17_i5 | B8: internişti аi cabinetelor pentru adolescenţi | C8: ='2'!E16 -> 0 | D8: ='2'!E16*100/'2'!D16 -> #DIV/0!
A9: f17_i6 | B9: reumatologi | C9: ='2'!E17 -> 0 | D9: ='2'!E17*100/'2'!D17 -> #DIV/0!
A10: f17_i7 | B10: cardiologi | C10: ='2'!E18 -> 0 | D10: ='2'!E18*100/'2'!D18 -> #DIV/0!
A11: f17_i8 | B11: gastroenterologi | C11: ='2'!E19 -> 0 | D11: ='2'!E19*100/'2'!D19 -> #DIV/0!
A12: f17_i9 | B12: gastroenterologi pentru copii | C12: ='2'!E20 -> 0 | D12: ='2'!E20*100/'2'!D20 -> #DIV/0!
A13: f17_i10 | B13: dietologi | C13: ='2'!E21 -> 0 | D13: ='2'!E21*100/'2'!D21 -> #DIV/0!
A14: f17_i11 | B14: nefrologi | C14: ='2'!E22 -> 0 | D14: ='2'!E22*100/'2'!D22 -> #DIV/0!
A15: f17_i12 | B15: endocrinologi | C15: ='2'!E23 -> 0 | D15: ='2'!E23*100/'2'!D23 -> #DIV/0!
A16: f17_i13 | B16: endocrinologi pentru copii | C16: ='2'!E24 -> 0 | D16: ='2'!E24*100/'2'!D24 -> #DIV/0!
... A21: f17_i18 | B21: fizioterapeuţi | C21: ='2'!E29 -> 0 | D21: ='2'!E29*100/'2'!D29 -> #DIV/0!
A22: f17_i19 | B22: medicină tradiţională | C22: ='3'!E6 -> 0 | D22: ='3'!E6*100/'3'!D6 -> #DIV/0!
A23: f17_i20 | B23: kinetoterapeuţi | C23: ='3'!E7 -> 0 | D23: ='3'!E7*100/'3'!D7 -> #DIV/0!
A24: f17_i21 | B24: medici medicină sportivă | C24: ='3'!E8 -> 0 | D24: ='3'!E8*100/'3'!D8 -> #DIV/0!
A25: f17_i22 | B25: medici diagnostic funcţional | C25: ='3'!E9 -> 0 | D25: ='3'!E9*100/'3'!D9 -> #DIV/0!
A26: f17_i23 | B26: geneticieni | C26: ='3'!E10 -> 0 | D26: ='3'!E10*100/'3'!D10 -> #DIV/0!
A27: f17_i24 | B27: toxicologi | C27: ='3'!E11 -> 0 | D27: ='3'!E11*100/'3'!D11 -> #DIV/0!
A28: f17_i25 | B28: geriatri | C28: ='3'!E12 -> 0 | D28: ='3'!E12*100/'3'!D12 -> #DIV/0!
A29: f17_i26 | B29: medici de urgenţă | C29: ='3'!E13 -> 0 | D29: ='3'!E13*100/'3'!D13 -> #DIV/0!
A30: f17_i27 | B30: imagişti-sonografie | C30: ='3'!E14 -> 0 | D30: ='3'!E14*100/'3'!D14 -> #DIV/0!
A31: f17_i28 | B31: chirurgi | C31: ='3'!E15 -> 0 | D31: ='3'!E15*100/'3'!D15 -> #DIV/0!
A32: f17_i29 | B32: chirurgi pentru copii | C32: ='3'!E16 -> 0 | D32: ='3'!E16*100/'3'!D16 -> #DIV/0!
A33: f17_i30 | B33: chirurgi cardiovasculari | C33: ='3'!E17 -> 0 | D33: ='3'!E17*100/'3'!D17 -> #DIV/0!
... A47: f17_i44 | B47: obstetricieni – ginecologi pentru copii | C47: ='3'!E31 -> 0 | D47: ='3'!E31*100/'3'!D31 -> #DIV/0!
A48: f17_i45 | B48: pediatri | C48: ='4'!E6 -> 0 | D48: ='4'!E6*100/'4'!D6 -> #DIV/0!
A49: f17_i46 | B49: inclusiv pediatri – consultanţi | C49: ='4'!E7 -> 0 | D49: ='4'!E7*100/'4'!D7 -> #DIV/0!
A50: f17_i47 | B50: neonatologi | C50: ='4'!E8 -> 0 | D50: ='4'!E8*100/'4'!D8 -> #DIV/0!
A51: f17_i48 | B51: cardioreumatologi pediatri | C51: ='4'!E9 -> 0 | D51: ='4'!E9*100/'4'!D9 -> #DIV/0!
A52: f17_i49 | B52: oftalmologi | C52: ='4'!E10 -> 0 | D52: ='4'!E10*100/'4'!D10 -> #DIV/0!
A53: f17_i50 | B53: oftalmologi pentru copii | C53: ='4'!E11 -> 0 | D53: ='4'!E11*100/'4'!D11 -> #DIV/0!
A54: f17_i51 | B54: otorinolaringologi | C54: ='4'!E12 -> 0 | D54: ='4'!E12*100/'4'!D12 -> #DIV/0!
A55: f17_i52 | B55: otorinolaringologi pentru copii | C55: ='4'!E13 -> 0 | D55: ='4'!E13*100/'4'!D13 -> #DIV/0!
A56: f17_i53 | B56: surdologi | C56: ='4'!E14 -> 0 | D56: ='4'!E14*100/'4'!D14 -> #DIV/0!
A57: f17_i54 | B57: ftiziopneumologi | C57: ='4'!E15 -> 0 | D57: ='4'!E15*100/'4'!D15 -> #DIV/0!
A58: f17_i55 | B58: ftiziopneumologi pentru copii | C58: ='4'!E16 -> 0 | D58: ='4'!E16*100/'4'!D16 -> #DIV/0!
A59: f17_i56 | B59: neurologi | C59: ='4'!E17 -> 0 | D59: ='4'!E17*100/'4'!D17 -> #DIV/0!
... A67: f17_i64 | B67: dezinfecţionişti | C67: ='4'!E25 -> 0 | D67: ='4'!E25*100/'4'!D25 -> #DIV/0!
A68: f17_i65 | B68: parazitologi | C68: ='4'!E26 -> X | D68: ='4'!E26 -> X
A69: f17_i66 | B69: microbiologi | C69: ='4'!E27 -> 0 | D69: ='4'!E27*100/'4'!D27 -> #DIV/0!
A70: f17_i67 | B70: inspectori | C70: ='4'!E28 -> 0 | D70: ='4'!E28*100/'4'!D28 -> #DIV/0!
A71: f17_i68 | B71: medici igienişti pe: igiena generală | C71: ='4'!E29 -> 0 | D71: ='4'!E29*100/'4'!D29 -> #DIV/0!
A72: f17_i69 | B72: medici specialiști | C72: ='4'!E30 -> 0 | D72: ='4'!E30*100/'4'!D30 -> #DIV/0!
A73: f17_i70 | B73: igiena alimentară | C73: ='4'!E31 -> X | D73: ='4'!E31 -> X
A74: f17_i71 | B74: igiena muncii | C74: ='4'!E32 -> X | D74: ='4'!E32 -> X
A75: f17_i72 | B75: igiena radiaţiilor | C75: ='4'!E33 -> X | D75: ='4'!E33 -> X
A76: f17_i73 | B76: igiena mediului ambiant şi habitatului uman | C76: ='5'!E6 -> X | D76: ='5'!E6 -> X
A77: f17_i74 | B77: educaţie pentru sănătate | C77: ='5'!E7 -> X | D77: ='5'!E7 -> X
A78: f17_i75 | B78: stоmatologi | C78: ='5'!E8 -> 0 | D78: ='5'!E8*100/'5'!D8 -> #DIV/0!
A79: f17_i76 | B79: stоmatologi pentru copii | C79: ='5'!E9 -> 0 | D79: ='5'!E9*100/'5'!D9 -> #DIV/0!
A80: f17_i77 | B80: stоmatologi chirurgi | C80: ='5'!E10 -> 0 | D80: ='5'!E10*100/'5'!D10 -> #DIV/0!
A81: f17_i78 | B81: stоmatologi ortopezi | C81: ='5'!E11 -> 0 | D81: ='5'!E11*100/'5'!D11 -> #DIV/0!
A82: f17_i79 | B82: stоmatologi ortodonţi | C82: ='5'!E12 -> 0 | D82: ='5'!E12*100/'5'!D12 -> #DIV/0!
A83: f17_i80 | B83: imagişti-radiologi | C83: ='5'!E13 -> 0 | D83: ='5'!E13*100/'5'!D13 -> #DIV/0!
A84: f17_i81 | B84: imagişti-radiologi (radioterapeuţi) | C84: ='5'!E14 -> 0 | D84: ='5'!E14*100/'5'!D14 -> #DIV/0!
A85: f17_i82 | B85: imagişti- medicina nucleară | C85: ='5'!E15 -> 0 | D85: ='5'!E15*100/'5'!D15 -> #DIV/0!
A86: f17_i83 | B86: experţi medicină legală de profil general | C86: ='5'!E16 -> 0 | D86: ='5'!E16*100/'5'!D16 -> #DIV/0!
A87: f17_i84 | B87: experţi medicină legală subdiviziunilor de laborator | C87: ='5'!E17 -> 0 | D87: ='5'!E17*100/'5'!D17 -> #DIV/0!
A88: f17_i85 | B88: morfopatologi | C88: ='5'!E18 -> 0 | D88: ='5'!E18*100/'5'!D18 -> #DIV/0!
A89: f17_i86 | B89: laboranţi | C89: ='5'!E19 -> 0 | D89: ='5'!E19*100/'5'!D19 -> #DIV/0!
... A98: f17_i95 | B98: dermato-venerologi | C98: ='5'!E28 -> 0 | D98: ='5'!E28*100/'5'!D28 -> #DIV/0!
A99: f17_i96 | B99: alţi specialişti | C99: ='5'!E30 -> 0 | D99: ='5'!E30*100/'5'!D30 -> #DIV/0!
A100: f17_i97 | B100: psihologi | C100: ='6'!E6 -> 0 | D100: ='6'!E6*100/'6'!D6 -> #DIV/0!
A101: f17_i98 | B101: Farmacişti | C101: ='6'!E7 -> 0 | D101: ='6'!E7*100/'6'!D7 -> #DIV/0!
A102: f17_i99 | B102: Farmacişti „Sanfarm-Prim” | C102: ='6'!E8 -> 0 | D102: ='6'!E8*100/'6'!D8 -> #DIV/0!
A103: f17_i100 | B103: Număr personal medical mediu la începutul anului | C103: ='6'!E13 -> 0 | D103: ='6'!E13*100/'6'!D13 -> #DIV/0!
A104: f17_i101 | B104: Se află la finele anului | C104: ='6'!E17 -> 0 | D104: ='6'!E17*100/'6'!D17 -> #DIV/0!
A105: f17_i102 | B105: Din număr total personal medical mediu (rînd. 107.0) | C105: ='6'!E19 -> 0 | D105: ='6'!E19*100/'6'!D19 -> #DIV/0!
A106: f17_i103 | B106: inclusiv asistenţi medicali ale medicilor de familie | C106: ='6'!E20 -> 0 | D106: ='6'!E20*100/'6'!D20 -> #DIV/0!
A107: f17_i104 | B107: asistenţii medicului igienist | C107: ='6'!E22 -> 0 | D107: ='6'!E22*100/'6'!D22 -> #DIV/0!
A108: f17_i105 | B108: asistenţii epidemiologului | C108: ='6'!E23 -> 0 | D108: ='6'!E23*100/'6'!D23 -> #DIV/0!
A109: f17_i106 | B109: moaşe | C109: ='6'!E24 -> 0 | D109: ='6'!E24*100/'6'!D24 -> #DIV/0!
A110: f17_i107 | B110: felceri | C110: ='6'!E25 -> 0 | D110: ='6'!E25*100/'6'!D25 -> #DIV/0!
A111: f17_i108 | B111: felceri-narcologi | C111: ='6'!E26 -> 0 | D111: ='6'!E26*100/'6'!D26 -> #DIV/0!
A112: f17_i109 | B112: laboranţi | C112: ='6'!E27 -> 0 | D112: ='6'!E27*100/'6'!D27 -> #DIV/0!
A113: f17_i110 | B113: tehnicieni-radiologi | C113: ='7'!E6 -> 0 | D113: ='7'!E6*100/'7'!D6 -> #DIV/0!
A114: f17_i111 | B114: statisticieni medicali | C114: ='7'!E7 -> 0 | D114: ='7'!E7*100/'7'!D7 -> #DIV/0!
A115: f17_i112 | B115: tehnicieni- dentari | C115: ='7'!E8 -> 0 | D115: ='7'!E8*100/'7'!D8 -> #DIV/0!
A116: f17_i113 | B116: registratori medicali | C116: ='7'!E9 -> 0 | D116: ='7'!E9*100/'7'!D9 -> #DIV/0!
A117: f17_i114 | B117: instructori – dezinfecţionişti | C117: ='7'!E10 -> 0 | D117: ='7'!E10*100/'7'!D10 -> #DIV/0!
A118: f17_i115 | B118: felceri în educaţie pentru sănătate | C118: ='7'!E11 -> 0 | D118: ='7'!E11*100/'7'!D11 -> #DIV/0!
A119: f17_i116 | B119: dezinfectori | C119: ='7'!E12 -> 0 | D119: ='7'!E12*100/'7'!D12 -> #DIV/0!
A120: f17_i117 | B120: alt personal medical mediu | C120: ='7'!E13 -> 0 | D120: ='7'!E13*100/'7'!D13 -> #DIV/0!
A121: f17_i118 | B121: Laboranţi – farmacişti | C121: ='7'!E19 -> 0 | D121: ='7'!E19*100/'7'!D19 -> #DIV/0!
A122: f17_i119 | B122: în instituţiile medico – sanitare publice | C122: ='7'!E20 -> 0 | D122: ='7'!E20*100/'7'!D20 -> #DIV/0!
A123: f17_i120 | B123: în asociaţia „Sanfarm-Prim” | C123: ='7'!E21 -> 0 | D123: ='7'!E21*100/'7'!D21 -> #DIV/0!
A124: f17_i121 | B124: Surori medicale inferioare pentru îngrijirea bolnavilor | C124: ='7'!E22 -> 0 | D124: ='7'!E22*100/'7'!D22 -> #DIV/0!
A125: f17_i122 | B125: Personal medical inferior | C125: ='7'!E23 -> 0 | D125: ='7'!E23*100/'7'!D23 -> #DIV/0!
A126: f17_i123 | B126: Alt personal | C126: ='7'!E24 -> 0 | D126: ='7'!E24*100/'7'!D24 -> #DIV/0!
A127: f17_i124 | B127: Total funcţii şi persoane fizice, care activează în instituţia | C127: ='7'!E25 -> 0 | D127: ='7'!E25*100/'7'!D25 -> #DIV/0!
A128: f17_i125 | B128: Completarea staţionarului cu medici în % total | C128: =('2'!E11-'2'!G11-'2'!I11)+('6'!E6-'6'!G6-'6'!I6) -> 0 | D128: =(('2'!E11-'2'!G11-'2'!I11)+('6'!E6-'6'!G6-'6'!I6))*100/('2'!D11-'2'!F11-'2'!H11) -> #DIV/0!
A129: f17_i126 | B129: Completarea staţionarului (în %) cu conducători şi locţiitorii lor | C129: ='2'!E13-'2'!G13-'2'!I13 -> 0 | D129: =('2'!E13-'2'!G13-'2'!I13)*100/('2'!D13-'2'!F13-'2'!H13) -> #DIV/0!
A130: f17_i127 | B130: medici de familie | C130: ='2'!E14-'2'!G14-'2'!I14 -> 0 | D130: =('2'!E14-'2'!G14-'2'!I14)*100/('2'!D14-'2'!F14-'2'!H14) -> #DIV/0!
A131: f17_i128 | B131: internişti | C131: ='2'!E15-'2'!G15-'2'!I15 -> 0 | D131: =('2'!E15-'2'!G15-'2'!I15)*100/('2'!D15-'2'!F15-'2'!H15) -> #DIV/0!
A132: f17_i129 | B132: internişti аi cabinetelor pentru adolescenţi | C132: ='2'!E16-'2'!G16-'2'!I16 -> 0 | D132: =('2'!E16-'2'!G16-'2'!I16)*100/('2'!D16-'2'!F16-'2'!H16) -> #DIV/0!
...

Sheet ba2
B1: 6000. 6. Numărul total state de funcţii şi cadre pe instituţia medico – sanitară
B2: Cod funcţie | C2: Denumirea funcţiei | D2: Număr funcţii pe instituţie | J2: Număr persoane fizice lucrători de bază în funcţii ocupate
D3: total | F3: inclusiv în | J3: total | K3: inclusiv în | M3: repartizați pe grupe de vîrstă (din total, col. 7) | R3: inclusiv în localitatea rurală (din total, col. 7)
F4: instituţia de asistenţă medicală primară | H4: secţia consultativă | K4: instituţia de asistenţă medicală primară | L4: secţia consultativă | M4: <35 ani | N4: 35-44 ani | O4: 45-54 ani | P4: 55-64 ani | Q4: >65 ani
D5: scriptice | E5: ocupate | F5: scriptice | G5: ocupate | H5: scriptice | I5: ocupate
B6: A | C6: B | D6: 1 | E6: 2 | F6: 3 | G6: 4 | H6: 5 | I6: 6 | J6: 7 | K6: 8 | L6: 9 | M6: 10 | N6: 11 | O6: 12 | P6: 13 | Q6: 14 | R6: 15
B7: 1.0 | C7: Număr medici la sfîrşitul anului precedent | D7: ='2'!D7+'8'!D7 -> 0 | E7: ='2'!E7+'8'!E7 -> 0 | F7: ='2'!F7+'8'!F7 -> 0 | G7: ='2'!G7+'8'!G7 -> 0 | H7: ='2'!H7+'8'!H7 -> 0 | I7: ='2'!I7+'8'!I7 -> 0 | J7: ='2'!J7+'8'!J7 -> 0 | K7: ='2'!K7+'8'!K7 -> 0 | ... R7: ='2'!R7+'8'!R7 -> 0
B8: 2.0 | C8: Angajaţi în cursul anului | D8: X | E8: X | F8: X | G8: X | H8: X | I8: X | J8: ='2'!J8+'8'!J8 -> 1 | K8: X | L8: X | M8: X | N8: X | O8: X | P8: X | Q8: X | R8: ='2'!R8+'8'!R8 -> 1
B9: 2.1 | C9: inclusiv din promoţia anului gestionar | D9: X | E9: X | F9: X | G9: X | H9: X | I9: X | J9: ='2'!J9+'8'!J9 -> 1 | K9: X | L9: X | M9: X | N9: X | O9: X | P9: X | Q9: X | R9: ='2'!R9+'8'!R9 -> 1
B10: 3.0 | C10: Eliberaţi în cursul anului | D10: X | E10: X | F10: X | G10: X | H10: X | I10: X | J10: ='2'!J10+'8'!J10 -> 0 | K10: X | L10: X | M10: X | N10: X | O10: X | P10: X | Q10: X | R10: ='2'!R10+'8'!R10 -> 0
B11: 4.0 | C11: Se află la finele anului | D11: ='2'!D11+'8'!D11 -> 1.5 | E11: ='2'!E11+'8'!E11 -> 1.5 | F11: ='2'!F11+'8'!F11 -> 0 | G11: ='2'!G11+'8'!G11 -> 0 | H11: ='2'!H11+'8'!H11 -> 0 | I11: ='2'!I11+'8'!I11 -> 0 | J11: ='2'!J11+'8'!J11 -> 1 | K11: ='2'!K11+'8'!K11 -> 0 | ... R11: ='2'!R11+'8'!R11 -> 1
B12: 4.1 | C12: inclusiv femei | D12: X | E12: X | F12: X | G12: X | H12: X | I12: X | J12: ='2'!J12+'8'!J12 -> 0 | K12: ='2'!K12+'8'!K12 -> 0 | L12: ='2'!L12+'8'!L12 -> 0 | M12: ='2'!M12+'8'!M12 -> 0 | N12: ='2'!N12+'8'!N12 -> 0 | O12: ='2'!O12+'8'!O12 -> 0 | P12: ='2'!P12+'8'!P12 -> 0 | Q12: ='2'!Q12+'8'!Q12 -> 0 | R12: ='2'!R12+'8'!R12 -> 0
B13: 5.0 | C13: Din număr total medici (rînd. 4.0) conducătorii instituţiilor | D13: ='2'!D13+'8'!D13 -> 0 | E13: ='2'!E13+'8'!E13 -> 0 | F13: ='2'!F13+'8'!F13 -> 0 | G13: ='2'!G13+'8'!G13 -> 0 | H13: ='2'!H13+'8'!H13 -> 0 | I13: ='2'!I13+'8'!I13 -> 0 | J13: ='2'!J13+'8'!J13 -> 0 | K13: ='2'!K13+'8'!K13 -> 0 | ... R13: ='2'!R13+'8'!R13 -> 0
A14: 15 | B14: 6.0 | C14: medici de familie | D14: ='2'!D14+'8'!D14 -> 0 | E14: ='2'!E14+'8'!E14 -> 0 | F14: ='2'!F14+'8'!F14 -> 0 | G14: ='2'!G14+'8'!G14 -> 0 | H14: ='2'!H14+'8'!H14 -> 0 | I14: ='2'!I14+'8'!I14 -> 0 | J14: ='2'!J14+'8'!J14 -> 0 | K14: ='2'!K14+'8'!K14 -> 0 | ... R14: ='2'!R14+'8'!R14 -> 0
B15: 7.0 | C15: internişti | D15: ='2'!D15+'8'!D15 -> 0 | E15: ='2'!E15+'8'!E15 -> 0 | F15: ='2'!F15+'8'!F15 -> 0 | G15: ='2'!G15+'8'!G15 -> 0 | H15: ='2'!H15+'8'!H15 -> 0 | I15: ='2'!I15+'8'!I15 -> 0 | J15: ='2'!J15+'8'!J15 -> 0 | K15: ='2'!K15+'8'!K15 -> 0 | ... R15: ='2'!R15+'8'!R15 -> 0
B16: 8.0 | C16: internişti аi cabinetelor pentru adolescenţi | D16: ='2'!D16+'8'!D16 -> 0 | E16: ='2'!E16+'8'!E16 -> 0 | F16: ='2'!F16+'8'!F16 -> 0 | G16: ='2'!G16+'8'!G16 -> 0 | H16: ='2'!H16+'8'!H16 -> 0 | I16: ='2'!I16+'8'!I16 -> 0 | J16: ='2'!J16+'8'!J16 -> 0 | K16: ='2'!K16+'8'!K16 -> 0 | ... R16: ='2'!R16+'8'!R16 -> 0
B17: 9.0 | C17: reumatologi | D17: ='2'!D17+'8'!D17 -> 0 | E17: ='2'!E17+'8'!E17 -> 0 | F17: ='2'!F17+'8'!F17 -> 0 | G17: ='2'!G17+'8'!G17 -> 0 | H17: ='2'!H17+'8'!H17 -> 0 | I17: ='2'!I17+'8'!I17 -> 0 | J17: ='2'!J17+'8'!J17 -> 0 | K17: ='2'!K17+'8'!K17 -> 0 | ... R17: ='2'!R17+'8'!R17 -> 0
B18: 10.0 | C18: cardiologi | D18: ='2'!D18+'8'!D18 -> 0 | E18: ='2'!E18+'8'!E18 -> 0 | F18: ='2'!F18+'8'!F18 -> 0 | G18: ='2'!G18+'8'!G18 -> 0 | H18: ='2'!H18+'8'!H18 -> 0 | I18: ='2'!I18+'8'!I18 -> 0 | J18: ='2'!J18+'8'!J18 -> 0 | K18: ='2'!K18+'8'!K18 -> 0 | ... R18: ='2'!R18+'8'!R18 -> 0
B19: 11.0 | C19: gastroenterologi | D19: ='2'!D19+'8'!D19 -> 0 | E19: ='2'!E19+'8'!E19 -> 0 | F19: ='2'!F19+'8'!F19 -> 0 | G19: ='2'!G19+'8'!G19 -> 0 | H19: ='2'!H19+'8'!H19 -> 0 | I19: ='2'!I19+'8'!I19 -> 0 | J19: ='2'!J19+'8'!J19 -> 0 | K19: ='2'!K19+'8'!K19 -> 0 | ... R19: ='2'!R19+'8'!R19 -> 0
B20: 12.0 | C20: gastroenterologi pentru copii | D20: ='2'!D20+'8'!D20 -> 0 | E20: ='2'!E20+'8'!E20 -> 0 | F20: ='2'!F20+'8'!F20 -> 0 | G20: ='2'!G20+'8'!G20 -> 0 | H20: ='2'!H20+'8'!H20 -> 0 | I20: ='2'!I20+'8'!I20 -> 0 | J20: ='2'!J20+'8'!J20 -> 0 | K20: ='2'!K20+'8'!K20 -> 0 | ... R20: ='2'!R20+'8'!R20 -> 0
B21: 13.0 | C21: dietologi | D21: ='2'!D21+'8'!D21 -> 0 | E21: ='2'!E21+'8'!E21 -> 0 | F21: X | G21: X | H21: X | I21: X | J21: ='2'!J21+'8'!J21 -> 0 | K21: X | L21: X | M21: ='2'!M21+'8'!M21 -> 0 | N21: ='2'!N21+'8'!N21 -> 0 | O21: ='2'!O21+'8'!O21 -> 0 | P21: ='2'!P21+'8'!P21 -> 0 | Q21: ='2'!Q21+'8'!Q21 -> 0 | R21: ='2'!R21+'8'!R21 -> 0
B22: 14.0 | C22: nefrologi | D22: ='2'!D22+'8'!D22 -> 0 | E22: ='2'!E22+'8'!E22 -> 0 | F22: ='2'!F22+'8'!F22 -> 0 | G22: ='2'!G22+'8'!G22 -> 0 | H22: ='2'!H22+'8'!H22 -> 0 | I22: ='2'!I22+'8'!I22 -> 0 | J22: ='2'!J22+'8'!J22 -> 0 | K22: ='2'!K22+'8'!K22 -> 0 | ... R22: ='2'!R22+'8'!R22 -> 0
B23: 15.0 | C23: endocrinologi | D23: ='2'!D23+'8'!D23 -> 0 | E23: ='2'!E23+'8'!E23 -> 0 | F23: ='2'!F23+'8'!F23 -> 0 | G23: ='2'!G23+'8'!G23 -> 0 | H23: ='2'!H23+'8'!H23 -> 0 | I23: ='2'!I23+'8'!I23 -> 0 | J23: ='2'!J23+'8'!J23 -> 0 | K23: ='2'!K23+'8'!K23 -> 0 | ... R23: ='2'!R23+'8'!R23 -> 0
B24: 16.0 | C24: endocrinologi pentru copii | D24: ='2'!D24+'8'!D24 -> 0 | E24: ='2'!E24+'8'!E24 -> 0 | F24: ='2'!F24+'8'!F24 -> 0 | G24: ='2'!G24+'8'!G24 -> 0 | H24: ='2'!H24+'8'!H24 -> 0 | I24: ='2'!I24+'8'!I24 -> 0 | J24: ='2'!J24+'8'!J24 -> 0 | K24: ='2'!K24+'8'!K24 -> 0 | ... R24: ='2'!R24+'8'!R24 -> 0
B25: 17.0 | C25: alergologi | D25: ='2'!D25+'8'!D25 -> 0 | E25: ='2'!E25+'8'!E25 -> 0 | F25: ='2'!F25+'8'!F25 -> 0 | G25: ='2'!G25+'8'!G25 -> 0 | H25: ='2'!H25+'8'!H25 -> 0 | I25: ='2'!I25+'8'!I25 -> 0 | J25: ='2'!J25+'8'!J25 -> 0 | K25: ='2'!K25+'8'!K25 -> 0 | ... R25: ='2'!R25+'8'!R25 -> 0
B26: 18.0 | C26: hematologi | D26: ='2'!D26+'8'!D26 -> 0 | E26: ='2'!E26+'8'!E26 -> 0 | F26: ='2'!F26+'8'!F26 -> 0 | G26: ='2'!G26+'8'!G26 -> 0 | H26: ='2'!H26+'8'!H26 -> 0 | I26: ='2'!I26+'8'!I26 -> 0 | J26: ='2'!J26+'8'!J26 -> 0 | K26: ='2'!K26+'8'!K26 -> 0 | ... R26: ='2'!R26+'8'!R26 -> 0
B27: 19.0 | C27: infecţionişti | D27: ='2'!D27+'8'!D27 -> 0 | E27: ='2'!E27+'8'!E27 -> 0 | F27: ='2'!F27+'8'!F27 -> 0 | G27: ='2'!G27+'8'!G27 -> 0 | H27: ='2'!H27+'8'!H27 -> 0 | I27: ='2'!I27+'8'!I27 -> 0 | J27: ='2'!J27+'8'!J27 -> 0 | K27: ='2'!K27+'8'!K27 -> 0 | ... R27: ='2'!R27+'8'!R27 -> 0
B28: 20.0 | C28: infecţionişti pentru copii | D28: ='2'!D28+'8'!D28 -> 0 | E28: ='2'!E28+'8'!E28 -> 0 | F28: ='2'!F28+'8'!F28 -> 0 | G28: ='2'!G28+'8'!G28 -> 0 | H28: ='2'!H28+'8'!H28 -> 0 | I28: ='2'!I28+'8'!I28 -> 0 | J28: ='2'!J28+'8'!J28 -> 0 | K28: ='2'!K28+'8'!K28 -> 0 | ... R28: ='2'!R28+'8'!R28 -> 0
B29: 21.0 | C29: fizioterapeuţi | D29: ='2'!D29+'8'!D29 -> 0 | E29: ='2'!E29+'8'!E29 -> 0 | F29: ='2'!F29+'8'!F29 -> 0 | G29: ='2'!G29+'8'!G29 -> 0 | H29: ='2'!H29+'8'!H29 -> 0 | I29: ='2'!I29+'8'!I29 -> 0 | J29: ='2'!J29+'8'!J29 -> 0 | K29: ='2'!K29+'8'!K29 -> 0 | ... R29: ='2'!R29+'8'!R29 -> 0
D30: =SUM(D13:D29)+SUM('ba3'!D6:D31)+SUM('ba4'!D6:D30)+SUM('ba5'!D8:D30)-'ba3'!D30-'ba4'!D7 -> 1.5 | E30: =SUM(E13:E29)+SUM('ba3'!E6:E31)+SUM('ba4'!E6:E30)+SUM('ba5'!E8:E30)-'ba3'!E30-'ba4'!E7 -> 1.5 | F30: =SUM(F13:F29)+SUM('ba3'!F6:F31)+SUM('ba4'!F6:F33)+SUM('ba5'!F6:F30)-'ba3'!F30-'ba4'!F7 -> 0 | G30: =SUM(G13:G29)+SUM('ba3'!G6:G31)+SUM('ba4'!G6:G33)+SUM('ba5'!G6:G30)-'ba3'!G30-'ba4'!G7 -> 0 | H30: =SUM(H13:H29)+SUM('ba3'!H6:H31)+SUM('ba4'!H6:H33)+SUM('ba5'!H6:H30)-'ba3'!H30-'ba4'!H7 -> 0 | I30: =SUM(I13:I29)+SUM('ba3'!I6:I31)+SUM('ba4'!I6:I33)+SUM('ba5'!I6:I30)-'ba3'!I30-'ba4'!I7 -> 0 | J30: =SUM(J13:J29)+SUM('ba3'!J6:J31)+SUM('ba4'!J6:J30)+SUM('ba5'!J8:J30)-'ba3'!J30-'ba4'!J7 -> 1 | K30: =SUM(K13:K29)+SUM('ba3'!K6:K31)+SUM('ba4'!K6:K33)+SUM('ba5'!K6:K30)-'ba3'!K30-'ba4'!K7 -> 0 | L30: =SUM(L13:L29)+SUM('ba3'!L6:L31)+SUM('ba4'!L6:L33)+SUM('ba5'!L6:L30)-'ba3'!L30-'ba4'!L7 -> 0 | M30: =SUM(M13:M29)+SUM('ba3'!M6:M31)+SUM('ba4'!M6:M33)+SUM('ba5'!M6:M30)-'ba3'!M30-'ba4'!M7 -> 1 | N30: =SUM(N13:N29)+SUM('ba3'!N6:N31)+SUM('ba4'!N6:N33)+SUM('ba5'!N6:N30)-'ba3'!N30-'ba4'!N7 -> 0 | O30: =SUM(O13:O29)+SUM('ba3'!O6:O31)+SUM('ba4'!O6:O30)+SUM('ba5'!O8:O30)-'ba3'!O30-'ba4'!O7 -> 0 | P30: =SUM(P13:P29)+SUM('ba3'!P6:P31)+SUM('ba4'!P6:P30)+SUM('ba5'!P8:P30)-'ba3'!P30-'ba4'!P7 -> 0 | Q30: =SUM(Q13:Q29)+SUM('ba3'!Q6:Q31)+SUM('ba4'!Q6:Q30)+SUM('ba5'!Q8:Q30)-'ba3'!Q30-'ba4'!Q7 -> 0 | R30: =SUM(R13:R29)+SUM('ba3'!R6:R31)+SUM('ba4'!R6:R33)+SUM('ba5'!R6:R30)-'ba3'!R30-'ba4'!R7 -> 1

Sheet ba3
B1: Cod funcţie | C1: Denumirea funcţiei | D1: Număr funcţii pe instituţie | J1: Număr persoane fizice lucrători de bază în funcţii ocupate
D2: total | F2: inclusiv în | J2: total | K2: inclusiv în | M2: repartizați pe grupe de vîrstă (din total, col. 7) | R2: inclusiv în localitatea rurală (din total, col. 7)
F3: instituţia de asistenţă medicală primară | H3: secţia consultativă | K3: instituţia de asistenţă medicală primară | L3: secţia consultativă | M3: <35 ani | N3: 35-44 ani | O3: 45-54 ani | P3: 55-64 ani | Q3: >65 ani
D4: scriptice | E4: ocupate | F4: scriptice | G4: ocupate | H4: scriptice | I4: ocupate
B5: A | C5: B | D5: 1 | E5: 2 | F5: 3 | G5: 4 | H5: 5 | I5: 6 | J5: 7 | K5: 8 | L5: 9 | M5: 10 | N5: 11 | O5: 12 | P5: 13 | Q5: 14 | R5: 15
B6: 22.0 | C6: medici medicină tradiţională | D6: ='3'!D6+'9'!D6 -> 0 | E6: ='3'!E6+'9'!E6 -> 0 | F6: ='3'!F6+'9'!F6 -> 0 | G6: ='3'!G6+'9'!G6 -> 0 | H6: ='3'!H6+'9'!H6 -> 0 | I6: ='3'!I6+'9'!I6 -> 0 | J6: ='3'!J6+'9'!J6 -> 0 | K6: ='3'!K6+'9'!K6 -> 0 | ... R6: ='3'!R6+'9'!R6 -> 0
B7: 23.0 | C7: kinetoterapeuţi | D7: ='3'!D7+'9'!D7 -> 0 | E7: ='3'!E7+'9'!E7 -> 0 | F7: ='3'!F7+'9'!F7 -> 0 | G7: ='3'!G7+'9'!G7 -> 0 | H7: ='3'!H7+'9'!H7 -> 0 | I7: ='3'!I7+'9'!I7 -> 0 | J7: ='3'!J7+'9'!J7 -> 0 | K7: ='3'!K7+'9'!K7 -> 0 | ... R7: ='3'!R7+'9'!R7 -> 0
B8: 24.0 | C8: medici medicină sportivă | D8: ='3'!D8+'9'!D8 -> 0 | E8: ='3'!E8+'9'!E8 -> 0 | F8: ='3'!F8+'9'!F8 -> 0 | G8: ='3'!G8+'9'!G8 -> 0 | H8: ='3'!H8+'9'!H8 -> 0 | I8: ='3'!I8+'9'!I8 -> 0 | J8: ='3'!J8+'9'!J8 -> 0 | K8: ='3'!K8+'9'!K8 -> 0 | ... R8: ='3'!R8+'9'!R8 -> 0
B9: 25.0 | C9: medici diagnostic funcţional | D9: ='3'!D9+'9'!D9 -> 0 | E9: ='3'!E9+'9'!E9 -> 0 | F9: ='3'!F9+'9'!F9 -> 0 | G9: ='3'!G9+'9'!G9 -> 0 | H9: ='3'!H9+'9'!H9 -> 0 | I9: ='3'!I9+'9'!I9 -> 0 | J9: ='3'!J9+'9'!J9 -> 0 | K9: ='3'!K9+'9'!K9 -> 0 | ... R9: ='3'!R9+'9'!R9 -> 0
B10: 26.0 | C10: geneticieni | D10: ='3'!D10+'9'!D10 -> 0 | E10: ='3'!E10+'9'!E10 -> 0 | F10: ='3'!F10+'9'!F10 -> 0 | G10: ='3'!G10+'9'!G10 -> 0 | H10: ='3'!H10+'9'!H10 -> 0 | I10: ='3'!I10+'9'!I10 -> 0 | J10: ='3'!J10+'9'!J10 -> 0 | K10: ='3'!K10+'9'!K10 -> 0 | ... R10: ='3'!R10+'9'!R10 -> 0
B11: 27.0 | C11: toxicologi | D11: ='3'!D11+'9'!D11 -> 0 | E11: ='3'!E11+'9'!E11 -> 0 | F11: ='3'!F11+'9'!F11 -> 0 | G11: ='3'!G11+'9'!G11 -> 0 | H11: ='3'!H11+'9'!H11 -> 0 | I11: ='3'!I11+'9'!I11 -> 0 | J11: ='3'!J11+'9'!J11 -> 0 | K11: ='3'!K11+'9'!K11 -> 0 | ... R11: ='3'!R11+'9'!R11 -> 0
B12: 28.0 | C12: geriatri | D12: ='3'!D12+'9'!D12 -> 0 | E12: ='3'!E12+'9'!E12 -> 0 | F12: ='3'!F12+'9'!F12 -> 0 | G12: ='3'!G12+'9'!G12 -> 0 | H12: ='3'!H12+'9'!H12 -> 0 | I12: ='3'!I12+'9'!I12 -> 0 | J12: ='3'!J12+'9'!J12 -> 0 | K12: ='3'!K12+'9'!K12 -> 0 | ... R12: ='3'!R12+'9'!R12 -> 0
B13: 29.0 | C13: medici de urgenţă | D13: ='3'!D13+'9'!D13 -> 0 | E13: ='3'!E13+'9'!E13 -> 0 | F13: ='3'!F13+'9'!F13 -> 0 | G13: ='3'!G13+'9'!G13 -> 0 | H13: ='3'!H13+'9'!H13 -> 0 | I13: ='3'!I13+'9'!I13 -> 0 | J13: ='3'!J13+'9'!J13 -> 0 | K13: ='3'!K13+'9'!K13 -> 0 | ... R13: ='3'!R13+'9'!R13 -> 0
B14: 30.0 | C14: imagişti-sonografie | D14: ='3'!D14+'9'!D14 -> 0 | E14: ='3'!E14+'9'!E14 -> 0 | F14: ='3'!F14+'9'!F14 -> 0 | G14: ='3'!G14+'9'!G14 -> 0 | H14: ='3'!H14+'9'!H14 -> 0 | I14: ='3'!I14+'9'!I14 -> 0 | J14: ='3'!J14+'9'!J14 -> 0 | K14: ='3'!K14+'9'!K14 -> 0 | ... R14: ='3'!R14+'9'!R14 -> 0
A15: 16 | B15: 31.0 | C15: chirurgi | D15: ='3'!D15+'9'!D15 -> 0 | E15: ='3'!E15+'9'!E15 -> 0 | F15: ='3'!F15+'9'!F15 -> 0 | G15: ='3'!G15+'9'!G15 -> 0 | H15: ='3'!H15+'9'!H15 -> 0 | I15: ='3'!I15+'9'!I15 -> 0 | J15: ='3'!J15+'9'!J15 -> 0 | K15: ='3'!K15+'9'!K15 -> 0 | ... R15: ='3'!R15+'9'!R15 -> 0
B16: 32.0 | C16: chirurgi pentru copii | D16: ='3'!D16+'9'!D16 -> 0 | E16: ='3'!E16+'9'!E16 -> 0 | F16: ='3'!F16+'9'!F16 -> 0 | G16: ='3'!G16+'9'!G16 -> 0 | H16: ='3'!H16+'9'!H16 -> 0 | I16: ='3'!I16+'9'!I16 -> 0 | J16: ='3'!J16+'9'!J16 -> 0 | K16: ='3'!K16+'9'!K16 -> 0 | ... R16: ='3'!R16+'9'!R16 -> 0
B17: 33.0 | C17: chirurgi cardiovasculari | D17: ='3'!D17+'9'!D17 -> 0 | E17: ='3'!E17+'9'!E17 -> 0 | F17: ='3'!F17+'9'!F17 -> 0 | G17: ='3'!G17+'9'!G17 -> 0 | H17: ='3'!H17+'9'!H17 -> 0 | I17: ='3'!I17+'9'!I17 -> 0 | J17: ='3'!J17+'9'!J17 -> 0 | K17: ='3'!K17+'9'!K17 -> 0 | ... R17: ='3'!R17+'9'!R17 -> 0
B18: 34.0 | C18: chirurgi toracali | D18: ='3'!D18+'9'!D18 -> 0 | E18: ='3'!E18+'9'!E18 -> 0 | F18: ='3'!F18+'9'!F18 -> 0 | G18: ='3'!G18+'9'!G18 -> 0 | H18: ='3'!H18+'9'!H18 -> 0 | I18: ='3'!I18+'9'!I18 -> 0 | J18: ='3'!J18+'9'!J18 -> 0 | K18: ='3'!K18+'9'!K18 -> 0 | ... R18: ='3'!R18+'9'!R18 -> 0
B19: 35.0 | C19: proctologi | D19: ='3'!D19+'9'!D19 -> 0 | E19: ='3'!E19+'9'!E19 -> 0 | F19: ='3'!F19+'9'!F19 -> 0 | G19: ='3'!G19+'9'!G19 -> 0 | H19: ='3'!H19+'9'!H19 -> 0 | I19: ='3'!I19+'9'!I19 -> 0 | J19: ='3'!J19+'9'!J19 -> 0 | K19: ='3'!K19+'9'!K19 -> 0 | ... R19: ='3'!R19+'9'!R19 -> 0
B20: 36.0 | C20: ortopezi-traumatologi | D20: ='3'!D20+'9'!D20 -> 0 | E20: ='3'!E20+'9'!E20 -> 0 | F20: ='3'!F20+'9'!F20 -> 0 | G20: ='3'!G20+'9'!G20 -> 0 | H20: ='3'!H20+'9'!H20 -> 0 | I20: ='3'!I20+'9'!I20 -> 0 | J20: ='3'!J20+'9'!J20 -> 0 | K20: ='3'!K20+'9'!K20 -> 0 | ... R20: ='3'!R20+'9'!R20 -> 0
B21: 37.0 | C21: ortopezi-traumatologi pentru copii | D21: ='3'!D21+'9'!D21 -> 0 | E21: ='3'!E21+'9'!E21 -> 0 | F21: ='3'!F21+'9'!F21 -> 0 | G21: ='3'!G21+'9'!G21 -> 0 | H21: ='3'!H21+'9'!H21 -> 0 | I21: ='3'!I21+'9'!I21 -> 0 | J21: ='3'!J21+'9'!J21 -> 0 | K21: ='3'!K21+'9'!K21 -> 0 | ... R21: ='3'!R21+'9'!R21 -> 0
B22: 38.0 | C22: urologi | D22: ='3'!D22+'9'!D22 -> 0 | E22: ='3'!E22+'9'!E22 -> 0 | F22: ='3'!F22+'9'!F22 -> 0 | G22: ='3'!G22+'9'!G22 -> 0 | H22: ='3'!H22+'9'!H22 -> 0 | I22: ='3'!I22+'9'!I22 -> 0 | J22: ='3'!J22+'9'!J22 -> 0 | K22: ='3'!K22+'9'!K22 -> 0 | ... R22: ='3'!R22+'9'!R22 -> 0
B23: 39.0 | C23: urologi pentru copii | D23: ='3'!D23+'9'!D23 -> 0 | E23: ='3'!E23+'9'!E23 -> 0 | F23: ='3'!F23+'9'!F23 -> 0 | G23: ='3'!G23+'9'!G23 -> 0 | H23: ='3'!H23+'9'!H23 -> 0 | I23: ='3'!I23+'9'!I23 -> 0 | J23: ='3'!J23+'9'!J23 -> 0 | K23: ='3'!K23+'9'!K23 -> 0 | ... R23: ='3'!R23+'9'!R23 -> 0
B24: 40.0 | C24: neurochirurgi | D24: ='3'!D24+'9'!D24 -> 0 | E24: ='3'!E24+'9'!E24 -> 0 | F24: ='3'!F24+'9'!F24 -> 0 | G24: ='3'!G24+'9'!G24 -> 0 | H24: ='3'!H24+'9'!H24 -> 0 | I24: ='3'!I24+'9'!I24 -> 0 | J24: ='3'!J24+'9'!J24 -> 0 | K24: ='3'!K24+'9'!K24 -> 0 | ... R24: ='3'!R24+'9'!R24 -> 0
B25: 41.0 | C25: anesteziologi-reanimatologi | D25: ='3'!D25+'9'!D25 -> 0 | E25: ='3'!E25+'9'!E25 -> 0 | F25: ='3'!F25+'9'!F25 -> 0 | G25: ='3'!G25+'9'!G25 -> 0 | H25: ='3'!H25+'9'!H25 -> 0 | I25: ='3'!I25+'9'!I25 -> 0 | J25: ='3'!J25+'9'!J25 -> 0 | K25: ='3'!K25+'9'!K25 -> 0 | ... R25: ='3'!R25+'9'!R25 -> 0
B26: 42.0 | C26: anesteziologi-reanimatologi pentru copii | D26: ='3'!D26+'9'!D26 -> 0 | E26: ='3'!E26+'9'!E26 -> 0 | F26: ='3'!F26+'9'!F26 -> 0 | G26: ='3'!G26+'9'!G26 -> 0 | H26: ='3'!H26+'9'!H26 -> 0 | I26: ='3'!I26+'9'!I26 -> 0 | J26: ='3'!J26+'9'!J26 -> 0 | K26: ='3'!K26+'9'!K26 -> 0 | ... R26: ='3'!R26+'9'!R26 -> 0
B27: 43.0 | C27: endoscopişti | D27: ='3'!D27+'9'!D27 -> 0 | E27: ='3'!E27+'9'!E27 -> 0 | F27: ='3'!F27+'9'!F27 -> 0 | G27: ='3'!G27+'9'!G27 -> 0 | H27: ='3'!H27+'9'!H27 -> 0 | I27: ='3'!I27+'9'!I27 -> 0 | J27: ='3'!J27+'9'!J27 -> 0 | K27: ='3'!K27+'9'!K27 -> 0 | ... R27: ='3'!R27+'9'!R27 -> 0
... B31: 46.0 | C31: obstetricieni – ginecologi pentru copii | D31: ='3'!D31+'9'!D31 -> 0 | E31: ='3'!E31+'9'!E31 -> 0 | F31: ='3'!F31+'9'!F31 -> 0 | G31: ='3'!G31+'9'!G31 -> 0 | H31: ='3'!H31+'9'!H31 -> 0 | I31: ='3'!I31+'9'!I31 -> 0 | J31: ='3'!J31+'9'!J31 -> 0 | K31: ='3'!K31+'9'!K31 -> 0 | ... R31: ='3'!R31+'9'!R31 -> 0

Sheet ba4
B1: Cod funcţie | C1: Denumirea funcţiei | D1: Număr funcţii pe instituţie | J1: Număr persoane fizice lucrători de bază în funcţii ocupate
D2: total | F2: inclusiv în | J2: total | K2: inclusiv în | M2: repartizați pe grupe de vîrstă (din total, col. 7) | R2: inclusiv în localitatea rurală (din total, col. 7)
F3: instituţia de asistenţă medicală primară | H3: secţia consultativă | K3: instituţia de asistenţă medicală primară | L3: secţia consultativă | M3: <35 ani | N3: 35-44 ani | O3: 45-54 ani | P3: 55-64 ani | Q3: >65 ani
D4: scriptice | E4: ocupate | F4: scriptice | G4: ocupate | H4: scriptice | I4: ocupate
B5: A | C5: B | D5: 1 | E5: 2 | F5: 3 | G5: 4 | H5: 5 | I5: 6 | J5: 7 | K5: 8 | L5: 9 | M5: 10 | N5: 11 | O5: 12 | P5: 13 | Q5: 14 | R5: 15
B6: 47.0 | C6: pediatri | D6: ='4'!D6+'10'!D6 -> 0 | E6: ='4'!E6+'10'!E6 -> 0 | F6: ='4'!F6+'10'!F6 -> 0 | G6: ='4'!G6+'10'!G6 -> 0 | H6: ='4'!H6+'10'!H6 -> 0 | I6: ='4'!I6+'10'!I6 -> 0 | J6: ='4'!J6+'10'!J6 -> 0 | K6: ='4'!K6+'10'!K6 -> 0 | ... R6: ='4'!R6+'10'!R6 -> 0
B7: 47.1 | C7: inclusiv pediatri – consultanţi | D7: ='4'!D7+'10'!D7 -> 0 | E7: ='4'!E7+'10'!E7 -> 0 | F7: ='4'!F7+'10'!F7 -> 0 | G7: ='4'!G7+'10'!G7 -> 0 | H7: ='4'!H7+'10'!H7 -> 0 | I7: ='4'!I7+'10'!I7 -> 0 | J7: ='4'!J7+'10'!J7 -> 0 | K7: ='4'!K7+'10'!K7 -> 0 | ... R7: ='4'!R7+'10'!R7 -> 0
B8: 48.0 | C8: neonatologi | D8: ='4'!D8+'10'!D8 -> 0 | E8: ='4'!E8+'10'!E8 -> 0 | F8: ='4'!F8+'10'!F8 -> 0 | G8: ='4'!G8+'10'!G8 -> 0 | H8: ='4'!H8+'10'!H8 -> 0 | I8: ='4'!I8+'10'!I8 -> 0 | J8: ='4'!J8+'10'!J8 -> 0 | K8: ='4'!K8+'10'!K8 -> 0 | ... R8: ='4'!R8+'10'!R8 -> 0
B9: 49.0 | C9: cardioreumatologi pediatri | D9: ='4'!D9+'10'!D9 -> 0 | E9: ='4'!E9+'10'!E9 -> 0 | F9: ='4'!F9+'10'!F9 -> 0 | G9: ='4'!G9+'10'!G9 -> 0 | H9: ='4'!H9+'10'!H9 -> 0 | I9: ='4'!I9+'10'!I9 -> 0 | J9: ='4'!J9+'10'!J9 -> 0 | K9: ='4'!K9+'10'!K9 -> 0 | ... R9: ='4'!R9+'10'!R9 -> 0
B10: 50.0 | C10: oftalmologi | D10: ='4'!D10+'10'!D10 -> 0 | E10: ='4'!E10+'10'!E10 -> 0 | F10: ='4'!F10+'10'!F10 -> 0 | G10: ='4'!G10+'10'!G10 -> 0 | H10: ='4'!H10+'10'!H10 -> 0 | I10: ='4'!I10+'10'!I10 -> 0 | J10: ='4'!J10+'10'!J10 -> 0 | K10: ='4'!K10+'10'!K10 -> 0 | ... R10: ='4'!R10+'10'!R10 -> 0
B11: 51.0 | C11: oftalmologi pentru copii | D11: ='4'!D11+'10'!D11 -> 0 | E11: ='4'!E11+'10'!E11 -> 0 | F11: ='4'!F11+'10'!F11 -> 0 | G11: ='4'!G11+'10'!G11 -> 0 | H11: ='4'!H11+'10'!H11 -> 0 | I11: ='4'!I11+'10'!I11 -> 0 | J11: ='4'!J11+'10'!J11 -> 0 | K11: ='4'!K11+'10'!K11 -> 0 | ... R11: ='4'!R11+'10'!R11 -> 0
B12: 52.0 | C12: otorinolaringologi | D12: ='4'!D12+'10'!D12 -> 0 | E12: ='4'!E12+'10'!E12 -> 0 | F12: ='4'!F12+'10'!F12 -> 0 | G12: ='4'!G12+'10'!G12 -> 0 | H12: ='4'!H12+'10'!H12 -> 0 | I12: ='4'!I12+'10'!I12 -> 0 | J12: ='4'!J12+'10'!J12 -> 0 | K12: ='4'!K12+'10'!K12 -> 0 | ... R12: ='4'!R12+'10'!R12 -> 0
B13: 53.0 | C13: otorinolaringologi pentru copii | D13: ='4'!D13+'10'!D13 -> 0 | E13: ='4'!E13+'10'!E13 -> 0 | F13: ='4'!F13+'10'!F13 -> 0 | G13: ='4'!G13+'10'!G13 -> 0 | H13: ='4'!H13+'10'!H13 -> 0 | I13: ='4'!I13+'10'!I13 -> 0 | J13: ='4'!J13+'10'!J13 -> 0 | K13: ='4'!K13+'10'!K13 -> 0 | ... R13: ='4'!R13+'10'!R13 -> 0
B14: 54.0 | C14: audiolog-surdolog | D14: ='4'!D14+'10'!D14 -> 0 | E14: ='4'!E14+'10'!E14 -> 0 | F14: ='4'!F14+'10'!F14 -> 0 | G14: ='4'!G14+'10'!G14 -> 0 | H14: ='4'!H14+'10'!H14 -> 0 | I14: ='4'!I14+'10'!I14 -> 0 | J14: ='4'!J14+'10'!J14 -> 0 | K14: ='4'!K14+'10'!K14 -> 0 | ... R14: ='4'!R14+'10'!R14 -> 0
B15: 55.0 | C15: ftiziopneumologi | D15: ='4'!D15+'10'!D15 -> 0 | E15: ='4'!E15+'10'!E15 -> 0 | F15: ='4'!F15+'10'!F15 -> 0 | G15: ='4'!G15+'10'!G15 -> 0 | H15: ='4'!H15+'10'!H15 -> 0 | I15: ='4'!I15+'10'!I15 -> 0 | J15: ='4'!J15+'10'!J15 -> 0 | K15: ='4'!K15+'10'!K15 -> 0 | ... R15: ='4'!R15+'10'!R15 -> 0
A16: 17 | B16: 56.0 | C16: ftiziopneumologi pentru copii | D16: ='4'!D16+'10'!D16 -> 0 | E16: ='4'!E16+'10'!E16 -> 0 | F16: ='4'!F16+'10'!F16 -> 0 | G16: ='4'!G16+'10'!G16 -> 0 | H16: ='4'!H16+'10'!H16 -> 0 | I16: ='4'!I16+'10'!I16 -> 0 | J16: ='4'!J16+'10'!J16 -> 0 | K16: ='4'!K16+'10'!K16 -> 0 | ... R16: ='4'!R16+'10'!R16 -> 0
B17: 57.0 | C17: neurologi | D17: ='4'!D17+'10'!D17 -> 0 | E17: ='4'!E17+'10'!E17 -> 0 | F17: ='4'!F17+'10'!F17 -> 0 | G17: ='4'!G17+'10'!G17 -> 0 | H17: ='4'!H17+'10'!H17 -> 0 | I17: ='4'!I17+'10'!I17 -> 0 | J17: ='4'!J17+'10'!J17 -> 0 | K17: ='4'!K17+'10'!K17 -> 0 | ... R17: ='4'!R17+'10'!R17 -> 0
B18: 58.0 | C18: neurologi pentru copii | D18: ='4'!D18+'10'!D18 -> 0 | E18: ='4'!E18+'10'!E18 -> 0 | F18: ='4'!F18+'10'!F18 -> 0 | G18: ='4'!G18+'10'!G18 -> 0 | H18: ='4'!H18+'10'!H18 -> 0 | I18: ='4'!I18+'10'!I18 -> 0 | J18: ='4'!J18+'10'!J18 -> 0 | K18: ='4'!K18+'10'!K18 -> 0 | ... R18: ='4'!R18+'10'!R18 -> 0
B19: 59.0 | C19: psihiatri | D19: ='4'!D19+'10'!D19 -> 0 | E19: ='4'!E19+'10'!E19 -> 0 | F19: ='4'!F19+'10'!F19 -> 0 | G19: ='4'!G19+'10'!G19 -> 0 | H19: ='4'!H19+'10'!H19 -> 0 | I19: ='4'!I19+'10'!I19 -> 0 | J19: ='4'!J19+'10'!J19 -> 0 | K19: ='4'!K19+'10'!K19 -> 0 | ... R19: ='4'!R19+'10'!R19 -> 0
B20: 60.0 | C20: psihiatri pentru copii | D20: ='4'!D20+'10'!D20 -> 0 | E20: ='4'!E20+'10'!E20 -> 0 | F20: ='4'!F20+'10'!F20 -> 0 | G20: ='4'!G20+'10'!G20 -> 0 | H20: ='4'!H20+'10'!H20 -> 0 | I20: ='4'!I20+'10'!I20 -> 0 | J20: ='4'!J20+'10'!J20 -> 0 | K20: ='4'!K20+'10'!K20 -> 0 | ... R20: ='4'!R20+'10'!R20 -> 0
B21: 61.0 | C21: narcologi | D21: ='4'!D21+'10'!D21 -> 0 | E21: ='4'!E21+'10'!E21 -> 0 | F21: ='4'!F21+'10'!F21 -> 0 | G21: ='4'!G21+'10'!G21 -> 0 | H21: ='4'!H21+'10'!H21 -> 0 | I21: ='4'!I21+'10'!I21 -> 0 | J21: ='4'!J21+'10'!J21 -> 0 | K21: ='4'!K21+'10'!K21 -> 0 | ... R21: ='4'!R21+'10'!R21 -> 0
B22: 62.0 | C22: psihoterapeuţi | D22: ='4'!D22+'10'!D22 -> 0 | E22: ='4'!E22+'10'!E22 -> 0 | F22: ='4'!F22+'10'!F22 -> 0 | G22: ='4'!G22+'10'!G22 -> 0 | H22: ='4'!H22+'10'!H22 -> 0 | I22: ='4'!I22+'10'!I22 -> 0 | J22: ='4'!J22+'10'!J22 -> 0 | K22: ='4'!K22+'10'!K22 -> 0 | ... R22: ='4'!R22+'10'!R22 -> 0
B23: 63.0 | C23: experţi psihiatrie judiciară | D23: ='4'!D23+'10'!D23 -> 0 | E23: ='4'!E23+'10'!E23 -> 0 | F23: ='4'!F23+'10'!F23 -> 0 | G23: ='4'!G23+'10'!G23 -> 0 | H23: ='4'!H23+'10'!H23 -> 0 | I23: ='4'!I23+'10'!I23 -> 0 | J23: ='4'!J23+'10'!J23 -> 0 | K23: ='4'!K23+'10'!K23 -> 0 | ... R23: ='4'!R23+'10'!R23 -> 0
B24: 64.0 | C24: epidemiologi | D24: ='4'!D24+'10'!D24 -> 0 | E24: ='4'!E24+'10'!E24 -> 0 | F24: ='4'!F24+'10'!F24 -> 0 | G24: ='4'!G24+'10'!G24 -> 0 | H24: ='4'!H24+'10'!H24 -> 0 | I24: ='4'!I24+'10'!I24 -> 0 | J24: ='4'!J24+'10'!J24 -> 0 | K24: ='4'!K24+'10'!K24 -> 0 | ... R24: ='4'!R24+'10'!R24 -> 0
B25: 65.0 | C25: dezinfecţionişti | D25: ='4'!D25+'10'!D25 -> 0 | E25: ='4'!E25+'10'!E25 -> 0 | F25: ='4'!F25+'10'!F25 -> 0 | G25: ='4'!G25+'10'!G25 -> 0 | H25: ='4'!H25+'10'!H25 -> 0 | I25: ='4'!I25+'10'!I25 -> 0 | J25: ='4'!J25+'10'!J25 -> 0 | K25: ='4'!K25+'10'!K25 -> 0 | ... R25: ='4'!R25+'10'!R25 -> 0
B26: 66.0 | C26: parazitologi | D26: X | E26: X | F26: ='4'!F26+'10'!F26 -> 0 | G26: ='4'!G26+'10'!G26 -> 0 | H26: ='4'!H26+'10'!H26 -> 0 | I26: ='4'!I26+'10'!I26 -> 0 | J26: X | K26: ='4'!K26+'10'!K26 -> 0 | L26: ='4'!L26+'10'!L26 -> 0 | M26: X | N26: X | O26: X | P26: X | Q26: X | R26: X
B27: 67.0 | C27: microbiologi | D27: ='4'!D27+'10'!D27 -> 0 | E27: ='4'!E27+'10'!E27 -> 0 | F27: ='4'!F27+'10'!F27 -> 0 | G27: ='4'!G27+'10'!G27 -> 0 | H27: ='4'!H27+'10'!H27 -> 0 | I27: ='4'!I27+'10'!I27 -> 0 | J27: ='4'!J27+'10'!J27 -> 0 | K27: ='4'!K27+'10'!K27 -> 0 | ... R27: ='4'!R27+'10'!R27 -> 0
B28: 68.0 | C28: inspectori | D28: ='4'!D28+'10'!D28 -> 0 | E28: ='4'!E28+'10'!E28 -> 0 | F28: ='4'!F28+'10'!F28 -> 0 | G28: ='4'!G28+'10'!G28 -> 0 | H28: ='4'!H28+'10'!H28 -> 0 | I28: ='4'!I28+'10'!I28 -> 0 | J28: ='4'!J28+'10'!J28 -> 0 | K28: ='4'!K28+'10'!K28 -> 0 | ... R28: ='4'!R28+'10'!R28 -> 0
B29: 69.0 | C29: medici igienişti pe: igiena generală | D29: ='4'!D29+'10'!D29 -> 0 | E29: ='4'!E29+'10'!E29 -> 0 | F29: ='4'!F29+'10'!F29 -> 0 | G29: ='4'!G29+'10'!G29 -> 0 | H29: ='4'!H29+'10'!H29 -> 0 | I29: ='4'!I29+'10'!I29 -> 0 | J29: ='4'!J29+'10'!J29 -> 0 | K29: ='4'!K29+'10'!K29 -> 0 | ... R29: ='4'!R29+'10'!R29 -> 0
B30: 70.0 | C30: medici specialiști | D30: X | E30: X | F30: X | G30: X | H30: X | I30: X | J30: X | K30: X | L30: X | M30: X | N30: X | O30: X | P30: X | Q30: X | R30: X
B31: 71.0 | C31: igiena alimentară | D31: X | E31: X | F31: ='4'!F31+'10'!F31 -> 0 | G31: ='4'!G31+'10'!G31 -> 0 | H31: ='4'!H31+'10'!H31 -> 0 | I31: ='4'!I31+'10'!I31 -> 0 | J31: X | K31: ='4'!K31+'10'!K31 -> 0 | L31: ='4'!L31+'10'!L31 -> 0 | M31: X | N31: X | O31: X | P31: X | Q31: X | R31: X
B32: 72.0 | C32: igiena muncii | D32: X | E32: X | F32: ='4'!F32+'10'!F32 -> 0 | G32: ='4'!G32+'10'!G32 -> 0 | H32: ='4'!H32+'10'!H32 -> 0 | I32: ='4'!I32+'10'!I32 -> 0 | J32: X | K32: ='4'!K32+'10'!K32 -> 0 | L32: ='4'!L32+'10'!L32 -> 0 | M32: X | N32: X | O32: X | P32: X | Q32: X | R32: X
B33: 73.0 | C33: igiena radiaţiilor | D33: X | E33: X | F33: ='4'!F33+'10'!F33 -> 0 | G33: ='4'!G33+'10'!G33 -> 0 | H33: ='4'!H33+'10'!H33 -> 0 | I33: ='4'!I33+'10'!I33 -> 0 | J33: X | K33: ='4'!K33+'10'!K33 -> 0 | L33: ='4'!L33+'10'!L33 -> 0 | M33: X | N33: X | O33: X | P33: X | Q33: X | R33: X

Sheet ba5
B1: Cod funcţie | C1: Denumirea funcţiei | D1: Număr funcţii pe instituţie | J1: Număr persoane fizice lucrători de bază în funcţii ocupate
D2: total | F2: inclusiv în | J2: total | K2: inclusiv în | M2: repartizați pe grupe de vîrstă (din total, col. 7) | R2: inclusiv în localitatea rurală (din total, col. 7)
F3: instituţia de asistenţă medicală primară | H3: secţia consultativă | K3: instituţia de asistenţă medicală primară | L3: secţia consultativă | M3: <35 ani | N3: 35-44 ani | O3: 45-54 ani | P3: 55-64 ani | Q3: >65 ani
D4: scriptice | E4: ocupate | F4: scriptice | G4: ocupate | H4: scriptice | I4: ocupate
B5: A | C5: B | D5: 1 | E5: 2 | F5: 3 | G5: 4 | H5: 5 | I5: 6 | J5: 7 | K5: 8 | L5: 9 | M5: 10 | N5: 11 | O5: 12 | P5: 13 | Q5: 14 | R5: 15
B6: 74.0 | C6: igiena mediului ambiant şi habitatului uman | D6: X | E6: X | F6: ='5'!F6+'11'!F6 -> 0 | G6: ='5'!G6+'11'!G6 -> 0 | H6: ='5'!H6+'11'!H6 -> 0 | I6: ='5'!I6+'11'!I6 -> 0 | J6: X | K6: ='5'!K6+'11'!K6 -> 0 | L6: ='5'!L6+'11'!L6 -> 0 | M6: X | N6: X | O6: X | P6: X | Q6: X | R6: X
B7: 75.0 | C7: educaţie pentru sănătate | D7: X | E7: X | F7: ='5'!F7+'11'!F7 -> 0 | G7: ='5'!G7+'11'!G7 -> 0 | H7: ='5'!H7+'11'!H7 -> 0 | I7: ='5'!I7+'11'!I7 -> 0 | J7: X | K7: ='5'!K7+'11'!K7 -> 0 | L7: ='5'!L7+'11'!L7 -> 0 | M7: X | N7: X | O7: X | P7: X | Q7: X | R7: X
B8: 76.0 | C8: stоmatologi | D8: ='5'!D8+'11'!D8 -> 1.5 | E8: ='5'!E8+'11'!E8 -> 1.5 | F8: ='5'!F8+'11'!F8 -> 0 | G8: ='5'!G8+'11'!G8 -> 0 | H8: ='5'!H8+'11'!H8 -> 0 | I8: ='5'!I8+'11'!I8 -> 0 | J8: ='5'!J8+'11'!J8 -> 1 | K8: ='5'!K8+'11'!K8 -> 0 | ... R8: ='5'!R8+'11'!R8 -> 1
B9: 77.0 | C9: stоmatologi pentru copii | D9: ='5'!D9+'11'!D9 -> 0 | E9: ='5'!E9+'11'!E9 -> 0 | F9: ='5'!F9+'11'!F9 -> 0 | G9: ='5'!G9+'11'!G9 -> 0 | H9: ='5'!H9+'11'!H9 -> 0 | I9: ='5'!I9+'11'!I9 -> 0 | J9: ='5'!J9+'11'!J9 -> 0 | K9: ='5'!K9+'11'!K9 -> 0 | ... R9: ='5'!R9+'11'!R9 -> 0
B10: 78.0 | C10: stоmatologi chirurgi | D10: ='5'!D10+'11'!D10 -> 0 | E10: ='5'!E10+'11'!E10 -> 0 | F10: ='5'!F10+'11'!F10 -> 0 | G10: ='5'!G10+'11'!G10 -> 0 | H10: ='5'!H10+'11'!H10 -> 0 | I10: ='5'!I10+'11'!I10 -> 0 | J10: ='5'!J10+'11'!J10 -> 0 | K10: ='5'!K10+'11'!K10 -> 0 | ... R10: ='5'!R10+'11'!R10 -> 0
B11: 79.0 | C11: stоmatologi ortopezi | D11: ='5'!D11+'11'!D11 -> 0 | E11: ='5'!E11+'11'!E11 -> 0 | F11: ='5'!F11+'11'!F11 -> 0 | G11: ='5'!G11+'11'!G11 -> 0 | H11: ='5'!H11+'11'!H11 -> 0 | I11: ='5'!I11+'11'!I11 -> 0 | J11: ='5'!J11+'11'!J11 -> 0 | K11: ='5'!K11+'11'!K11 -> 0 | ... R11: ='5'!R11+'11'!R11 -> 0
B12: 80.0 | C12: stоmatologi ortodonţi | D12: ='5'!D12+'11'!D12 -> 0 | E12: ='5'!E12+'11'!E12 -> 0 | F12: ='5'!F12+'11'!F12 -> 0 | G12: ='5'!G12+'11'!G12 -> 0 | H12: ='5'!H12+'11'!H12 -> 0 | I12: ='5'!I12+'11'!I12 -> 0 | J12: ='5'!J12+'11'!J12 -> 0 | K12: ='5'!K12+'11'!K12 -> 0 | ... R12: ='5'!R12+'11'!R12 -> 0
B13: 81.0 | C13: imagişti-radiologi | D13: ='5'!D13+'11'!D13 -> 0 | E13: ='5'!E13+'11'!E13 -> 0 | F13: ='5'!F13+'11'!F13 -> 0 | G13: ='5'!G13+'11'!G13 -> 0 | H13: ='5'!H13+'11'!H13 -> 0 | I13: ='5'!I13+'11'!I13 -> 0 | J13: ='5'!J13+'11'!J13 -> 0 | K13: ='5'!K13+'11'!K13 -> 0 | ... R13: ='5'!R13+'11'!R13 -> 0
B14: 82.0 | C14: imagişti-radiologi (radioterapeuţi) | D14: ='5'!D14+'11'!D14 -> 0 | E14: ='5'!E14+'11'!E14 -> 0 | F14: ='5'!F14+'11'!F14 -> 0 | G14: ='5'!G14+'11'!G14 -> 0 | H14: ='5'!H14+'11'!H14 -> 0 | I14: ='5'!I14+'11'!I14 -> 0 | J14: ='5'!J14+'11'!J14 -> 0 | K14: ='5'!K14+'11'!K14 -> 0 | ... R14: ='5'!R14+'11'!R14 -> 0
B15: 83.0 | C15: imagişti- medicina nucleară | D15: ='5'!D15+'11'!D15 -> 0 | E15: ='5'!E15+'11'!E15 -> 0 | F15: ='5'!F15+'11'!F15 -> 0 | G15: ='5'!G15+'11'!G15 -> 0 | H15: ='5'!H15+'11'!H15 -> 0 | I15: ='5'!I15+'11'!I15 -> 0 | J15: ='5'!J15+'11'!J15 -> 0 | K15: ='5'!K15+'11'!K15 -> 0 | ... R15: ='5'!R15+'11'!R15 -> 0
A16: 18 | B16: 84.0 | C16: experţi medicină legală de profil general | D16: ='5'!D16+'11'!D16 -> 0 | E16: ='5'!E16+'11'!E16 -> 0 | F16: ='5'!F16+'11'!F16 -> 0 | G16: ='5'!G16+'11'!G16 -> 0 | H16: ='5'!H16+'11'!H16 -> 0 | I16: ='5'!I16+'11'!I16 -> 0 | J16: ='5'!J16+'11'!J16 -> 0 | K16: ='5'!K16+'11'!K16 -> 0 | ... R16: ='5'!R16+'11'!R16 -> 0
B17: 85.0 | C17: experţi medicină legală subdiviziunilor de laborator | D17: ='5'!D17+'11'!D17 -> 0 | E17: ='5'!E17+'11'!E17 -> 0 | F17: ='5'!F17+'11'!F17 -> 0 | G17: ='5'!G17+'11'!G17 -> 0 | H17: ='5'!H17+'11'!H17 -> 0 | I17: ='5'!I17+'11'!I17 -> 0 | J17: ='5'!J17+'11'!J17 -> 0 | K17: ='5'!K17+'11'!K17 -> 0 | ... R17: ='5'!R17+'11'!R17 -> 0
B18: 86.0 | C18: morfopatologi | D18: ='5'!D18+'11'!D18 -> 0 | E18: ='5'!E18+'11'!E18 -> 0 | F18: X | G18: X | H18: ='5'!H18+'11'!H18 -> 0 | I18: ='5'!I18+'11'!I18 -> 0 | J18: ='5'!J18+'11'!J18 -> 0 | K18: X | L18: ='5'!L18+'11'!L18 -> 0 | M18: ='5'!M18+'11'!M18 -> 0 | N18: ='5'!N18+'11'!N18 -> 0 | O18: ='5'!O18+'11'!O18 -> 0 | P18: ='5'!P18+'11'!P18 -> 0 | Q18: ='5'!Q18+'11'!Q18 -> 0 | R18: ='5'!R18+'11'!R18 -> 0
B19: 87.0 | C19: laboranţi | D19: ='5'!D19+'11'!D19 -> 0 | E19: ='5'!E19+'11'!E19 -> 0 | F19: ='5'!F19+'11'!F19 -> 0 | G19: ='5'!G19+'11'!G19 -> 0 | H19: ='5'!H19+'11'!H19 -> 0 | I19: ='5'!I19+'11'!I19 -> 0 | J19: ='5'!J19+'11'!J19 -> 0 | K19: ='5'!K19+'11'!K19 -> 0 | ... R19: ='5'!R19+'11'!R19 -> 0
B20: 88.0 | C20: laboranţi-geneticieni | D20: ='5'!D20+'11'!D20 -> 0 | E20: ='5'!E20+'11'!E20 -> 0 | F20: ='5'!F20+'11'!F20 -> 0 | G20: ='5'!G20+'11'!G20 -> 0 | H20: ='5'!H20+'11'!H20 -> 0 | I20: ='5'!I20+'11'!I20 -> 0 | J20: ='5'!J20+'11'!J20 -> 0 | K20: ='5'!K20+'11'!K20 -> 0 | ... R20: ='5'!R20+'11'!R20 -> 0
B21: 89.0 | C21: farmacologi clinici | D21: ='5'!D21+'11'!D21 -> 0 | E21: ='5'!E21+'11'!E21 -> 0 | F21: ='5'!F21+'11'!F21 -> 0 | G21: ='5'!G21+'11'!G21 -> 0 | H21: ='5'!H21+'11'!H21 -> 0 | I21: ='5'!I21+'11'!I21 -> 0 | J21: ='5'!J21+'11'!J21 -> 0 | K21: ='5'!K21+'11'!K21 -> 0 | ... R21: ='5'!R21+'11'!R21 -> 0
B22: 90.0 | C22: transfuziologi | D22: ='5'!D22+'11'!D22 -> 0 | E22: ='5'!E22+'11'!E22 -> 0 | F22: ='5'!F22+'11'!F22 -> 0 | G22: ='5'!G22+'11'!G22 -> 0 | H22: ='5'!H22+'11'!H22 -> 0 | I22: ='5'!I22+'11'!I22 -> 0 | J22: ='5'!J22+'11'!J22 -> 0 | K22: ='5'!K22+'11'!K22 -> 0 | ... R22: ='5'!R22+'11'!R22 -> 0
B23: 91.0 | C23: imunologi | D23: ='5'!D23+'11'!D23 -> 0 | E23: ='5'!E23+'11'!E23 -> 0 | F23: ='5'!F23+'11'!F23 -> 0 | G23: ='5'!G23+'11'!G23 -> 0 | H23: ='5'!H23+'11'!H23 -> 0 | I23: ='5'!I23+'11'!I23 -> 0 | J23: ='5'!J23+'11'!J23 -> 0 | K23: ='5'!K23+'11'!K23 -> 0 | ... R23: ='5'!R23+'11'!R23 -> 0
B24: 92.0 | C24: sexopatologi | D24: ='5'!D24+'11'!D24 -> 0 | E24: ='5'!E24+'11'!E24 -> 0 | F24: ='5'!F24+'11'!F24 -> 0 | G24: ='5'!G24+'11'!G24 -> 0 | H24: ='5'!H24+'11'!H24 -> 0 | I24: ='5'!I24+'11'!I24 -> 0 | J24: ='5'!J24+'11'!J24 -> 0 | K24: ='5'!K24+'11'!K24 -> 0 | ... R24: ='5'!R24+'11'!R24 -> 0
B25: 93.0 | C25: andrologi | D25: ='5'!D25+'11'!D25 -> 0 | E25: ='5'!E25+'11'!E25 -> 0 | F25: ='5'!F25+'11'!F25 -> 0 | G25: ='5'!G25+'11'!G25 -> 0 | H25: ='5'!H25+'11'!H25 -> 0 | I25: ='5'!I25+'11'!I25 -> 0 | J25: ='5'!J25+'11'!J25 -> 0 | K25: ='5'!K25+'11'!K25 -> 0 | ... R25: ='5'!R25+'11'!R25 -> 0
B26: 94.0 | C26: statisticieni | D26: ='5'!D26+'11'!D26 -> 0 | E26: ='5'!E26+'11'!E26 -> 0 | F26: ='5'!F26+'11'!F26 -> 0 | G26: ='5'!G26+'11'!G26 -> 0 | H26: ='5'!H26+'11'!H26 -> 0 | I26: ='5'!I26+'11'!I26 -> 0 | J26: ='5'!J26+'11'!J26 -> 0 | K26: ='5'!K26+'11'!K26 -> 0 | ... R26: ='5'!R26+'11'!R26 -> 0
B27: 95.0 | C27: metodişti | D27: ='5'!D27+'11'!D27 -> 0 | E27: ='5'!E27+'11'!E27 -> 0 | F27: ='5'!F27+'11'!F27 -> 0 | G27: ='5'!G27+'11'!G27 -> 0 | H27: ='5'!H27+'11'!H27 -> 0 | I27: ='5'!I27+'11'!I27 -> 0 | J27: ='5'!J27+'11'!J27 -> 0 | K27: ='5'!K27+'11'!K27 -> 0 | ... R27: ='5'!R27+'11'!R27 -> 0
B28: 96.0 | C28: dermato-venerologi | D28: ='5'!D28+'11'!D28 -> 0 | E28: ='5'!E28+'11'!E28 -> 0 | F28: ='5'!F28+'11'!F28 -> 0 | G28: ='5'!G28+'11'!G28 -> 0 | H28: ='5'!H28+'11'!H28 -> 0 | I28: ='5'!I28+'11'!I28 -> 0 | J28: ='5'!J28+'11'!J28 -> 0 | K28: ='5'!K28+'11'!K28 -> 0 | ... R28: ='5'!R28+'11'!R28 -> 0
B29: 97.0 | D29: ='5'!D29+'11'!D29 -> 0 | E29: ='5'!E29+'11'!E29 -> 0 | F29: ='5'!F29+'11'!F29 -> 0 | G29: ='5'!G29+'11'!G29 -> 0 | H29: ='5'!H29+'11'!H29 -> 0 | I29: ='5'!I29+'11'!I29 -> 0 | J29: ='5'!J29+'11'!J29 -> 0 | K29: ='5'!K29+'11'!K29 -> 0 | ... R29: ='5'!R29+'11'!R29 -> 0
B30: 98.0 | C30: alţi specialişti | D30: ='5'!D30+'11'!D30 -> 0 | E30: ='5'!E30+'11'!E30 -> 0 | F30: ='5'!F30+'11'!F30 -> 0 | G30: ='5'!G30+'11'!G30 -> 0 | H30: ='5'!H30+'11'!H30 -> 0 | I30: ='5'!I30+'11'!I30 -> 0 | J30: ='5'!J30+'11'!J30 -> 0 | K30: ='5'!K30+'11'!K30 -> 0 | ... R30: ='5'!R30+'11'!R30 -> 0
B31: 99.0 | C31: În afară de aceasta: rezidenţi | D31: ='5'!D31+'11'!D31 -> 0 | E31: ='5'!E31+'11'!E31 -> 0 | F31: ='5'!F31+'11'!F31 -> 0 | G31: ='5'!G31+'11'!G31 -> 0 | H31: ='5'!H31+'11'!H31 -> 0 | I31: ='5'!I31+'11'!I31 -> 0 | J31: ='5'!J31+'11'!J31 -> 0 | K31: ='5'!K31+'11'!K31 -> 0 | ... N31: ='5'!N31+'11'!N31 -> 0 | O31: X | P31: X | Q31: X | R31: ='5'!R31+'11'!R31 -> 0

Sheet ba6
B1: Cod funcţie | C1: Denumirea funcţiei | D1: Număr funcţii pe instituţie | J1: Număr persoane fizice lucrători de bază în funcţii ocupate
D2: total | F2: inclusiv în | J2: total | K2: inclusiv în | M2: repartizați pe grupe de vîrstă (din total, col. 7) | R2: inclusiv în localitatea rurală (din total, col. 7)
F3: instituţia de asistenţă medicală primară | H3: secţia consultativă | K3: instituţia de asistenţă medicală primară | L3: secţia consultativă | M3: <35 ani | N3: 35-44 ani | O3: 45-54 ani | P3: 55-64 ani | Q3: >65 ani
D4: scriptice | E4: ocupate | F4: scriptice | G4: ocupate | H4: scriptice | I4: ocupate
B5: A | C5: B | D5: 1 | E5: 2 | F5: 3 | G5: 4 | H5: 5 | I5: 6 | J5: 7 | K5: 8 | L5: 9 | M5: 10 | N5: 11 | O5: 12 | P5: 13 | Q5: 14 | R5: 15
B6: 100.0 | C6: Psihologi | D6: ='6'!D6+'12'!D6 -> 0 | E6: ='6'!E6+'12'!E6 -> 0 | F6: ='6'!F6+'12'!F6 -> 0 | G6: ='6'!G6+'12'!G6 -> 0 | H6: ='6'!H6+'12'!H6 -> 0 | I6: ='6'!I6+'12'!I6 -> 0 | J6: ='6'!J6+'12'!J6 -> 0 | K6: ='6'!K6+'12'!K6 -> 0 | ... R6: ='6'!R6+'12'!R6 -> 0
B7: 101.0 | C7: Farmacişti | D7: ='6'!D7+'12'!D7 -> 0 | E7: ='6'!E7+'12'!E7 -> 0 | F7: ='6'!F7+'12'!F7 -> 0 | G7: ='6'!G7+'12'!G7 -> 0 | H7: ='6'!H7+'12'!H7 -> 0 | I7: ='6'!I7+'12'!I7 -> 0 | J7: ='6'!J7+'12'!J7 -> 0 | K7: ='6'!K7+'12'!K7 -> 0 | ... R7: ='6'!R7+'12'!R7 -> 0
B8: 102.0 | C8: Asistenți medicali cu studii superioare (CORM 2221) | D8: ='6'!D8+'12'!D8 -> 0 | E8: ='6'!E8+'12'!E8 -> 0 | F8: ='6'!F8+'12'!F8 -> 0 | G8: ='6'!G8+'12'!G8 -> 0 | H8: ='6'!H8+'12'!H8 -> 0 | I8: ='6'!I8+'12'!I8 -> 0 | J8: ='6'!J8+'12'!J8 -> 0 | K8: ='6'!K8+'12'!K8 -> 0 | ... R8: ='6'!R8+'12'!R8 -> 0
B9: 103.0 | C9: Specialişti in domenii de sănătate publică (cu studii superioare, CORM 226319) | D9: ='6'!D9+'12'!D9 -> 0 | E9: ='6'!E9+'12'!E9 -> 0 | F9: ='6'!F9+'12'!F9 -> 0 | G9: ='6'!G9+'12'!G9 -> 0 | H9: ='6'!H9+'12'!H9 -> 0 | I9: ='6'!I9+'12'!I9 -> 0 | J9: ='6'!J9+'12'!J9 -> 0 | K9: ='6'!K9+'12'!K9 -> 0 | ... R9: ='6'!R9+'12'!R9 -> 0
B10: 103.1 | C10: Specialiști cu studii superioare nemedicale care ocupă funcții de laborant in medicină (chimist,biolog ) | D10: X | E10: X | F10: X | G10: X | H10: X | I10: X | J10: ='6'!J10+'12'!J10 -> 0 | K10: ='6'!K10+'12'!K10 -> 0 | L10: ='6'!L10+'12'!L10 -> 0 | M10: ='6'!M10+'12'!M10 -> 0 | N10: ='6'!N10+'12'!N10 -> 0 | O10: ='6'!O10+'12'!O10 -> 0 | P10: ='6'!P10+'12'!P10 -> 0 | Q10: ='6'!Q10+'12'!Q10 -> 0 | R10: ='6'!R10+'12'!R10 -> 0
B11: 103.2 | C11: Optometriști (CORM 226702) | D11: ='6'!D11+'12'!D11 -> 0 | E11: ='6'!E11+'12'!E11 -> 0 | F11: ='6'!F11+'12'!F11 -> 0 | G11: ='6'!G11+'12'!G11 -> 0 | H11: ='6'!H11+'12'!H11 -> 0 | I11: ='6'!I11+'12'!I11 -> 0 | J11: ='6'!J11+'12'!J11 -> 0 | K11: ='6'!K11+'12'!K11 -> 0 | ... R11: ='6'!R11+'12'!R11 -> 0
B12: 103.3 | C12: Tehnicieni radiologi cu studii superioare (CORM 226921) | D12: ='6'!D12+'12'!D12 -> 0 | E12: ='6'!E12+'12'!E12 -> 0 | F12: ='6'!F12+'12'!F12 -> 0 | G12: ='6'!G12+'12'!G12 -> 0 | H12: ='6'!H12+'12'!H12 -> 0 | I12: ='6'!I12+'12'!I12 -> 0 | J12: ='6'!J12+'12'!J12 -> 0 | K12: ='6'!K12+'12'!K12 -> 0 | ... R12: ='6'!R12+'12'!R12 -> 0
B13: 104.0 | C13: Număr personal medical mediu la sfîrşitul anului precedent | D13: ='6'!D13+'12'!D13 -> 1.5 | E13: ='6'!E13+'12'!E13 -> 1.5 | F13: ='6'!F13+'12'!F13 -> 0 | G13: ='6'!G13+'12'!G13 -> 0 | H13: ='6'!H13+'12'!H13 -> 0 | I13: ='6'!I13+'12'!I13 -> 0 | J13: ='6'!J13+'12'!J13 -> 1 | K13: ='6'!K13+'12'!K13 -> 0 | ... R13: ='6'!R13+'12'!R13 -> 1
A14: 19 | B14: 105.0 | C14: Angajaţi în cursul anului | D14: X | E14: X | F14: X | G14: X | H14: X | I14: X | J14: ='6'!J14+'12'!J14 -> 0 | K14: X | L14: X | M14: X | N14: X | O14: X | P14: X | Q14: X | R14: ='6'!R14+'12'!R14 -> 0
B15: 105.1 | C15: inclusiv din promoţia anului gestionar | D15: X | E15: X | F15: X | G15: X | H15: X | I15: X | J15: ='6'!J15+'12'!J15 -> 0 | K15: X | L15: X | M15: X | N15: X | O15: X | P15: X | Q15: X | R15: ='6'!R15+'12'!R15 -> 0
B16: 106.0 | C16: Eliberaţi în cursul anului | D16: X | E16: X | F16: X | G16: X | H16: X | I16: X | J16: ='6'!J16+'12'!J16 -> 0 | K16: X | L16: X | M16: X | N16: X | O16: X | P16: X | Q16: X | R16: ='6'!R16+'12'!R16 -> 0
B17: 107.0 | C17: Se află la finele anului | D17: ='6'!D17+'12'!D17 -> 1.5 | E17: ='6'!E17+'12'!E17 -> 1.5 | F17: ='6'!F17+'12'!F17 -> 0 | G17: ='6'!G17+'12'!G17 -> 0 | H17: ='6'!H17+'12'!H17 -> 0 | I17: ='6'!I17+'12'!I17 -> 0 | J17: ='6'!J17+'12'!J17 -> 1 | K17: ='6'!K17+'12'!K17 -> 0 | ... R17: ='6'!R17+'12'!R17 -> 1
B18: 107.1 | C18: inclusiv femei | D18: X | E18: X | F18: X | G18: X | H18: X | I18: X | J18: ='6'!J18+'12'!J18 -> 0 | K18: ='6'!K18+'12'!K18 -> 0 | L18: ='6'!L18+'12'!L18 -> 0 | M18: ='6'!M18+'12'!M18 -> 0 | N18: ='6'!N18+'12'!N18 -> 0 | O18: ='6'!O18+'12'!O18 -> 0 | P18: ='6'!P18+'12'!P18 -> 0 | Q18: ='6'!Q18+'12'!Q18 -> 0 | R18: ='6'!R18+'12'!R18 -> 0
B19: 108.0 | C19: Din număr total personal medical mediu (rînd. 107.0), asistenţi medicali | D19: ='6'!D19+'12'!D19 -> 0.5 | E19: ='6'!E19+'12'!E19 -> 0.5 | F19: ='6'!F19+'12'!F19 -> 0 | G19: ='6'!G19+'12'!G19 -> 0 | H19: ='6'!H19+'12'!H19 -> 0 | I19: ='6'!I19+'12'!I19 -> 0 | J19: ='6'!J19+'12'!J19 -> 0 | K19: ='6'!K19+'12'!K19 -> 0 | ... R19: ='6'!R19+'12'!R19 -> 0
B20: 108.1 | C20: inclusiv asistenţi medicali a medicilor de familie | D20: ='6'!D20+'12'!D20 -> 0 | E20: ='6'!E20+'12'!E20 -> 0 | F20: ='6'!F20+'12'!F20 -> 0 | G20: ='6'!G20+'12'!G20 -> 0 | H20: ='6'!H20+'12'!H20 -> 0 | I20: ='6'!I20+'12'!I20 -> 0 | J20: ='6'!J20+'12'!J20 -> 0 | K20: ='6'!K20+'12'!K20 -> 0 | ... R20: ='6'!R20+'12'!R20 -> 0
B21: 108.2 | C21: inclusiv asistenți medicali comunitari | D21: ='6'!D21+'12'!D21 -> 0 | E21: ='6'!E21+'12'!E21 -> 0 | F21: ='6'!F21+'12'!F21 -> 0 | G21: ='6'!G21+'12'!G21 -> 0 | H21: ='6'!H21+'12'!H21 -> 0 | I21: ='6'!I21+'12'!I21 -> 0 | J21: ='6'!J21+'12'!J21 -> 0 | K21: ='6'!K21+'12'!K21 -> 0 | ... R21: ='6'!R21+'12'!R21 -> 0
B22: 109.0 | C22: asistenţii medicului igienist | D22: ='6'!D22+'12'!D22 -> 0 | E22: ='6'!E22+'12'!E22 -> 0 | F22: ='6'!F22+'12'!F22 -> 0 | G22: ='6'!G22+'12'!G22 -> 0 | H22: ='6'!H22+'12'!H22 -> 0 | I22: ='6'!I22+'12'!I22 -> 0 | J22: ='6'!J22+'12'!J22 -> 0 | K22: ='6'!K22+'12'!K22 -> 0 | ... R22: ='6'!R22+'12'!R22 -> 0
B23: 110.0 | C23: asistenţii medicului epidemiolog | D23: ='6'!D23+'12'!D23 -> 0 | E23: ='6'!E23+'12'!E23 -> 0 | F23: ='6'!F23+'12'!F23 -> 0 | G23: ='6'!G23+'12'!G23 -> 0 | H23: ='6'!H23+'12'!H23 -> 0 | I23: ='6'!I23+'12'!I23 -> 0 | J23: ='6'!J23+'12'!J23 -> 0 | K23: ='6'!K23+'12'!K23 -> 0 | ... R23: ='6'!R23+'12'!R23 -> 0
B24: 111.0 | C24: moaşe | D24: ='6'!D24+'12'!D24 -> 0 | E24: ='6'!E24+'12'!E24 -> 0 | F24: ='6'!F24+'12'!F24 -> 0 | G24: ='6'!G24+'12'!G24 -> 0 | H24: ='6'!H24+'12'!H24 -> 0 | I24: ='6'!I24+'12'!I24 -> 0 | J24: ='6'!J24+'12'!J24 -> 0 | K24: ='6'!K24+'12'!K24 -> 0 | ... R24: ='6'!R24+'12'!R24 -> 0
B25: 112.0 | C25: felceri | D25: ='6'!D25+'12'!D25 -> 0 | E25: ='6'!E25+'12'!E25 -> 0 | F25: ='6'!F25+'12'!F25 -> 0 | G25: ='6'!G25+'12'!G25 -> 0 | H25: ='6'!H25+'12'!H25 -> 0 | I25: ='6'!I25+'12'!I25 -> 0 | J25: ='6'!J25+'12'!J25 -> 0 | K25: ='6'!K25+'12'!K25 -> 0 | ... R25: ='6'!R25+'12'!R25 -> 0
B26: 113.0 | C26: felceri-narcologi | D26: ='6'!D26+'12'!D26 -> 0 | E26: ='6'!E26+'12'!E26 -> 0 | F26: ='6'!F26+'12'!F26 -> 0 | G26: ='6'!G26+'12'!G26 -> 0 | H26: ='6'!H26+'12'!H26 -> 0 | I26: ='6'!I26+'12'!I26 -> 0 | J26: ='6'!J26+'12'!J26 -> 0 | K26: ='6'!K26+'12'!K26 -> 0 | ... R26: ='6'!R26+'12'!R26 -> 0
B27: 114.0 | C27: laboranţi | D27: ='6'!D27+'12'!D27 -> 0 | E27: ='6'!E27+'12'!E27 -> 0 | F27: ='6'!F27+'12'!F27 -> 0 | G27: ='6'!G27+'12'!G27 -> 0 | H27: ='6'!H27+'12'!H27 -> 0 | I27: ='6'!I27+'12'!I27 -> 0 | J27: ='6'!J27+'12'!J27 -> 0 | K27: ='6'!K27+'12'!K27 -> 0 | ... R27: ='6'!R27+'12'!R27 -> 0
D28: =SUM('ba7'!D6:D13) -> 1 | E28: =SUM('ba7'!E6:E13) -> 1 | F28: =SUM('ba7'!F6:F13) -> 0 | G28: =SUM('ba7'!G6:G13) -> 0 | H28: =SUM('ba7'!H6:H13) -> 0 | I28: =SUM('ba7'!I6:I13) -> 0 | J28: =SUM('ba7'!J6:J13) -> 1 | K28: =SUM('ba7'!K6:K13) -> 0 | ... R28: =SUM('ba7'!R6:R13) -> 1

Sheet ba7
B1: Cod funcţie | C1: Denumirea funcţiei | D1: Număr funcţii pe instituţie | J1: Număr persoane fizice lucrători de bază în funcţii ocupate
D2: total | F2: inclusiv în | J2: total | K2: inclusiv în | M2: repartizați pe grupe de vîrstă (din total, col. 7) | R2: inclusiv în localitatea rurală (din total, col. 7)
F3: instituţia de asistenţă medicală primară | H3: secţia consultativă | K3: instituţia de asistenţă medicală primară | L3: secţia consultativă | M3: <35 ani | N3: 35-44 ani | O3: 45-54 ani | P3: 55-64 ani | Q3: >65 ani
D4: scriptice | E4: ocupate | F4: scriptice | G4: ocupate | H4: scriptice | I4: ocupate
B5: A | C5: B | D5: 1 | E5: 2 | F5: 3 | G5: 4 | H5: 5 | I5: 6 | J5: 7 | K5: 8 | L5: 9 | M5: 10 | N5: 11 | O5: 12 | P5: 13 | Q5: 14 | R5: 15
B6: 115.0 | C6: tehnicieni-radiologi (studii profesional tehnice) | D6: ='7'!D6+'13'!D6 -> 0 | E6: ='7'!E6+'13'!E6 -> 0 | F6: ='7'!F6+'13'!F6 -> 0 | G6: ='7'!G6+'13'!G6 -> 0 | H6: ='7'!H6+'13'!H6 -> 0 | I6: ='7'!I6+'13'!I6 -> 0 | J6: ='7'!J6+'13'!J6 -> 0 | K6: ='7'!K6+'13'!K6 -> 0 | ... R6: ='7'!R6+'13'!R6 -> 0
B7: 116.0 | C7: statisticieni medicali | D7: ='7'!D7+'13'!D7 -> 0 | E7: ='7'!E7+'13'!E7 -> 0 | F7: ='7'!F7+'13'!F7 -> 0 | G7: ='7'!G7+'13'!G7 -> 0 | H7: ='7'!H7+'13'!H7 -> 0 | I7: ='7'!I7+'13'!I7 -> 0 | J7: ='7'!J7+'13'!J7 -> 0 | K7: ='7'!K7+'13'!K7 -> 0 | ... R7: ='7'!R7+'13'!R7 -> 0
B8: 117.0 | C8: tehnicieni- dentari | D8: ='7'!D8+'13'!D8 -> 1 | E8: ='7'!E8+'13'!E8 -> 1 | F8: ='7'!F8+'13'!F8 -> 0 | G8: ='7'!G8+'13'!G8 -> 0 | H8: ='7'!H8+'13'!H8 -> 0 | I8: ='7'!I8+'13'!I8 -> 0 | J8: ='7'!J8+'13'!J8 -> 1 | K8: ='7'!K8+'13'!K8 -> 0 | ... R8: ='7'!R8+'13'!R8 -> 1
B9: 118.0 | C9: registratori medicali | D9: ='7'!D9+'13'!D9 -> 0 | E9: ='7'!E9+'13'!E9 -> 0 | F9: ='7'!F9+'13'!F9 -> 0 | G9: ='7'!G9+'13'!G9 -> 0 | H9: ='7'!H9+'13'!H9 -> 0 | I9: ='7'!I9+'13'!I9 -> 0 | J9: ='7'!J9+'13'!J9 -> 0 | K9: ='7'!K9+'13'!K9 -> 0 | ... R9: ='7'!R9+'13'!R9 -> 0
B10: 119.0 | C10: instructori – dezinfecţionişti | D10: ='7'!D10+'13'!D10 -> 0 | E10: ='7'!E10+'13'!E10 -> 0 | F10: ='7'!F10+'13'!F10 -> 0 | G10: ='7'!G10+'13'!G10 -> 0 | H10: ='7'!H10+'13'!H10 -> 0 | I10: ='7'!I10+'13'!I10 -> 0 | J10: ='7'!J10+'13'!J10 -> 0 | K10: ='7'!K10+'13'!K10 -> 0 | ... R10: ='7'!R10+'13'!R10 -> 0
B11: 120.0 | C11: felceri în educaţie pentru sănătate | D11: ='7'!D11+'13'!D11 -> 0 | E11: ='7'!E11+'13'!E11 -> 0 | F11: ='7'!F11+'13'!F11 -> 0 | G11: ='7'!G11+'13'!G11 -> 0 | H11: ='7'!H11+'13'!H11 -> 0 | I11: ='7'!I11+'13'!I11 -> 0 | J11: ='7'!J11+'13'!J11 -> 0 | K11: ='7'!K11+'13'!K11 -> 0 | ... R11: ='7'!R11+'13'!R11 -> 0
B12: 121.0 | C12: dezinfectori | D12: ='7'!D12+'13'!D12 -> 0 | E12: ='7'!E12+'13'!E12 -> 0 | F12: ='7'!F12+'13'!F12 -> 0 | G12: ='7'!G12+'13'!G12 -> 0 | H12: ='7'!H12+'13'!H12 -> 0 | I12: ='7'!I12+'13'!I12 -> 0 | J12: ='7'!J12+'13'!J12 -> 0 | K12: ='7'!K12+'13'!K12 -> 0 | ... R12: ='7'!R12+'13'!R12 -> 0
B13: 122.0 | C13: alt personal medical mediu | D13: ='7'!D13+'13'!D13 -> 0 | E13: ='7'!E13+'13'!E13 -> 0 | F13: ='7'!F13+'13'!F13 -> 0 | G13: ='7'!G13+'13'!G13 -> 0 | H13: ='7'!H13+'13'!H13 -> 0 | I13: ='7'!I13+'13'!I13 -> 0 | J13: ='7'!J13+'13'!J13 -> 0 | K13: ='7'!K13+'13'!K13 -> 0 | ... R13: ='7'!R13+'13'!R13 -> 0
B14: 123.0 | C14: În afară de aceasta, fără studii medicale medii, ocupă funcţii- total | D14: X | E14: X | F14: X | G14: X | H14: X | I14: X | J14: ='7'!J14+'13'!J14 -> 0 | K14: ='7'!K14+'13'!K14 -> 0 | L14: ='7'!L14+'13'!L14 -> 0 | M14: ='7'!M14+'13'!M14 -> 0 | N14: ='7'!N14+'13'!N14 -> 0 | O14: ='7'!O14+'13'!O14 -> 0 | P14: ='7'!P14+'13'!P14 -> 0 | Q14: ='7'!Q14+'13'!Q14 -> 0 | R14: ='7'!R14+'13'!R14 -> 0
B15: 123.1 | C15: din ei: registratori medicali | D15: X | E15: X | F15: X | G15: X | H15: X | I15: X | J15: ='7'!J15+'13'!J15 -> 0 | K15: ='7'!K15+'13'!K15 -> 0 | L15: ='7'!L15+'13'!L15 -> 0 | M15: ='7'!M15+'13'!M15 -> 0 | N15: ='7'!N15+'13'!N15 -> 0 | O15: ='7'!O15+'13'!O15 -> 0 | P15: ='7'!P15+'13'!P15 -> 0 | Q15: ='7'!Q15+'13'!Q15 -> 0 | R15: ='7'!R15+'13'!R15 -> 0
A16: 20 | B16: 123.2 | C16: instructori – dezinfecţionişti | D16: X | E16: X | F16: X | G16: X | H16: X | I16: X | J16: ='7'!J16+'13'!J16 -> 0 | K16: ='7'!K16+'13'!K16 -> 0 | L16: ='7'!L16+'13'!L16 -> 0 | M16: ='7'!M16+'13'!M16 -> 0 | N16: ='7'!N16+'13'!N16 -> 0 | O16: ='7'!O16+'13'!O16 -> 0 | P16: ='7'!P16+'13'!P16 -> 0 | Q16: ='7'!Q16+'13'!Q16 -> 0 | R16: ='7'!R16+'13'!R16 -> 0
B17: 123.3 | C17: dezinfectori | D17: X | E17: X | F17: X | G17: X | H17: X | I17: X | J17: ='7'!J17+'13'!J17 -> 0 | K17: ='7'!K17+'13'!K17 -> 0 | L17: ='7'!L17+'13'!L17 -> 0 | M17: ='7'!M17+'13'!M17 -> 0 | N17: ='7'!N17+'13'!N17 -> 0 | O17: ='7'!O17+'13'!O17 -> 0 | P17: ='7'!P17+'13'!P17 -> 0 | Q17: ='7'!Q17+'13'!Q17 -> 0 | R17: ='7'!R17+'13'!R17 -> 0
B18: 123.4 | C18: alt personal medical mediu | D18: X | E18: X | F18: X | G18: X | H18: X | I18: X | J18: ='7'!J18+'13'!J18 -> 0 | K18: ='7'!K18+'13'!K18 -> 0 | L18: ='7'!L18+'13'!L18 -> 0 | M18: ='7'!M18+'13'!M18 -> 0 | N18: ='7'!N18+'13'!N18 -> 0 | O18: ='7'!O18+'13'!O18 -> 0 | P18: ='7'!P18+'13'!P18 -> 0 | Q18: ='7'!Q18+'13'!Q18 -> 0 | R18: ='7'!R18+'13'!R18 -> 0
B19: 124.0 | C19: Laboranţi – farmacişti - total | D19: ='7'!D19+'13'!D19 -> 0 | E19: ='7'!E19+'13'!E19 -> 0 | F19: ='7'!F19+'13'!F19 -> 0 | G19: ='7'!G19+'13'!G19 -> 0 | H19: ='7'!H19+'13'!H19 -> 0 | I19: ='7'!I19+'13'!I19 -> 0 | J19: ='7'!J19+'13'!J19 -> 0 | K19: ='7'!K19+'13'!K19 -> 0 | ... R19: ='7'!R19+'13'!R19 -> 0
B20: 124.1 | C20: din ei: în instituţiile medico – sanitare | D20: ='7'!D20+'13'!D20 -> 0 | E20: ='7'!E20+'13'!E20 -> 0 | F20: ='7'!F20+'13'!F20 -> 0 | G20: ='7'!G20+'13'!G20 -> 0 | H20: ='7'!H20+'13'!H20 -> 0 | I20: ='7'!I20+'13'!I20 -> 0 | J20: ='7'!J20+'13'!J20 -> 0 | K20: ='7'!K20+'13'!K20 -> 0 | ... R20: ='7'!R20+'13'!R20 -> 0
B21: 124.2 | C21: în asociaţia „Sanfarm-Prim” | D21: ='7'!D21+'13'!D21 -> 0 | E21: ='7'!E21+'13'!E21 -> 0 | F21: ='7'!F21+'13'!F21 -> 0 | G21: ='7'!G21+'13'!G21 -> 0 | H21: ='7'!H21+'13'!H21 -> 0 | I21: ='7'!I21+'13'!I21 -> 0 | J21: ='7'!J21+'13'!J21 -> 0 | K21: ='7'!K21+'13'!K21 -> 0 | ... R21: ='7'!R21+'13'!R21 -> 0
B22: 125.0 | C22: Surori medicale inferioare pentru îngrijirea bolnavilor | D22: ='7'!D22+'13'!D22 -> 0 | E22: ='7'!E22+'13'!E22 -> 0 | F22: ='7'!F22+'13'!F22 -> 0 | G22: ='7'!G22+'13'!G22 -> 0 | H22: ='7'!H22+'13'!H22 -> 0 | I22: ='7'!I22+'13'!I22 -> 0 | J22: ='7'!J22+'13'!J22 -> 0 | K22: ='7'!K22+'13'!K22 -> 0 | ... R22: ='7'!R22+'13'!R22 -> 0
B23: 126.0 | C23: Personal medical inferior | D23: ='7'!D23+'13'!D23 -> 0.5 | E23: ='7'!E23+'13'!E23 -> 0.5 | F23: ='7'!F23+'13'!F23 -> 0 | G23: ='7'!G23+'13'!G23 -> 0 | H23: ='7'!H23+'13'!H23 -> 0 | I23: ='7'!I23+'13'!I23 -> 0 | J23: ='7'!J23+'13'!J23 -> 1 | K23: ='7'!K23+'13'!K23 -> 0 | ... R23: ='7'!R23+'13'!R23 -> 1
B24: 127.0 | C24: Alt personal | D24: ='7'!D24+'13'!D24 -> 0 | E24: ='7'!E24+'13'!E24 -> 0 | F24: ='7'!F24+'13'!F24 -> 0 | G24: ='7'!G24+'13'!G24 -> 0 | H24: ='7'!H24+'13'!H24 -> 0 | I24: ='7'!I24+'13'!I24 -> 0 | J24: ='7'!J24+'13'!J24 -> 0 | K24: ='7'!K24+'13'!K24 -> 0 | ... R24: ='7'!R24+'13'!R24 -> 0
B25: 128.0 | C25: Total funcţii şi persoane fizice, care activează în instituţie | D25: ='7'!D25+'13'!D25 -> 3.5 | E25: ='7'!E25+'13'!E25 -> 3.5 | F25: ='7'!F25+'13'!F25 -> 0 | G25: ='7'!G25+'13'!G25 -> 0 | H25: ='7'!H25+'13'!H25 -> 0 | I25: ='7'!I25+'13'!I25 -> 0 | J25: ='7'!J25+'13'!J25 -> 3 | K25: ='7'!K25+'13'!K25 -> 0 | ... R25: ='7'!R25+'13'!R25 -> 3
D26: ='ba2'!D11+'ba6'!D6+'ba6'!D7+'ba6'!D8+'ba6'!D17+'ba7'!D19+'ba7'!D22+'ba7'!D23+'ba7'!D24+'ba5'!D31+'ba6'!D9+'ba6'!D11+'ba6'!D12 -> 3.5 | E26: ='ba2'!E11+'ba6'!E6+'ba6'!E7+'ba6'!E8+'ba6'!E17+'ba7'!E19+'ba7'!E22+'ba7'!E23+'ba7'!E24+'ba5'!E31+'ba6'!E9+'ba6'!E11+'ba6'!E12 -> 3.5 | F26: ='ba2'!F11+'ba6'!F6+'ba6'!F7+'ba6'!F8+'ba6'!F17+'ba7'!F19+'ba7'!F22+'ba7'!F23+'ba7'!F24+'ba5'!F31+'ba6'!F9+'ba6'!F11+'ba6'!F12 -> 0 | G26: ='ba2'!G11+'ba6'!G6+'ba6'!G7+'ba6'!G8+'ba6'!G17+'ba7'!G19+'ba7'!G22+'ba7'!G23+'ba7'!G24+'ba5'!G31+'ba6'!G9+'ba6'!G11+'ba6'!G12 -> 0 | H26: ='ba2'!H11+'ba6'!H6+'ba6'!H7+'ba6'!H8+'ba6'!H17+'ba7'!H19+'ba7'!H22+'ba7'!H23+'ba7'!H24+'ba5'!H31+'ba6'!H9+'ba6'!H11+'ba6'!H12 -> 0 | I26: ='ba2'!I11+'ba6'!I6+'ba6'!I7+'ba6'!I8+'ba6'!I17+'ba7'!I19+'ba7'!I22+'ba7'!I23+'ba7'!I24+'ba5'!I31+'ba6'!I9+'ba6'!I11+'ba6'!I12 -> 0 | J26: ='ba2'!J11+'ba6'!J6+'ba6'!J7+'ba6'!J8+'ba6'!J17+'ba7'!J19+'ba7'!J22+'ba7'!J23+'ba7'!J24+J14+'ba6'!J9+'ba5'!J31+'ba6'!J10+'ba6'!J11+'ba6'!J12 -> 3 | K26: ='ba2'!K11+'ba6'!K6+'ba6'!K7+'ba6'!K8+'ba6'!K17+'ba7'!K19+'ba7'!K22+'ba7'!K23+'ba7'!K24+K14+'ba6'!K9+'ba5'!K31+'ba6'!K10+'ba6'!K11+'ba6'!K12 -> 0 | L26: ='ba2'!L11+'ba6'!L6+'ba6'!L7+'ba6'!L8+'ba6'!L17+'ba7'!L19+'ba7'!L22+'ba7'!L23+'ba7'!L24+L14+'ba6'!L9+'ba5'!L31+'ba6'!L10+'ba6'!L11+'ba6'!L12 -> 0 | M26: ='ba2'!M11+'ba6'!M6+'ba6'!M7+'ba6'!M8+'ba6'!M17+'ba7'!M19+'ba7'!M22+'ba7'!M23+'ba7'!M24+M14+'ba6'!M9+'ba5'!M31+'ba6'!M10+'ba6'!M11+'ba6'!M12 -> 1 | N26: ='ba2'!N11+'ba6'!N6+'ba6'!N7+'ba6'!N8+'ba6'!N17+'ba7'!N19+'ba7'!N22+'ba7'!N23+'ba7'!N24+N14+'ba6'!N9+'ba5'!N31+'ba6'!N10+'ba6'!N11+'ba6'!N12 -> 1 | O26: ='ba2'!O11+'ba6'!O6+'ba6'!O7+'ba6'!O8+'ba6'!O17+'ba7'!O19+'ba7'!O22+'ba7'!O23+'ba7'!O24+O14+'ba6'!O9+'ba6'!O10+'ba6'!O11+'ba6'!O12 -> 0 | P26: ='ba2'!P11+'ba6'!P6+'ba6'!P7+'ba6'!P8+'ba6'!P17+'ba7'!P19+'ba7'!P22+'ba7'!P23+'ba7'!P24+P14+'ba6'!P9+'ba6'!P10+'ba6'!P11+'ba6'!P12 -> 1 | Q26: ='ba2'!Q11+'ba6'!Q6+'ba6'!Q7+'ba6'!Q8+'ba6'!Q17+'ba7'!Q19+'ba7'!Q22+'ba7'!Q23+'ba7'!Q24+Q14+'ba6'!Q9+'ba6'!Q10+'ba6'!Q11+'ba6'!Q12 -> 0 | R26: ='ba2'!R11+'ba6'!R6+'ba6'!R7+'ba6'!R8+'ba6'!R17+'ba7'!R19+'ba7'!R22+'ba7'!R23+'ba7'!R24+R14+'ba6'!R9+'ba5'!R31+'ba6'!R10+'ba6'!R11+'ba6'!R12 -> 3

Sheet Лист1
