Workbook
Name Raion: '1'!$H$33
Name Raion: '1'!$H$33
Name Rubrici: [1]populatia!$D$6:$DA$6
Name Tabel_Populatia: [1]populatia!$D$6:$DA$1000

Sheet 1
A2: RAPORT STATISTIC DE RAMURĂ
K3: In conformitate cu Legea Republicii Moldova Nr. 93/2017 „Cu privire la statistica oficială”: - producătorii de date statistice oficiale au dreptul să colecteze datele individuale și agregate necesare producerii și diseminării de statistici oficiale de la toate persoanele fizice sau juridice care cad sub incidența prezentei legi, inclusiv din sursele de date administrative și private (Art.13); - producătorii de date statistice oficiale întreprind toate măsurile regulatorii, administrative, tehnice şi organizatorice pentru protecţia datelor confidenţiale şi neadmiterea divulgării lor (Art. 19); - furnizor de date este persoană fizică sau juridică deținătoare și/sau posesoare de surse de date administrative sau private, care este obligată să ofere datele necesare pentru producerea de statistici oficiale. (Art. 3) Aprobat de Ministerul Sănătății al Republicii Moldova prin ordinul Nr. 1058 din 20.12.2024 Prezintă: - spitalul raional, centrul medicilor de familie, centrul de sănătate autonom;direcţia/secţia sănătăţii mun. Chişinău, mun. Bălţi şi UTA Găgăuzia prezintă rapoartele statistice a instituţiilor subordonate; CSP (raional, municipal, UTA Găgăuzia); instituţia medico-sanitară republicană – MS - către Agenția Națională pentru Sănătate Publică; instituţia altor Ministere şi Departamente - MS al Republicii Moldova (către ANSP); instituția medico-sanitară privată,agentul economic privat,care dispune de licență pentru prestarea serviciilor medicale; puctele medicale ale caselor de copii și școlilor internate; punctele medicale pe lîngă întreprinderi și instituții - MS (către ANSP).
A4: Denumirea instituției:
A5: Denat-Ilaşciuc Î.I
A9: Adresa:
F10: RAPORT STATISTIC Nr. 17
A11: Raionul (municipiul) | C11: Cahul | F11: (anual)
A14: Satul (comuna) | C14: Zîrneşti | F14: PRIVIND STATELE DE FUNCŢII ŞI CADRELE INSTITUŢIEI MEDICO- SANITARE
A17: Strada | B17: Ştefan cel Mare si Sf]nt | D17: , nr | E17: 42
A20: Cod CUIÎO
A23: Cod IDNO | C23: 1006603001094
C25: Cod CAEM-2
G27: pentru anul | H27: 24
A28: Activitatea principală
B29: Stomatologie
F32: CODUL MUNICIPIULUI / RAIONULUI
A33: Conducătorul L.Ş. Руководитель М.П. | H33: 7
A36: Datele de contact ale executantului:
A37: Nume, prenume
B38: Ilaşciuc Eduard
A40: Tel: | B40: 069004363
F41: Ziua | G41: Luna | I41: Anul
A42: e-mail: | B42: ilasciuc68@mail.ru | F42: 21 | G42: 01 | I42: 2025

Sheet 2
B1: 1000. 1. Statele de funcţii şi cadrele instituţiei medico – sanitare
B2: Cod funcţie | C2: Denumirea funcţiei | D2: Număr funcţii pe instituţie | J2: Număr persoane fizice lucrători de bază în funcţii ocupate
D3: total | F3: inclusiv în | J3: total | K3: inclusiv în | M3: repartizați pe grupe de vîrstă (din total, col. 7) | R3: inclusiv în localitatea rurală (din total, col. 7)
F4: instituţia de asistenţă medicală primară | H4: secţia consultativă | K4: instituţia de asistenţă medicală primară | L4: secţia consultativă | M4: <35 ani | N4: 35-44 ani | O4: 45-54 ani | P4: 55-64 ani | Q4: >65 ani
D5: scriptice | E5: ocupate | F5: scriptice | G5: ocupate | H5: scriptice | I5: ocupate
B6: A | C6: B | D6: 1 | E6: 2 | F6: 3 | G6: 4 | H6: 5 | I6: 6 | J6: 7 | K6: 8 | L6: 9 | M6: 10 | N6: 11 | O6: 12 | P6: 13 | Q6: 14 | R6: 15
B7: 1.0 | C7: Număr medici la sfîrşitul anului precedent
B8: 2.0 | C8: Angajaţi în cursul anului | D8: X | E8: X | F8: X | G8: X | H8: X | I8: X | K8: X | L8: X | M8: X | N8: X | O8: X | P8: X | Q8: X
B9: 2.1 | C9: inclusiv din promoţia anului gestionar | D9: X | E9: X | F9: X | G9: X | H9: X | I9: X | K9: X | L9: X | M9: X | N9: X | O9: X | P9: X | Q9: X
B10: 3.0 | C10: Eliberaţi în cursul anului | D10: X | E10: X | F10: X | G10: X | H10: X | I10: X | K10: X | L10: X | M10: X | N10: X | O10: X | P10: X | Q10: X
B11: 4.0 | C11: Se află la finele anului
B12: 4.1 | C12: inclusiv femei | D12: X | E12: X | F12: X | G12: X | H12: X | I12: X
B13: 5.0 | C13: Din număr total medici (rînd. 4.0) conducătorii instituţiilor
A14: 2 | B14: 6.0 | C14: medici de familie
B15: 7.0 | C15: internişti
B16: 8.0 | C16: internişti аi cabinetelor pentru adolescenţi
B17: 9.0 | C17: reumatologi
B18: 10.0 | C18: cardiologi
B19: 11.0 | C19: gastroenterologi
B20: 12.0 | C20: gastroenterologi pentru copii
B21: 13.0 | C21: dietologi | F21: X | G21: X | H21: X | I21: X | K21: X | L21: X
B22: 14.0 | C22: nefrologi
B23: 15.0 | C23: endocrinologi
B24: 16.0 | C24: endocrinologi pentru copii
B25: 17.0 | C25: alergologi
B26: 18.0 | C26: hematologi
B27: 19.0 | C27: infecţionişti
B28: 20.0 | C28: infecţionişti pentru copii
B29: 21.0 | C29: fizioterapeuţi
D30: =SUM(D13:D29)+SUM('3'!D6:D31)+SUM('4'!D6:D38)+SUM('5'!D8:D30)-'3'!D30-'4'!D7 -> 0 | E30: =SUM(E13:E29)+SUM('3'!E6:E31)+SUM('4'!E6:E38)+SUM('5'!E8:E30)-'3'!E30-'4'!E7 -> 0 | F30: =SUM(F13:F29)+SUM('3'!F6:F31)+SUM('4'!F6:F38)+SUM('5'!F6:F30)-'3'!F30-'4'!F7 -> 0 | G30: =SUM(G13:G29)+SUM('3'!G6:G31)+SUM('4'!G6:G38)+SUM('5'!G6:G30)-'3'!G30-'4'!G7 -> 0 | H30: =SUM(H13:H29)+SUM('3'!H6:H31)+SUM('4'!H6:H38)+SUM('5'!H6:H30)-'3'!H30-'4'!H7 -> 0 | I30: =SUM(I13:I29)+SUM('3'!I6:I31)+SUM('4'!I6:I38)+SUM('5'!I6:I30)-'3'!I30-'4'!I7 -> 0 | J30: =SUM(J13:J29)+SUM('3'!J6:J31)+SUM('4'!J6:J38)+SUM('5'!J8:J30)-'3'!J30-'4'!J7 -> 0 | K30: =SUM(K13:K29)+SUM('3'!K6:K31)+SUM('4'!K6:K38)+SUM('5'!K6:K30)-'3'!K30-'4'!K7 -> 0 | L30: =SUM(L13:L29)+SUM('3'!L6:L31)+SUM('4'!L6:L38)+SUM('5'!L6:L30)-'3'!L30-'4'!L7 -> 0 | M30: =SUM(M13:M29)+SUM('3'!M6:M31)+SUM('4'!M6:M38)+SUM('5'!M8:M30)-'3'!M30-'4'!M7 -> 0 | N30: =SUM(N13:N29)+SUM('3'!N6:N31)+SUM('4'!N6:N38)+SUM('5'!N8:N30)-'3'!N30-'4'!N7 -> 0 | O30: =SUM(O13:O29)+SUM('3'!O6:O31)+SUM('4'!O6:O38)+SUM('5'!O8:O30)-'3'!O30-'4'!O7 -> 0 | P30: =SUM(P13:P29)+SUM('3'!P6:P31)+SUM('4'!P6:P38)+SUM('5'!P8:P30)-'3'!P30-'4'!P7 -> 0 | Q30: =SUM(Q13:Q29)+SUM('3'!Q6:Q31)+SUM('4'!Q6:Q38)+SUM('5'!Q8:Q30)-'3'!Q30-'4'!Q7 -> 0 | R30: =SUM(R13:R29)+SUM('3'!R6:R31)+SUM('4'!R6:R38)+SUM('5'!R6:R30)-'3'!R30-'4'!R7 -> 0

Sheet 3
B1: Cod funcţie | C1: Denumirea funcţiei | D1: Număr funcţii pe instituţie | J1: Număr persoane fizice lucrători de bază în funcţii ocupate
D2: total | F2: inclusiv în | J2: total | K2: inclusiv în | M2: repartizați pe grupe de vîrstă (din total, col. 7) | R2: inclusiv în localitatea rurală (din total, col. 7)
F3: instituţia de asistenţă medicală primară | H3: secţia consultativă | K3: instituţia de asistenţă medicală primară | L3: secţia consultativă | M3: <35 ani | N3: 35-44 ani | O3: 45-54 ani | P3: 55-64 ani | Q3: >65 ani
D4: scriptice | E4: ocupate | F4: scriptice | G4: ocupate | H4: scriptice | I4: ocupate
B5: A | C5: B | D5: 1 | E5: 2 | F5: 3 | G5: 4 | H5: 5 | I5: 6 | J5: 7 | K5: 8 | L5: 9 | M5: 10 | N5: 11 | O5: 12 | P5: 13 | Q5: 14 | R5: 15
B6: 22.0 | C6: medici medicină tradiţională
B7: 23.0 | C7: kinetoterapeuţi
B8: 24.0 | C8: medici medicină sportivă
B9: 25.0 | C9: medici diagnostic funcţional
B10: 26.0 | C10: geneticieni
B11: 27.0 | C11: toxicologi
B12: 28.0 | C12: geriatri
B13: 29.0 | C13: medici de urgenţă
B14: 30.0 | C14: imagişti-sonografie
A15: 3 | B15: 31.0 | C15: chirurgi
B16: 32.0 | C16: chirurgi pentru copii
B17: 33.0 | C17: chirurgi cardiovasculari
B18: 34.0 | C18: chirurgi toracali
B19: 35.0 | C19: proctologi
B20: 36.0 | C20: ortopezi-traumatologi
B21: 37.0 | C21: ortopezi-traumatologi pentru copii
B22: 38.0 | C22: urologi
B23: 39.0 | C23: urologi pentru copii
B24: 40.0 | C24: neurochirurgi
B25: 41.0 | C25: anesteziologi-reanimatologi
B26: 42.0 | C26: anesteziologi-reanimatologi pentru copii
B27: 43.0 | C27: endoscopişti
... B31: 46.0 | C31: obstetricieni – ginecologi pentru copii

Sheet 4
B1: Cod funcţie | C1: Denumirea funcţiei | D1: Număr funcţii pe instituţie | J1: Număr persoane fizice lucrători de bază în funcţii ocupate
D2: total | F2: inclusiv în | J2: total | K2: inclusiv în | M2: repartizați pe grupe de vîrstă (din total, col. 7) | R2: inclusiv în localitatea rurală (din total, col. 7)
F3: instituţia de asistenţă medicală primară | H3: secţia consultativă | K3: instituţia de asistenţă medicală primară | L3: secţia consultativă | M3: <35 ani | N3: 35-44 ani | O3: 45-54 ani | P3: 55-64 ani | Q3: >65 ani
D4: scriptice | E4: ocupate | F4: scriptice | G4: ocupate | H4: scriptice | I4: ocupate
B5: A | C5: B | D5: 1 | E5: 2 | F5: 3 | G5: 4 | H5: 5 | I5: 6 | J5: 7 | K5: 8 | L5: 9 | M5: 10 | N5: 11 | O5: 12 | P5: 13 | Q5: 14 | R5: 15
B6: 47.0 | C6: pediatri
B7: 47.1 | C7: inclusiv pediatri – consultanţi
B8: 48.0 | C8: neonatologi
B9: 49.0 | C9: cardioreumatologi pediatri
B10: 50.0 | C10: oftalmologi
B11: 51.0 | C11: oftalmologi pentru copii
B12: 52.0 | C12: otorinolaringologi
B13: 53.0 | C13: otorinolaringologi pentru copii
B14: 54.0 | C14: audiolog-surdolog
B15: 55.0 | C15: ftiziopneumologi
A16: 4 | B16: 56.0 | C16: ftiziopneumologi pentru copii
B17: 57.0 | C17: neurologi
B18: 58.0 | C18: neurologi pentru copii
B19: 59.0 | C19: psihiatri
B20: 60.0 | C20: psihiatri pentru copii
B21: 61.0 | C21: narcologi
B22: 62.0 | C22: psihoterapeuţi
B23: 63.0 | C23: experţi psihiatrie judiciară
B24: 64.0 | C24: epidemiologi
B25: 65.0 | C25: dezinfecţionişti
B26: 66.0 | C26: parazitologi | D26: X | E26: X | J26: X | M26: X | N26: X | O26: X | P26: X | Q26: X | R26: X
B27: 67.0 | C27: microbiologi
B28: 68.0 | C28: inspectori
B29: 69.0 | C29: medici igienişti pe: igiena generală
B30: 70.0 | C30: medici specialiști врачи специалисты
B31: 71.0 | C31: igiena alimentară гигиене питания | D31: X | E31: X | J31: X | O31: X | P31: X | Q31: X
B32: 72.0 | C32: igiena muncii гигиене труда | D32: X | E32: X | J32: X | O32: X | P32: X | Q32: X
B33: 73.0 | C33: igiena radiaţiilor радиационной гигиене | D33: X | E33: X | J33: X | O33: X | P33: X | Q33: X
B38: 70.0 | C38: medici specialiști | D38: X | E38: X | F38: X | G38: X | H38: X | I38: X | J38: X | K38: X | L38: X | M38: X | N38: X | O38: X | P38: X | Q38: X | R38: X
B39: 71.0 | C39: igiena alimentară | D39: X | E39: X | J39: X | M39: X | N39: X | O39: X | P39: X | Q39: X | R39: X
B40: 72.0 | C40: igiena muncii | D40: X | E40: X | J40: X | M40: X | N40: X | O40: X | P40: X | Q40: X | R40: X
B41: 73.0 | C41: igiena radiaţiilor | D41: X | E41: X | J41: X | M41: X | N41: X | O41: X | P41: X | Q41: X | R41: X

Sheet 5
B1: Cod funcţie | C1: Denumirea funcţiei | D1: Număr funcţii pe instituţie | J1: Număr persoane fizice lucrători de bază în funcţii ocupate
D2: total | F2: inclusiv în | J2: total | K2: inclusiv în | M2: repartizați pe grupe de vîrstă (din total, col. 7) | R2: inclusiv în localitatea rurală (din total, col. 7)
F3: instituţia de asistenţă medicală primară | H3: secţia consultativă | K3: instituţia de asistenţă medicală primară | L3: secţia consultativă | M3: <35 ani | N3: 35-44 ani | O3: 45-54 ani | P3: 55-64 ani | Q3: >65 ani
D4: scriptice | E4: ocupate | F4: scriptice | G4: ocupate | H4: scriptice | I4: ocupate
B5: A | C5: B | D5: 1 | E5: 2 | F5: 3 | G5: 4 | H5: 5 | I5: 6 | J5: 7 | K5: 8 | L5: 9 | M5: 10 | N5: 11 | O5: 12 | P5: 13 | Q5: 14 | R5: 15
B6: 74.0 | C6: igiena mediului ambiant şi habitatului uman | D6: X | E6: X | J6: X | M6: X | N6: X | O6: X | P6: X | Q6: X | R6: X
B7: 75.0 | C7: educaţie pentru sănătate | D7: X | E7: X | J7: X | M7: X | N7: X | O7: X | P7: X | Q7: X | R7: X
B8: 76.0 | C8: stоmatologi
B9: 77.0 | C9: stоmatologi pentru copii
B10: 78.0 | C10: stоmatologi chirurgi
B11: 79.0 | C11: stоmatologi ortopezi
B12: 80.0 | C12: stоmatologi ortodonţi
B13: 81.0 | C13: imagişti-radiologi
B14: 82.0 | C14: imagişti-radiologi (radioterapeuţi)
B15: 83.0 | C15: imagişti- medicina nucleară
A16: 5 | B16: 84.0 | C16: experţi medicină legală de profil general
B17: 85.0 | C17: experţi medicină legală subdiviziunilor de laborator
B18: 86.0 | C18: morfopatologi | F18: X | G18: X | K18: X
B19: 87.0 | C19: laboranţi
B20: 88.0 | C20: laboranţi-geneticieni
B21: 89.0 | C21: farmacologi clinici
B22: 90.0 | C22: transfuziologi
B23: 91.0 | C23: imunologi
B24: 92.0 | C24: sexopatologi
B25: 93.0 | C25: andrologi
B26: 94.0 | C26: statisticieni
B27: 95.0 | C27: metodişti
B28: 96.0 | C28: dermato-venerologi
B29: 97.0
B30: 98.0 | C30: alţi specialişti
B31: 99.0 | C31: În afară de aceasta: rezidenţi | O31: X | P31: X | Q31: X

Sheet 6
B1: Cod funcţie | C1: Denumirea funcţiei | D1: Număr funcţii pe instituţie | J1: Număr persoane fizice lucrători de bază în funcţii ocupate
D2: total | F2: inclusiv în | J2: total | K2: inclusiv în | M2: repartizați pe grupe de vîrstă (din total, col. 7) | R2: inclusiv în localitatea rurală (din total, col. 7)
F3: instituţia de asistenţă medicală primară | H3: secţia consultativă | K3: instituţia de asistenţă medicală primară | L3: secţia consultativă | M3: <35 ani | N3: 35-44 ani | O3: 45-54 ani | P3: 55-64 ani | Q3: >65 ani
D4: scriptice | E4: ocupate | F4: scriptice | G4: ocupate | H4: scriptice | I4: ocupate
B5: A | C5: B | D5: 1 | E5: 2 | F5: 3 | G5: 4 | H5: 5 | I5: 6 | J5: 7 | K5: 8 | L5: 9 | M5: 10 | N5: 11 | O5: 12 | P5: 13 | Q5: 14 | R5: 15
B6: 100.0 | C6: Psihologi
B7: 101.0 | C7: Farmacişti
B8: 102.0 | C8: Asistenți medicali cu studii superioare (CORM 2221)
B9: 103.0 | C9: Specialişti in domenii de sănătate publică (cu studii superioare, CORM 226319)
B10: 103.1 | C10: Specialiști cu studii superioare nemedicale care ocupă funcții de laborant in medicină (chimist,biolog ) | D10: X | E10: X | F10: X | G10: X | H10: X | I10: X
B11: 103.2 | C11: Optometriști (CORM 226702)
B12: 103.3 | C12: Tehnicieni radiologi cu studii superioare (CORM 226921)
B13: 104.0 | C13: Număr personal medical mediu la sfîrşitul anului precedent
A14: 6 | B14: 105.0 | C14: Angajaţi în cursul anului | D14: X | E14: X | F14: X | G14: X | H14: X | I14: X | K14: X | L14: X | M14: X | N14: X | O14: X | P14: X | Q14: X
B15: 105.1 | C15: inclusiv din promoţia anului gestionar | D15: X | E15: X | F15: X | G15: X | H15: X | I15: X | K15: X | L15: X | M15: X | N15: X | O15: X | P15: X | Q15: X
B16: 106.0 | C16: Eliberaţi în cursul anului | D16: X | E16: X | F16: X | G16: X | H16: X | I16: X | K16: X | L16: X | M16: X | N16: X | O16: X | P16: X | Q16: X
B17: 107.0 | C17: Se află la finele anului
B18: 107.1 | C18: inclusiv femei | D18: X | E18: X | F18: X | G18: X | H18: X | I18: X
B19: 108.0 | C19: Din număr total personal medical mediu (rînd. 107.0), asistenţi medicali
B20: 108.1 | C20: inclusiv asistenţi medicali a medicilor de familie
B21: 108.2 | C21: inclusiv asistenți medicali comunitari
B22: 109.0 | C22: asistenţii medicului igienist
B23: 110.0 | C23: asistenţii medicului epidemiolog
B24: 111.0 | C24: moaşe
B25: 112.0 | C25: felceri
B26: 113.0 | C26: felceri-narcologi
B27: 114.0 | C27: laboranţi
D28: =SUM('7'!D6:D13) -> 0 | E28: =SUM('7'!E6:E13) -> 0 | F28: =SUM('7'!F6:F13) -> 0 | G28: =SUM('7'!G6:G13) -> 0 | H28: =SUM('7'!H6:H13) -> 0 | I28: =SUM('7'!I6:I13) -> 0 | J28: =SUM('7'!J6:J13) -> 0 | K28: =SUM('7'!K6:K13) -> 0 | ... R28: =SUM('7'!R6:R13) -> 0

Sheet 7
B1: Cod funcţie | C1: Denumirea funcţiei | D1: Număr funcţii pe instituţie | J1: Număr persoane fizice lucrători de bază în funcţii ocupate
D2: total | F2: inclusiv în | J2: total | K2: inclusiv în | M2: repartizați pe grupe de vîrstă (din total, col. 7) | R2: inclusiv în localitatea rurală (din total, col. 7)
F3: instituţia de asistenţă medicală primară | H3: secţia consultativă | K3: instituţia de asistenţă medicală primară | L3: secţia consultativă | M3: <35 ani | N3: 35-44 ani | O3: 45-54 ani | P3: 55-64 ani | Q3: >65 ani
D4: scriptice | E4: ocupate | F4: scriptice | G4: ocupate | H4: scriptice | I4: ocupate
B5: A | C5: B | D5: 1 | E5: 2 | F5: 3 | G5: 4 | H5: 5 | I5: 6 | J5: 7 | K5: 8 | L5: 9 | M5: 10 | N5: 11 | O5: 12 | P5: 13 | Q5: 14 | R5: 15
B6: 115.0 | C6: tehnicieni-radiologi (studii profesional tehnice)
B7: 116.0 | C7: statisticieni medicali
B8: 117.0 | C8: tehnicieni-dentari
B9: 118.0 | C9: registratori medicali
B10: 119.0 | C10: instructori – dezinfecţionişti
B11: 120.0 | C11: felceri în educaţie pentru sănătate
B12: 121.0 | C12: dezinfectori
B13: 122.0 | C13: alt personal medical mediu
B14: 123.0 | C14: În afară de aceasta, fără studii medicale medii, ocupă funcţii- total | D14: X | E14: X | F14: X | G14: X | H14: X | I14: X
B15: 123.1 | C15: din ei: registratori medicali | D15: X | E15: X | F15: X | G15: X | H15: X | I15: X
A16: 7 | B16: 123.2 | C16: instructori – dezinfecţionişti | D16: X | E16: X | F16: X | G16: X | H16: X | I16: X
B17: 123.3 | C17: dezinfectori | D17: X | E17: X | F17: X | G17: X | H17: X | I17: X
B18: 123.4 | C18: alt personal medical mediu | D18: X | E18: X | F18: X | G18: X | H18: X | I18: X
B19: 124.0 | C19: Laboranţi – farmacişti - total
B20: 124.1 | C20: din ei: în instituţiile medico – sanitare
B21: 124.2 | C21: în asociaţia „Sanfarm-Prim”
B22: 125.0 | C22: Surori medicale inferioare pentru îngrijirea bolnavilor
B23: 126.0 | C23: Personal medical inferior
B24: 127.0 | C24: Alt personal
B25: 128.0 | C25: Total funcţii şi persoane fizice, care activează în instituţie
D26: ='2'!D11+'6'!D6+'6'!D7+'6'!D8+'6'!D17+'7'!D19+'7'!D22+'7'!D23+'7'!D24+'5'!D31+'6'!D9+'6'!D11+'6'!D12 -> 0 | E26: ='2'!E11+'6'!E6+'6'!E7+'6'!E8+'6'!E17+'7'!E19+'7'!E22+'7'!E23+'7'!E24+'5'!E31+'6'!E9+'6'!E11+'6'!E12 -> 0 | F26: ='2'!F11+'6'!F6+'6'!F7+'6'!F8+'6'!F17+'7'!F19+'7'!F22+'7'!F23+'7'!F24+'5'!F31+'6'!F9+'6'!F11+'6'!F12 -> 0 | G26: ='2'!G11+'6'!G6+'6'!G7+'6'!G8+'6'!G17+'7'!G19+'7'!G22+'7'!G23+'7'!G24+'5'!G31+'6'!G9+'6'!G11+'6'!G12 -> 0 | H26: ='2'!H11+'6'!H6+'6'!H7+'6'!H8+'6'!H17+'7'!H19+'7'!H22+'7'!H23+'7'!H24+'5'!H31+'6'!H9+'6'!H11+'6'!H12 -> 0 | I26: ='2'!I11+'6'!I6+'6'!I7+'6'!I8+'6'!I17+'7'!I19+'7'!I22+'7'!I23+'7'!I24+'5'!I31+'6'!I9+'6'!I11+'6'!I12 -> 0 | J26: ='2'!J11+'6'!J6+'6'!J7+'6'!J8+'6'!J17+'7'!J19+'7'!J22+'7'!J23+'7'!J24+'7'!J14+'6'!J9+'5'!J31+'6'!J10+'6'!J11+'6'!J12 -> 0 | K26: ='2'!K11+'6'!K6+'6'!K7+'6'!K8+'6'!K17+'7'!K19+'7'!K22+'7'!K23+'7'!K24+K14+'6'!K9+'5'!K31+'6'!K10+'6'!K11+'6'!K12 -> 0 | L26: ='2'!L11+'6'!L6+'6'!L7+'6'!L8+'6'!L17+'7'!L19+'7'!L22+'7'!L23+'7'!L24+L14+'6'!L9+'5'!L31+'6'!L10+'6'!L11+'6'!L12 -> 0 | M26: ='2'!M11+'6'!M6+'6'!M7+'6'!M8+'6'!M17+'7'!M19+'7'!M22+'7'!M23+'7'!M24+M14+'6'!M9+'5'!M31+'6'!M10+'6'!M11+'6'!M12 -> 0 | N26: ='2'!N11+'6'!N6+'6'!N7+'6'!N8+'6'!N17+'7'!N19+'7'!N22+'7'!N23+'7'!N24+N14+'6'!N9+'5'!N31+'6'!N10+'6'!N11+'6'!N12 -> 0 | O26: ='2'!O11+'6'!O6+'6'!O7+'6'!O8+'6'!O17+'7'!O19+'7'!O22+'7'!O23+'7'!O24+O14+'6'!O9+'6'!O10+'6'!O11+'6'!O12 -> 0 | P26: ='2'!P11+'6'!P6+'6'!P7+'6'!P8+'6'!P17+'7'!P19+'7'!P22+'7'!P23+'7'!P24+P14+'6'!P9+'6'!P10+'6'!P11+'6'!P12 -> 0 | Q26: ='2'!Q11+'6'!Q6+'6'!Q7+'6'!Q8+'6'!Q17+'7'!Q19+'7'!Q22+'7'!Q23+'7'!Q24+Q14+'6'!Q9+'6'!Q10+'6'!Q11+'6'!Q12 -> 0 | R26: ='2'!R11+'6'!R6+'6'!R7+'6'!R8+'6'!R17+'7'!R19+'7'!R22+'7'!R23+'7'!R24+R14+'6'!R9+'5'!R31+'6'!R10+'6'!R11+'6'!R12 -> 0

Sheet 8
B1: 2000. 2. Statele de funcţii şi cadrele medicale ale instituţiei (secţiei) la autogestiune şi mijloace speciale
B2: Cod funcţie | C2: Denumirea funcţiei | D2: Număr funcţii pe instituţie | J2: Număr persoane fizice lucrători de bază în funcţii ocupate
D3: total | F3: inclusiv în | J3: total | K3: inclusiv în | M3: repartizați pe grupe de vîrstă (din total, col. 7) | R3: inclusiv în localitatea rurală (din total, col. 7)
F4: instituţia de asistenţă medicală primară | H4: secţia consultativă | K4: instituţia de asistenţă medicală primară | L4: secţia consultativă | M4: <35 ani | N4: 35-44 ani | O4: 45-54 ani | P4: 55-64 ani | Q4: >65 ani
D5: scriptice | E5: ocupate | F5: scriptice | G5: ocupate | H5: scriptice | I5: ocupate
B6: A | C6: B | D6: 1 | E6: 2 | F6: 3 | G6: 4 | H6: 5 | I6: 6 | J6: 7 | K6: 8 | L6: 9 | M6: 10 | N6: 11 | O6: 12 | P6: 13 | Q6: 14 | R6: 15
B7: 1.0 | C7: Număr medici la sfîrşitul anului precedent
B8: 2.0 | C8: Angajaţi în cursul anului | D8: X | E8: X | F8: X | G8: X | H8: X | I8: X | J8: 1 | K8: X | L8: X | M8: X | N8: X | O8: X | P8: X | Q8: X | R8: 1
B9: 2.1 | C9: inclusiv din promoţia anului gestionar | D9: X | E9: X | F9: X | G9: X | H9: X | I9: X | J9: 1 | K9: X | L9: X | M9: X | N9: X | O9: X | P9: X | Q9: X | R9: 1
B10: 3.0 | C10: Eliberaţi în cursul anului | D10: X | E10: X | F10: X | G10: X | H10: X | I10: X | K10: X | L10: X | M10: X | N10: X | O10: X | P10: X | Q10: X
B11: 4.0 | C11: Se află la finele anului | D11: 1.5 | E11: 1.5 | J11: 1 | M11: 1 | R11: 1
B12: 4.1 | C12: inclusiv femei | D12: X | E12: X | F12: X | G12: X | H12: X | I12: X
B13: 5.0 | C13: Din număr total medici (rînd. 4.0) conducătorii instituţiilor
A14: 8 | B14: 6.0 | C14: medici de familie
B15: 7.0 | C15: internişti
B16: 8.0 | C16: internişti аi cabinetelor pentru adolescenţi
B17: 9.0 | C17: reumatologi
B18: 10.0 | C18: cardiologi
B19: 11.0 | C19: gastroenterologi
B20: 12.0 | C20: gastroenterologi pentru copii
B21: 13.0 | C21: dietologi | F21: X | G21: X | H21: X | I21: X | K21: X | L21: X
B22: 14.0 | C22: nefrologi
B23: 15.0 | C23: endocrinologi
B24: 16.0 | C24: endocrinologi pentru copii
B25: 17.0 | C25: alergologi
B26: 18.0 | C26: hematologi
B27: 19.0 | C27: infecţionişti
B28: 20.0 | C28: infecţionişti pentru copii
B29: 21.0 | C29: fizioterapeuţi
D30: =SUM(D13:D29)+SUM('9'!D6:D31)+SUM('10'!D6:D38)+SUM('11'!D6:D30)-'9'!D30-'10'!D7 -> 1.5 | E30: =SUM(E13:E29)+SUM('9'!E6:E31)+SUM('10'!E6:E38)+SUM('11'!E6:E30)-'9'!E30-'10'!E7 -> 1.5 | F30: =SUM(F13:F29)+SUM('9'!F6:F31)+SUM('10'!F6:F38)+SUM('11'!F6:F30)-'9'!F30-'10'!F7 -> 0 | G30: =SUM(G13:G29)+SUM('9'!G6:G31)+SUM('10'!G6:G38)+SUM('11'!G6:G30)-'9'!G30-'10'!G7 -> 0 | H30: =SUM(H13:H29)+SUM('9'!H6:H31)+SUM('10'!H6:H38)+SUM('11'!H6:H30)-'9'!H30-'10'!H7 -> 0 | I30: =SUM(I13:I29)+SUM('9'!I6:I31)+SUM('10'!I6:I38)+SUM('11'!I6:I30)-'9'!I30-'10'!I7 -> 0 | J30: =SUM(J13:J29)+SUM('9'!J6:J31)+SUM('10'!J6:J38)+SUM('11'!J6:J30)-'9'!J30-'10'!J7 -> 1 | K30: =SUM(K13:K29)+SUM('9'!K6:K31)+SUM('10'!K6:K38)+SUM('11'!K6:K30)-'9'!K30-'10'!K7 -> 0 | L30: =SUM(L13:L29)+SUM('9'!L6:L31)+SUM('10'!L6:L38)+SUM('11'!L6:L30)-'9'!L30-'10'!L7 -> 0 | M30: =SUM(M13:M29)+SUM('9'!M6:M31)+SUM('10'!M6:M38)+SUM('11'!M8:M30)-'9'!M30-'10'!M7 -> 1 | N30: =SUM(N13:N29)+SUM('9'!N6:N31)+SUM('10'!N6:N38)+SUM('11'!N8:N30)-'9'!N30-'10'!N7 -> 0 | O30: =SUM(O13:O29)+SUM('9'!O6:O31)+SUM('10'!O6:O38)+SUM('11'!O6:O30)-'9'!O30-'10'!O7 -> 0 | P30: =SUM(P13:P29)+SUM('9'!P6:P31)+SUM('10'!P6:P38)+SUM('11'!P6:P30)-'9'!P30-'10'!P7 -> 0 | Q30: =SUM(Q13:Q29)+SUM('9'!Q6:Q31)+SUM('10'!Q6:Q38)+SUM('11'!Q6:Q30)-'9'!Q30-'10'!Q7 -> 0 | R30: =SUM(R13:R29)+SUM('9'!R6:R31)+SUM('10'!R6:R38)+SUM('11'!R6:R30)-'9'!R30-'10'!R7 -> 1

Sheet 9
B1: Cod funcţie | C1: Denumirea funcţiei | D1: Număr funcţii pe instituţie | J1: Număr persoane fizice lucrători de bază în funcţii ocupate
D2: total | F2: inclusiv în | J2: total | K2: inclusiv în | M2: repartizați pe grupe de vîrstă (din total, col. 7) | R2: inclusiv în localitatea rurală (din total, col. 7)
F3: instituţia de asistenţă medicală primară | H3: secţia consultativă | K3: instituţia de asistenţă medicală primară | L3: secţia consultativă | M3: <35 ani | N3: 35-44 ani | O3: 45-54 ani | P3: 55-64 ani | Q3: >65 ani
D4: scriptice | E4: ocupate | F4: scriptice | G4: ocupate | H4: scriptice | I4: ocupate
B5: A | C5: B | D5: 1 | E5: 2 | F5: 3 | G5: 4 | H5: 5 | I5: 6 | J5: 7 | K5: 8 | L5: 9 | M5: 10 | N5: 11 | O5: 12 | P5: 13 | Q5: 14 | R5: 15
B6: 22.0 | C6: medici medicină tradiţională
B7: 23.0 | C7: kinetoterapeuţi
B8: 24.0 | C8: medici medicină sportivă
B9: 25.0 | C9: medici diagnostic funcţional
B10: 26.0 | C10: geneticieni
B11: 27.0 | C11: toxicologi
B12: 28.0 | C12: geriatri
B13: 29.0 | C13: medici de urgenţă
B14: 30.0 | C14: imagişti-sonografie
B15: 31.0 | C15: chirurgi
A16: 9 | B16: 32.0 | C16: chirurgi pentru copii
B17: 33.0 | C17: chirurgi cardiovasculari
B18: 34.0 | C18: chirurgi toracali
B19: 35.0 | C19: proctologi
B20: 36.0 | C20: ortopezi-traumatologi
B21: 37.0 | C21: ortopezi-traumatologi pentru copii
B22: 38.0 | C22: urologi
B23: 39.0 | C23: urologi pentru copii
B24: 40.0 | C24: neurochirurgi
B25: 41.0 | C25: anesteziologi-reanimatologi
B26: 42.0 | C26: anesteziologi-reanimatologi pentru copii
B27: 43.0 | C27: endoscopişti
B28: 44.0 | C28: oncologi
... B31: 46.0 | C31: obstetricieni – ginecologi pentru copii

Sheet 10
B1: Cod funcţie | C1: Denumirea funcţiei | D1: Număr funcţii pe instituţie | J1: Număr persoane fizice lucrători de bază în funcţii ocupate
D2: total | F2: inclusiv în | J2: total | K2: inclusiv în | M2: repartizați pe grupe de vîrstă (din total, col. 7) | R2: inclusiv în localitatea rurală (din total, col. 7)
F3: instituţia de asistenţă medicală primară | H3: secţia consultativă | K3: instituţia de asistenţă medicală primară | L3: secţia consultativă | M3: <35 ani | N3: 35-44 ani | O3: 45-54 ani | P3: 55-64 ani | Q3: >65 ani
D4: scriptice | E4: ocupate | F4: scriptice | G4: ocupate | H4: scriptice | I4: ocupate
B5: A | C5: B | D5: 1 | E5: 2 | F5: 3 | G5: 4 | H5: 5 | I5: 6 | J5: 7 | K5: 8 | L5: 9 | M5: 10 | N5: 11 | O5: 12 | P5: 13 | Q5: 14 | R5: 15
B6: 47.0 | C6: pediatri
B7: 47.1 | C7: inclusiv pediatri–consultanţi
B8: 48.0 | C8: neonatologi
B9: 49.0 | C9: cardioreumatologi pediatri
B10: 50.0 | C10: oftalmologi
B11: 51.0 | C11: oftalmologi pentru copii
B12: 52.0 | C12: otorinolaringologi
B13: 53.0 | C13: otorinolaringologi pentru copii
B14: 54.0 | C14: audiolog-surdolog
B15: 55.0 | C15: ftiziopneumologi
A16: 10 | B16: 56.0 | C16: ftiziopneumologi pentru copii
B17: 57.0 | C17: neurologi
B18: 58.0 | C18: neurologi pentru copii
B19: 59.0 | C19: psihiatri
B20: 60.0 | C20: psihiatri pentru copii
B21: 61.0 | C21: narcologi
B22: 62.0 | C22: psihoterapeuţi
B23: 63.0 | C23: experţi psihiatrie judiciară
B24: 64.0 | C24: epidemiologi
B25: 65.0 | C25: dezinfecţionişti
B26: 66.0 | C26: parazitologi | D26: X | E26: X | J26: X | M26: X | N26: X | O26: X | P26: X | Q26: X | R26: X
B27: 67.0 | C27: microbiologi
B28: 68.0 | C28: inspectori
B29: 69.0 | C29: medici igienişti pe: igiena generală
B30: 70.0 | C30: medici specialiști врачи специалисты
B31: 71.0 | C31: igiena alimentară гигиене питания | D31: X | E31: X | J31: X | O31: X | P31: X | Q31: X
B32: 72.0 | C32: igiena muncii гигиене труда | D32: X | E32: X | J32: X | O32: X | P32: X | Q32: X
B33: 73.0 | C33: igiena radiaţiilor радиационной гигиене | D33: X | E33: X | J33: X | O33: X | P33: X | Q33: X
B38: 70.0 | C38: medici specialiști | D38: X | E38: X | F38: X | G38: X | H38: X | I38: X | J38: X | K38: X | L38: X | M38: X | N38: X | O38: X | P38: X | Q38: X | R38: X
B39: 71.0 | C39: igiena alimentară | D39: X | E39: X | J39: X | M39: X | N39: X | O39: X | P39: X | Q39: X | R39: X
B40: 72.0 | C40: igiena muncii | D40: X | E40: X | J40: X | M40: X | N40: X | O40: X | P40: X | Q40: X | R40: X
B41: 73.0 | C41: igiena radiaţiilor | D41: X | E41: X | J41: X | M41: X | N41: X | O41: X | P41: X | Q41: X | R41: X

Sheet 11
B1: Cod funcţie | C1: Denumirea funcţiei | D1: Număr funcţii pe instituţie | J1: Număr persoane fizice lucrători de bază în funcţii ocupate
D2: total | F2: inclusiv în | J2: total | K2: inclusiv în | M2: repartizați pe grupe de vîrstă (din total, col. 7) | R2: inclusiv în localitatea rurală (din total, col. 7)
F3: instituţia de asistenţă medicală primară | H3: secţia consultativă | K3: instituţia de asistenţă medicală primară | L3: secţia consultativă | M3: <35 ani | N3: 35-44 ani | O3: 45-54 ani | P3: 55-64 ani | Q3: >65 ani
D4: scriptice | E4: ocupate | F4: scriptice | G4: ocupate | H4: scriptice | I4: ocupate
B5: A | C5: B | D5: 1 | E5: 2 | F5: 3 | G5: 4 | H5: 5 | I5: 6 | J5: 7 | K5: 8 | L5: 9 | M5: 10 | N5: 11 | O5: 12 | P5: 13 | Q5: 14 | R5: 15
B6: 74.0 | C6: igiena mediului ambiant şi habitatului uman | D6: X | E6: X | J6: X | O6: X | P6: X | Q6: X | R6: X
B7: 75.0 | C7: educaţie pentru sănătate | D7: X | E7: X | J7: X | O7: X | P7: X | Q7: X | R7: X
B8: 76.0 | C8: stоmatologi | D8: 1.5 | E8: 1.5 | J8: 1 | M8: 1 | R8: 1
B9: 77.0 | C9: stоmatologi pentru copii
B10: 78.0 | C10: stоmatologi chirurgi
B11: 79.0 | C11: stоmatologi ortopezi
B12: 80.0 | C12: stоmatologi ortodonţi
B13: 81.0 | C13: imagişti-radiologi
B14: 82.0 | C14: imagişti-radiologi (radioterapeuţi)
B15: 83.0 | C15: imagişti-medicina nucleară
A16: 11 | B16: 84.0 | C16: experţi medicină legală de profil general
B17: 85.0 | C17: experţi medicină legală subdiviziunilor de laborator
B18: 86.0 | C18: morfopatologi | F18: X | G18: X | K18: X
B19: 87.0 | C19: laboranţi
B20: 88.0 | C20: laboranţi-geneticieni
B21: 89.0 | C21: farmacologi clinici
B22: 90.0 | C22: transfuziologi
B23: 91.0 | C23: imunologi
B24: 92.0 | C24: sexopatologi
B25: 93.0 | C25: andrologi
B26: 94.0 | C26: statisticieni
B27: 95.0 | C27: metodişti
B28: 96.0 | C28: dermato-venerologi
B29: 97.0
B30: 98.0 | C30: alţi specialişti
B31: 99.0 | C31: În afară de aceasta: rezidenţi | O31: X | P31: X | Q31: X

Sheet 12
B1: Cod funcţie | C1: Denumirea funcţiei | D1: Număr funcţii pe instituţie | J1: Număr persoane fizice lucrători de bază în funcţii ocupate
D2: total | F2: inclusiv în | J2: total | K2: inclusiv în | M2: repartizați pe grupe de vîrstă (din total, col. 7) | R2: inclusiv în localitatea rurală (din total, col. 7)
F3: instituţia de asistenţă medicală primară | H3: secţia consultativă | K3: instituţia de asistenţă medicală primară | L3: secţia consultativă | M3: <35 ani | N3: 35-44 ani | O3: 45-54 ani | P3: 55-64 ani | Q3: >65 ani
D4: scriptice | E4: ocupate | F4: scriptice | G4: ocupate | H4: scriptice | I4: ocupate
B5: A | C5: B | D5: 1 | E5: 2 | F5: 3 | G5: 4 | H5: 5 | I5: 6 | J5: 7 | K5: 8 | L5: 9 | M5: 10 | N5: 11 | O5: 12 | P5: 13 | Q5: 14 | R5: 15
B6: 100.0 | C6: Psihologi
B7: 101.0 | C7: Farmacişti
B8: 102.0 | C8: Asistenți medicali cu studii superioare (CORM 2221)
B9: 103.0 | C9: Specialişti in domenii de sănătate publică (cu studii superioare, CORM 226319)
B10: 103.1 | C10: Specialiști cu studii superioare nemedicale care ocupă funcții de laborant in medicină (chimist,biolog ) | D10: X | E10: X | F10: X | G10: X | H10: X | I10: X
B11: 103.2 | C11: Optometriști (CORM 226702)
B12: 103.3 | C12: Tehnicieni radiologi cu studii superioare (CORM 226921)
A13: 12 | B13: 104.0 | C13: Număr personal medical mediu la sfîrşitul anului precedent | D13: 1.5 | E13: 1.5 | J13: 1 | N13: 1 | R13: 1
B14: 105.0 | C14: Angajaţi în cursul anului | D14: X | E14: X | F14: X | G14: X | H14: X | I14: X | K14: X | L14: X | M14: X | N14: X | O14: X | P14: X | Q14: X
B15: 105.1 | C15: inclusiv din promoţia anului gestionar | D15: X | E15: X | F15: X | G15: X | H15: X | I15: X | K15: X | L15: X | M15: X | N15: X | O15: X | P15: X | Q15: X
B16: 106.0 | C16: Eliberaţi în cursul anului | D16: X | E16: X | F16: X | G16: X | H16: X | I16: X | K16: X | L16: X | M16: X | N16: X | O16: X | P16: X | Q16: X
B17: 107.0 | C17: Se află la finele anului | D17: 1.5 | E17: 1.5 | J17: 1 | P17: 1 | R17: 1
B18: 107.1 | C18: inclusiv femei | D18: X | E18: X | F18: X | G18: X | H18: X | I18: X
B19: 108.0 | C19: Din număr total personal medical mediu (rînd. 107.0), asistenţi medicali | D19: 0.5 | E19: 0.5
B20: 108.1 | C20: inclusiv asistenţi medicali ale medicilor de familie
B21: 108.2 | C21: inclusiv asistenți medicali comunitari
B22: 109.0 | C22: asistenţii medicului igienist
B23: 110.0 | C23: asistenţii medicului epidemiolog
B24: 111.0 | C24: moaşe
B25: 112.0 | C25: felceri
B26: 113.0 | C26: felceri-narcologi
B27: 114.0 | C27: laboranţi
D28: =SUM('13'!D6:D13) -> 1 | E28: =SUM('13'!E6:E13) -> 1 | F28: =SUM('13'!F6:F13) -> 0 | G28: =SUM('13'!G6:G13) -> 0 | H28: =SUM('13'!H6:H13) -> 0 | I28: =SUM('13'!I6:I13) -> 0 | J28: =SUM('13'!J6:J13) -> 1 | K28: =SUM('13'!K6:K13) -> 0 | ... R28: =SUM('13'!R6:R13) -> 1

Sheet 13
B1: Cod funcţie | C1: Denumirea funcţiei | D1: Număr funcţii pe instituţie | J1: Număr persoane fizice lucrători de bază în funcţii ocupate
D2: total | F2: inclusiv în | J2: total | K2: inclusiv în | M2: repartizați pe grupe de vîrstă (din total, col. 7) | R2: inclusiv în localitatea rurală (din total, col. 7)
F3: instituţia de asistenţă medicală primară | H3: secţia consultativă | K3: instituţia de asistenţă medicală primară | L3: secţia consultativă | M3: <35 ani | N3: 35-44 ani | O3: 45-54 ani | P3: 55-64 ani | Q3: >65 ani
D4: scriptice | E4: ocupate | F4: scriptice | G4: ocupate | H4: scriptice | I4: ocupate
B5: A | C5: B | D5: 1 | E5: 2 | F5: 3 | G5: 4 | H5: 5 | I5: 6 | J5: 7 | K5: 8 | L5: 9 | M5: 10 | N5: 11 | O5: 12 | P5: 13 | Q5: 14 | R5: 15
B6: 115.0 | C6: tehnicieni-radiologi (studii profesional tehnice)
B7: 116.0 | C7: statisticieni medicali
B8: 117.0 | C8: tehnicieni- dentari | D8: 1 | E8: 1 | J8: 1 | P8: 1 | R8: 1
B9: 118.0 | C9: registratori medicali
B10: 119.0 | C10: instructori – dezinfecţionişti
B11: 120.0 | C11: felceri în educaţie pentru sănătate
B12: 121.0 | C12: dezinfectori
B13: 122.0 | C13: alt personal medical mediu
B14: 123.0 | C14: În afară de aceasta, fără studii medicale medii, ocupă funcţii- total | D14: X | E14: X | F14: X | G14: X | H14: X | I14: X
B15: 123.1 | C15: din ei: registratori medicali | D15: X | E15: X | F15: X | G15: X | H15: X | I15: X
B16: 123.2 | C16: instructori – dezinfecţionişti | D16: X | E16: X | F16: X | G16: X | H16: X | I16: X
A17: 13 | B17: 123.3 | C17: dezinfectori | D17: X | E17: X | F17: X | G17: X | H17: X | I17: X
B18: 123.4 | C18: alt personal medical mediu | D18: X | E18: X | F18: X | G18: X | H18: X | I18: X
B19: 124.0 | C19: Laboranţi – farmacişti - total
B20: 124.1 | C20: din ei: în instituţiile medico – sanitare
B21: 124.2 | C21: în asociaţia „Sanfarm-Prim”
B22: 125.0 | C22: Surori medicale inferioare pentru îngrijirea bolnavilor
B23: 126.0 | C23: Personal medical inferior | D23: 0.5 | E23: 0.5 | J23: 1 | N23: 1 | R23: 1
B24: 127.0 | C24: Alt personal
B25: 128.0 | C25: Total funcţii şi persoane fizice, care activează în instituţie | D25: 3.5 | E25: 3.5 | J25: 3 | M25: 1 | N25: 1 | P25: 1 | R25: 3
D26: ='8'!D11+'12'!D6+'12'!D7+'12'!D8+'12'!D17+'13'!D19+'13'!D22+'13'!D23+'13'!D24+'11'!D31+'12'!D9+'12'!D11+'12'!D12 -> 3.5 | E26: ='8'!E11+'12'!E6+'12'!E7+'12'!E8+'12'!E17+'13'!E19+'13'!E22+'13'!E23+'13'!E24+'11'!E31+'12'!E9+'12'!E11+'12'!E12 -> 3.5 | F26: ='8'!F11+'12'!F6+'12'!F7+'12'!F8+'12'!F17+'13'!F19+'13'!F22+'13'!F23+'13'!F24+'11'!F31+'12'!F9+'12'!F11+'12'!F12 -> 0 | G26: ='8'!G11+'12'!G6+'12'!G7+'12'!G8+'12'!G17+'13'!G19+'13'!G22+'13'!G23+'13'!G24+'11'!G31+'12'!G9+'12'!G11+'12'!G12 -> 0 | H26: ='8'!H11+'12'!H6+'12'!H7+'12'!H8+'12'!H17+'13'!H19+'13'!H22+'13'!H23+'13'!H24+'11'!H31+'12'!H9+'12'!H11+'12'!H12 -> 0 | I26: ='8'!I11+'12'!I6+'12'!I7+'12'!I8+'12'!I17+'13'!I19+'13'!I22+'13'!I23+'13'!I24+'11'!I31+'12'!I9+'12'!I11+'12'!I12 -> 0 | J26: ='8'!J11+'12'!J6+'12'!J7+'12'!J8+'12'!J17+'13'!J19+'13'!J22+'13'!J23+'13'!J24+J14+'12'!J9+'11'!J31+'12'!J10+'12'!J11+'12'!J12 -> 3 | K26: ='8'!K11+'12'!K6+'12'!K7+'12'!K8+'12'!K17+'13'!K19+'13'!K22+'13'!K23+'13'!K24+K14+'12'!K9+'11'!K31+'12'!K10+'12'!K11+'12'!K12 -> 0 | L26: ='8'!L11+'12'!L6+'12'!L7+'12'!L8+'12'!L17+'13'!L19+'13'!L22+'13'!L23+'13'!L24+L14+'12'!L9+'11'!L31+'12'!L10+'12'!L11+'12'!L12 -> 0 | M26: ='8'!M11+'12'!M6+'12'!M7+'12'!M8+'12'!M17+'13'!M19+'13'!M22+'13'!M23+'13'!M24+M14+'12'!M9+'11'!M31+'12'!M10+'12'!M11+'12'!M12 -> 1 | N26: ='8'!N11+'12'!N6+'12'!N7+'12'!N8+'12'!N17+'13'!N19+'13'!N22+'13'!N23+'13'!N24+N14+'12'!N9+'11'!N31+'12'!N10+'12'!N11+'12'!N12 -> 1 | O26: ='8'!O11+'12'!O6+'12'!O7+'12'!O8+'12'!O17+'13'!O19+'13'!O22+'13'!O23+'13'!O24+O14+'12'!O9+'12'!O10+'12'!O11+'12'!O12 -> 0 | P26: ='8'!P11+'12'!P6+'12'!P7+'12'!P8+'12'!P17+'13'!P19+'13'!P22+'13'!P23+'13'!P24+P14+'12'!P9+'12'!P10+'12'!P11+'12'!P12 -> 1 | Q26: ='8'!Q11+'12'!Q6+'12'!Q7+'12'!Q8+'12'!Q17+'13'!Q19+'13'!Q22+'13'!Q23+'13'!Q24+Q14+'12'!Q9+'12'!Q10+'12'!Q11+'12'!Q12 -> 0 | R26: ='8'!R11+'12'!R6+'12'!R7+'12'!R8+'12'!R17+'13'!R19+'13'!R22+'13'!R23+'13'!R24+R14+'12'!R9+'11'!R31+'12'!R10+'12'!R11+'12'!R12 -> 3

Sheet 14
B1: 3000. | C1: Din număr personal medical mediu (asistenţi medicali ale medicilor de familie rîndul 108.1, rub. 7, tabela 1), asistenţi medicali ale medicilor de familie, care lucrează în Oficii ale Medicilor de Familie, unde lipsesc medici de familie 1
B5: 4000. | C5: Din număr medici, pensionari:
C7: a) din rînd 4.0, rub. 7 | D7: bărbaţi 1 | F7: , | G7: femei 2
C9: b) din rînd 103.0, rub. 7 | D9: bărbaţi 1 | F9: , | G9: femei 2
B12: 4100. | C12: Din număr personal medical mediu, pensionari:
C14: a) din rînd 107.0, rub. 7 | D14: bărbaţi 1 | F14: , | G14: femei 2
C16: b) din rînd 123.0, rub. 7 | D16: bărbaţi 1 | F16: , | G16: femei 2
B19: 5000. | C19: Persoane, care se află în concediu neplătit (din rub. 7):
D21: medici ( din rînd. 4.0 şi 103.0) 1
D23: personal medical mediu( din rînd. 107.0 şi 123.0) 2
B26: 5100. | C26: Persoane, care se află în concediu de maternitate(din rub. 7):
D28: medici ( din rînd. 4.0 şi 103.0) 1
D30: personal medical mediu( din rînd. 107.0 şi 123.0) 2
D31: средний медицинский персонал(из стр. 107.0 и 123.0)

Sheet indicatori
A1: Calcularea indicatorilor Forma Nr. 17-săn.
A2: «PRIVIND STATELE DE FUNCŢII ŞI CADRELE INSTITUŢIEI MEDICO- SANITARE PUBLICE»
A3: Cod | B3: Denumire indicator | C3: Valoare absoluta | D3: Indicator
A4: f17_i1 | B4: TABELUL 1000 Completarea instituţiei medicale cu medici în % total | C4: ='2'!E11+'6'!E6 -> 0 | D4: =('2'!E11+'6'!E6)*100/'2'!D11 -> #DIV/0!
A5: f17_i2 | B5: Completarea instituţiei medicale (în %) cu conducători şi locţiitorii lor | C5: ='2'!E13 -> 0 | D5: ='2'!E13*100/'2'!D13 -> #DIV/0!
A6: f17_i3 | B6: medici de familie | C6: ='2'!E14 -> 0 | D6: ='2'!E14*100/'2'!D14 -> #DIV/0!
A7: f17_i4 | B7: internişti | C7: ='2'!E15 -> 0 | D7: ='2'!E15*100/'2'!D15 -> #DIV/0!
A8: f17_i5 | B8: internişti аi cabinetelor pentru adolescenţi | C8: ='2'!E16 -> 0 | D8: ='2'!E16*100/'2'!D16 -> #DIV/0!
A9: f17_i6 | B9: reumatologi | C9: ='2'!E17 -> 0 | D9: ='2'!E17*100/'2'!D17 -> #DIV/0!
A10: f17_i7 | B10: cardiologi | C10: ='2'!E18 -> 0 | D10: ='2'!E18*100/'2'!D18 -> #DIV/0!
A11: f17_i8 | B11: gastroenterologi | C11: ='2'!E19 -> 0 | D11: ='2'!E19*100/'2'!D19 -> #DIV/0!
A12: f17_i9 | B12: gastroenterologi pentru copii | C12: ='2'!E20 -> 0 | D12: ='2'!E20*100/'2'!D20 -> #DIV/0!
A13: f17_i10 | B13: dietologi | C13: ='2'!E21 -> 0 | D13: ='2'!E21*100/'2'!D21 -> #DIV/0!
A14: f17_i11 | B14: nefrologi | C14: ='2'!E22 -> 0 | D14: ='2'!E22*100/'2'!D22 -> #DIV/0!
A15: f17_i12 | B15: endocrinologi | C15: ='2'!E23 -> 0 | D15: ='2'!E23*100/'2'!D23 -> #DIV/0!
A16: f17_i13 | B16: endocrinologi pentru copii | C16: ='2'!E24 -> 0 | D16: ='2'!E24*100/'2'!D24 -> #DIV/0!
... A21: f17_i18 | B21: fizioterapeuţi | C21: ='2'!E29 -> 0 | D21: ='2'!E29*100/'2'!D29 -> #DIV/0!
A22: f17_i19 | B22: medicină tradiţională | C22: ='3'!E6 -> 0 | D22: ='3'!E6*100/'3'!D6 -> #DIV/0!
A23: f17_i20 | B23: kinetoterapeuţi | C23: ='3'!E7 -> 0 | D23: ='3'!E7*100/'3'!D7 -> #DIV/0!
A24: f17_i21 | B24: medici medicină sportivă | C24: ='3'!E8 -> 0 | D24: ='3'!E8*100/'3'!D8 -> #DIV/0!
A25: f17_i22 | B25: medici diagnostic funcţional | C25: ='3'!E9 -> 0 | D25: ='3'!E9*100/'3'!D9 -> #DIV/0!
A26: f17_i23 | B26: geneticieni | C26: ='3'!E10 -> 0 | D26: ='3'!E10*100/'3'!D10 -> #DIV/0!
A27: f17_i24 | B27: toxicologi | C27: ='3'!E11 -> 0 | D27: ='3'!E11*100/'3'!D11 -> #DIV/0!
A28: f17_i25 | B28: geriatri | C28: ='3'!E12 -> 0 | D28: ='3'!E12*100/'3'!D12 -> #DIV/0!
A29: f17_i26 | B29: medici de urgenţă | C29: ='3'!E13 -> 0 | D29: ='3'!E13*100/'3'!D13 -> #DIV/0!
A30: f17_i27 | B30: imagişti-sonografie | C30: ='3'!E14 -> 0 | D30: ='3'!E14*100/'3'!D14 -> #DIV/0!
A31: f17_i28 | B31: chirurgi | C31: ='3'!E15 -> 0 | D31: ='3'!E15*100/'3'!D15 -> #DIV/0!
A32: f17_i29 | B32: chirurgi pentru copii | C32: ='3'!E16 -> 0 | D32: ='3'!E16*100/'3'!D16 -> #DIV/0!
A33: f17_i30 | B33: chirurgi cardiovasculari | C33: ='3'!E17 -> 0 | D33: ='3'!E17*100/'3'!D17 -> #DIV/0!
... A47: f17_i44 | B47: obstetricieni – ginecologi pentru copii | C47: ='3'!E31 -> 0 | D47: ='3'!E31*100/'3'!D31 -> #DIV/0!
A48: f17_i45 | B48: pediatri | C48: ='4'!E6 -> 0 | D48: ='4'!E6*100/'4'!D6 -> #DIV/0!
A49: f17_i46 | B49: inclusiv pediatri – consultanţi | C49: ='4'!E7 -> 0 | D49: ='4'!E7*100/'4'!D7 -> #DIV/0!
A50: f17_i47 | B50: neonatologi | C50: ='4'!E8 -> 0 | D50: ='4'!E8*100/'4'!D8 -> #DIV/0!
A51: f17_i48 | B51: cardioreumatologi pediatri | C51: ='4'!E9 -> 0 | D51: ='4'!E9*100/'4'!D9 -> #DIV/0!
A52: f17_i49 | B52: oftalmologi | C52: ='4'!E10 -> 0 | D52: ='4'!E10*100/'4'!D10 -> #DIV/0!
A53: f17_i50 | B53: oftalmologi pentru copii | C53: ='4'!E11 -> 0 | D53: ='4'!E11*100/'4'!D11 -> #DIV/0!
A54: f17_i51 | B54: otorinolaringologi | C54: ='4'!E12 -> 0 | D54: ='4'!E12*100/'4'!D12 -> #DIV/0!
A55: f17_i52 | B55: otorinolaringologi pentru copii | C55: ='4'!E13 -> 0 | D55: ='4'!E13*100/'4'!D13 -> #DIV/0!
A56: f17_i53 | B56: surdologi | C56: ='4'!E14 -> 0 | D56: ='4'!E14*100/'4'!D14 -> #DIV/0!
A57: f17_i54 | B57: ftiziopneumologi | C57: ='4'!E15 -> 0 | D57: ='4'!E15*100/'4'!D15 -> #DIV/0!
...

Sheet ba2
B1: 6000. 6. Numărul total state de funcţii şi cadre pe instituţia medico – sanitară
B2: Cod funcţie | C2: Denumirea funcţiei | D2: Număr funcţii pe instituţie | J2: Număr persoane fizice lucrători de bază în funcţii ocupate
D3: total | F3: inclusiv în | J3: total | K3: inclusiv în | M3: repartizați pe grupe de vîrstă (din total, col. 7) | R3: inclusiv în localitatea rurală (din total, col. 7)
F4: instituţia de asistenţă medicală primară | H4: secţia consultativă | K4: instituţia de asistenţă medicală primară | L4: secţia consultativă | M4: <35 ani | N4: 35-44 ani | O4: 45-54 ani | P4: 55-64 ani | Q4: >65 ani
D5: scriptice | E5: ocupate | F5: scriptice | G5: ocupate | H5: scriptice | I5: ocupate
B6: A | C6: B | D6: 1 | E6: 2 | F6: 3 | G6: 4 | H6: 5 | I6: 6 | J6: 7 | K6: 8 | L6: 9 | M6: 10 | N6: 11 | O6: 12 | P6: 13 | Q6: 14 | R6: 15
B7: 1.0 | C7: Număr medici la sfîrşitul anului precedent | D7: ='2'!D7+'8'!D7 -> 0 | E7: ='2'!E7+'8'!E7 -> 0 | F7: ='2'!F7+'8'!F7 -> 0 | G7: ='2'!G7+'8'!G7 -> 0 | H7: ='2'!H7+'8'!H7 -> 0 | I7: ='2'!I7+'8'!I7 -> 0 | J7: ='2'!J7+'8'!J7 -> 0 | K7: ='2'!K7+'8'!K7 -> 0 | ... R7: ='2'!R7+'8'!R7 -> 0
B8: 2.0 | C8: Angajaţi în cursul anului | D8: X | E8: X | F8: X | G8: X | H8: X | I8: X | J8: ='2'!J8+'8'!J8 -> 1 | K8: X | L8: X | M8: X | N8: X | O8: X | P8: X | Q8: X | R8: ='2'!R8+'8'!R8 -> 1
B9: 2.1 | C9: inclusiv din promoţia anului gestionar | D9: X | E9: X | F9: X | G9: X | H9: X | I9: X | J9: ='2'!J9+'8'!J9 -> 1 | K9: X | L9: X | M9: X | N9: X | O9: X | P9: X | Q9: X | R9: ='2'!R9+'8'!R9 -> 1
B10: 3.0 | C10: Eliberaţi în cursul anului | D10: X | E10: X | F10: X | G10: X | H10: X | I10: X | J10: ='2'!J10+'8'!J10 -> 0 | K10: X | L10: X | M10: X | N10: X | O10: X | P10: X | Q10: X | R10: ='2'!R10+'8'!R10 -> 0
B11: 4.0 | C11: Se află la finele anului | D11: ='2'!D11+'8'!D11 -> 1.5 | E11: ='2'!E11+'8'!E11 -> 1.5 | F11: ='2'!F11+'8'!F11 -> 0 | G11: ='2'!G11+'8'!G11 -> 0 | H11: ='2'!H11+'8'!H11 -> 0 | I11: ='2'!I11+'8'!I11 -> 0 | J11: ='2'!J11+'8'!J11 -> 1 | K11: ='2'!K11+'8'!K11 -> 0 | ... R11: ='2'!R11+'8'!R11 -> 1
B12: 4.1 | C12: inclusiv femei | D12: X | E12: X | F12: X | G12: X | H12: X | I12: X | J12: ='2'!J12+'8'!J12 -> 0 | K12: ='2'!K12+'8'!K12 -> 0 | L12: ='2'!L12+'8'!L12 -> 0 | M12: ='2'!M12+'8'!M12 -> 0 | N12: ='2'!N12+'8'!N12 -> 0 | O12: ='2'!O12+'8'!O12 -> 0 | P12: ='2'!P12+'8'!P12 -> 0 | Q12: ='2'!Q12+'8'!Q12 -> 0 | R12: ='2'!R12+'8'!R12 -> 0
B13: 5.0 | C13: Din număr total medici (rînd. 4.0) conducătorii instituţiilor | D13: ='2'!D13+'8'!D13 -> 0 | E13: ='2'!E13+'8'!E13 -> 0 | F13: ='2'!F13+'8'!F13 -> 0 | G13: ='2'!G13+'8'!G13 -> 0 | H13: ='2'!H13+'8'!H13 -> 0 | I13: ='2'!I13+'8'!I13 -> 0 | J13: ='2'!J13+'8'!J13 -> 0 | K13: ='2'!K13+'8'!K13 -> 0 | ... R13: ='2'!R13+'8'!R13 -> 0
A14: 15 | B14: 6.0 | C14: medici de familie | D14: ='2'!D14+'8'!D14 -> 0 | E14: ='2'!E14+'8'!E14 -> 0 | F14: ='2'!F14+'8'!F14 -> 0 | G14: ='2'!G14+'8'!G14 -> 0 | H14: ='2'!H14+'8'!H14 -> 0 | I14: ='2'!I14+'8'!I14 -> 0 | J14: ='2'!J14+'8'!J14 -> 0 | K14: ='2'!K14+'8'!K14 -> 0 | ... R14: ='2'!R14+'8'!R14 -> 0
B15: 7.0 | C15: internişti | D15: ='2'!D15+'8'!D15 -> 0 | E15: ='2'!E15+'8'!E15 -> 0 | F15: ='2'!F15+'8'!F15 -> 0 | G15: ='2'!G15+'8'!G15 -> 0 | H15: ='2'!H15+'8'!H15 -> 0 | I15: ='2'!I15+'8'!I15 -> 0 | J15: ='2'!J15+'8'!J15 -> 0 | K15: ='2'!K15+'8'!K15 -> 0 | ... R15: ='2'!R15+'8'!R15 -> 0
B16: 8.0 | C16: internişti аi cabinetelor pentru adolescenţi | D16: ='2'!D16+'8'!D16 -> 0 | E16: ='2'!E16+'8'!E16 -> 0 | F16: ='2'!F16+'8'!F16 -> 0 | G16: ='2'!G16+'8'!G16 -> 0 | H16: ='2'!H16+'8'!H16 -> 0 | I16: ='2'!I16+'8'!I16 -> 0 | J16: ='2'!J16+'8'!J16 -> 0 | K16: ='2'!K16+'8'!K16 -> 0 | ... R16: ='2'!R16+'8'!R16 -> 0
B17: 9.0 | C17: reumatologi | D17: ='2'!D17+'8'!D17 -> 0 | E17: ='2'!E17+'8'!E17 -> 0 | F17: ='2'!F17+'8'!F17 -> 0 | G17: ='2'!G17+'8'!G17 -> 0 | H17: ='2'!H17+'8'!H17 -> 0 | I17: ='2'!I17+'8'!I17 -> 0 | J17: ='2'!J17+'8'!J17 -> 0 | K17: ='2'!K17+'8'!K17 -> 0 | ... R17: ='2'!R17+'8'!R17 -> 0
B18: 10.0 | C18: cardiologi | D18: ='2'!D18+'8'!D18 -> 0 | E18: ='2'!E18+'8'!E18 -> 0 | F18: ='2'!F18+'8'!F18 -> 0 | G18: ='2'!G18+'8'!G18 -> 0 | H18: ='2'!H18+'8'!H18 -> 0 | I18: ='2'!I18+'8'!I18 -> 0 | J18: ='2'!J18+'8'!J18 -> 0 | K18: ='2'!K18+'8'!K18 -> 0 | ... R18: ='2'!R18+'8'!R18 -> 0
B19: 11.0 | C19: gastroenterologi | D19: ='2'!D19+'8'!D19 -> 0 | E19: ='2'!E19+'8'!E19 -> 0 | F19: ='2'!F19+'8'!F19 -> 0 | G19: ='2'!G19+'8'!G19 -> 0 | H19: ='2'!H19+'8'!H19 -> 0 | I19: ='2'!I19+'8'!I19 -> 0 | J19: ='2'!J19+'8'!J19 -> 0 | K19: ='2'!K19+'8'!K19 -> 0 | ... R19: ='2'!R19+'8'!R19 -> 0
B20: 12.0 | C20: gastroenterologi pentru copii | D20: ='2'!D20+'8'!D20 -> 0 | E20: ='2'!E20+'8'!E20 -> 0 | F20: ='2'!F20+'8'!F20 -> 0 | G20: ='2'!G20+'8'!G20 -> 0 | H20: ='2'!H20+'8'!H20 -> 0 | I20: ='2'!I20+'8'!I20 -> 0 | J20: ='2'!J20+'8'!J20 -> 0 | K20: ='2'!K20+'8'!K20 -> 0 | ... R20: ='2'!R20+'8'!R20 -> 0
B21: 13.0 | C21: dietologi | D21: ='2'!D21+'8'!D21 -> 0 | E21: ='2'!E21+'8'!E21 -> 0 | F21: X | G21: X | H21: X | I21: X | J21: ='2'!J21+'8'!J21 -> 0 | K21: X | L21: X | M21: ='2'!M21+'8'!M21 -> 0 | N21: ='2'!N21+'8'!N21 -> 0 | O21: ='2'!O21+'8'!O21 -> 0 | P21: ='2'!P21+'8'!P21 -> 0 | Q21: ='2'!Q21+'8'!Q21 -> 0 | R21: ='2'!R21+'8'!R21 -> 0
B22: 14.0 | C22: nefrologi | D22: ='2'!D22+'8'!D22 -> 0 | E22: ='2'!E22+'8'!E22 -> 0 | F22: ='2'!F22+'8'!F22 -> 0 | G22: ='2'!G22+'8'!G22 -> 0 | H22: ='2'!H22+'8'!H22 -> 0 | I22: ='2'!I22+'8'!I22 -> 0 | J22: ='2'!J22+'8'!J22 -> 0 | K22: ='2'!K22+'8'!K22 -> 0 | ... R22: ='2'!R22+'8'!R22 -> 0
B23: 15.0 | C23: endocrinologi | D23: ='2'!D23+'8'!D23 -> 0 | E23: ='2'!E23+'8'!E23 -> 0 | F23: ='2'!F23+'8'!F23 -> 0 | G23: ='2'!G23+'8'!G23 -> 0 | H23: ='2'!H23+'8'!H23 -> 0 | I23: ='2'!I23+'8'!I23 -> 0 | J23: ='2'!J23+'8'!J23 -> 0 | K23: ='2'!K23+'8'!K23 -> 0 | ... R23: ='2'!R23+'8'!R23 -> 0
B24: 16.0 | C24: endocrinologi pentru copii | D24: ='2'!D24+'8'!D24 -> 0 | E24: ='2'!E24+'8'!E24 -> 0 | F24: ='2'!F24+'8'!F24 -> 0 | G24: ='2'!G24+'8'!G24 -> 0 | H24: ='2'!H24+'8'!H24 -> 0 | I24: ='2'!I24+'8'!I24 -> 0 | J24: ='2'!J24+'8'!J24 -> 0 | K24: ='2'!K24+'8'!K24 -> 0 | ... R24: ='2'!R24+'8'!R24 -> 0
B25: 17.0 | C25: alergologi | D25: ='2'!D25+'8'!D25 -> 0 | E25: ='2'!E25+'8'!E25 -> 0 | F25: ='2'!F25+'8'!F25 -> 0 | G25: ='2'!G25+'8'!G25 -> 0 | H25: ='2'!H25+'8'!H25 -> 0 | I25: ='2'!I25+'8'!I25 -> 0 | J25: ='2'!J25+'8'!J25 -> 0 | K25: ='2'!K25+'8'!K25 -> 0 | ... R25: ='2'!R25+'8'!R25 -> 0
B26: 18.0 | C26: hematologi | D26: ='2'!D26+'8'!D26 -> 0 | E26: ='2'!E26+'8'!E26 -> 0 | F26: ='2'!F26+'8'!F26 -> 0 | G26: ='2'!G26+'8'!G26 -> 0 | H26: ='2'!H26+'8'!H26 -> 0 | I26: ='2'!I26+'8'!I26 -> 0 | J26: ='2'!J26+'8'!J26 -> 0 | K26: ='2'!K26+'8'!K26 -> 0 | ... R26: ='2'!R26+'8'!R26 -> 0
B27: 19.0 | C27: infecţionişti | D27: ='2'!D27+'8'!D27 -> 0 | E27: ='2'!E27+'8'!E27 -> 0 | F27: ='2'!F27+'8'!F27 -> 0 | G27: ='2'!G27+'8'!G27 -> 0 | H27: ='2'!H27+'8'!H27 -> 0 | I27: ='2'!I27+'8'!I27 -> 0 | J27: ='2'!J27+'8'!J27 -> 0 | K27: ='2'!K27+'8'!K27 -> 0 | ... R27: ='2'!R27+'8'!R27 -> 0
B28: 20.0 | C28: infecţionişti pentru copii | D28: ='2'!D28+'8'!D28 -> 0 | E28: ='2'!E28+'8'!E28 -> 0 | F28: ='2'!F28+'8'!F28 -> 0 | G28: ='2'!G28+'8'!G28 -> 0 | H28: ='2'!H28+'8'!H28 -> 0 | I28: ='2'!I28+'8'!I28 -> 0 | J28: ='2'!J28+'8'!J28 -> 0 | K28: ='2'!K28+'8'!K28 -> 0 | ... R28: ='2'!R28+'8'!R28 -> 0
B29: 21.0 | C29: fizioterapeuţi | D29: ='2'!D29+'8'!D29 -> 0 | E29: ='2'!E29+'8'!E29 -> 0 | F29: ='2'!F29+'8'!F29 -> 0 | G29: ='2'!G29+'8'!G29 -> 0 | H29: ='2'!H29+'8'!H29 -> 0 | I29: ='2'!I29+'8'!I29 -> 0 | J29: ='2'!J29+'8'!J29 -> 0 | K29: ='2'!K29+'8'!K29 -> 0 | ... R29: ='2'!R29+'8'!R29 -> 0
D30: =SUM(D13:D29)+SUM('ba3'!D6:D31)+SUM('ba4'!D6:D30)+SUM('ba5'!D8:D30)-'ba3'!D30-'ba4'!D7 -> 1.5 | E30: =SUM(E13:E29)+SUM('ba3'!E6:E31)+SUM('ba4'!E6:E30)+SUM('ba5'!E8:E30)-'ba3'!E30-'ba4'!E7 -> 1.5 | F30: =SUM(F13:F29)+SUM('ba3'!F6:F31)+SUM('ba4'!F6:F33)+SUM('ba5'!F6:F30)-'ba3'!F30-'ba4'!F7 -> 0 | G30: =SUM(G13:G29)+SUM('ba3'!G6:G31)+SUM('ba4'!G6:G33)+SUM('ba5'!G6:G30)-'ba3'!G30-'ba4'!G7 -> 0 | H30: =SUM(H13:H29)+SUM('ba3'!H6:H31)+SUM('ba4'!H6:H33)+SUM('ba5'!H6:H30)-'ba3'!H30-'ba4'!H7 -> 0 | I30: =SUM(I13:I29)+SUM('ba3'!I6:I31)+SUM('ba4'!I6:I33)+SUM('ba5'!I6:I30)-'ba3'!I30-'ba4'!I7 -> 0 | J30: =SUM(J13:J29)+SUM('ba3'!J6:J31)+SUM('ba4'!J6:J30)+SUM('ba5'!J8:J30)-'ba3'!J30-'ba4'!J7 -> 1 | K30: =SUM(K13:K29)+SUM('ba3'!K6:K31)+SUM('ba4'!K6:K33)+SUM('ba5'!K6:K30)-'ba3'!K30-'ba4'!K7 -> 0 | L30: =SUM(L13:L29)+SUM('ba3'!L6:L31)+SUM('ba4'!L6:L33)+SUM('ba5'!L6:L30)-'ba3'!L30-'ba4'!L7 -> 0 | M30: =SUM(M13:M29)+SUM('ba3'!M6:M31)+SUM('ba4'!M6:M33)+SUM('ba5'!M6:M30)-'ba3'!M30-'ba4'!M7 -> 1 | N30: =SUM(N13:N29)+SUM('ba3'!N6:N31)+SUM('ba4'!N6:N33)+SUM('ba5'!N6:N30)-'ba3'!N30-'ba4'!N7 -> 0 | O30: =SUM(O13:O29)+SUM('ba3'!O6:O31)+SUM('ba4'!O6:O30)+SUM('ba5'!O8:O30)-'ba3'!O30-'ba4'!O7 -> 0 | P30: =SUM(P13:P29)+SUM('ba3'!P6:P31)+SUM('ba4'!P6:P30)+SUM('ba5'!P8:P30)-'ba3'!P30-'ba4'!P7 -> 0 | Q30: =SUM(Q13:Q29)+SUM('ba3'!Q6:Q31)+SUM('ba4'!Q6:Q30)+SUM('ba5'!Q8:Q30)-'ba3'!Q30-'ba4'!Q7 -> 0 | R30: =SUM(R13:R29)+SUM('ba3'!R6:R31)+SUM('ba4'!R6:R33)+SUM('ba5'!R6:R30)-'ba3'!R30-'ba4'!R7 -> 1

Sheet ba3
B1: Cod funcţie | C1: Denumirea funcţiei | D1: Număr funcţii pe instituţie | J1: Număr persoane fizice lucrători de bază în funcţii ocupate
D2: total | F2: inclusiv în | J2: total | K2: inclusiv în | M2: repartizați pe grupe de vîrstă (din total, col. 7) | R2: inclusiv în localitatea rurală (din total, col. 7)
F3: instituţia de asistenţă medicală primară | H3: secţia consultativă | K3: instituţia de asistenţă medicală primară | L3: secţia consultativă | M3: <35 ani | N3: 35-44 ani | O3: 45-54 ani | P3: 55-64 ani | Q3: >65 ani
D4: scriptice | E4: ocupate | F4: scriptice | G4: ocupate | H4: scriptice | I4: ocupate
B5: A | C5: B | D5: 1 | E5: 2 | F5: 3 | G5: 4 | H5: 5 | I5: 6 | J5: 7 | K5: 8 | L5: 9 | M5: 10 | N5: 11 | O5: 12 | P5: 13 | Q5: 14 | R5: 15
B6: 22.0 | C6: medici medicină tradiţională | D6: ='3'!D6+'9'!D6 -> 0 | E6: ='3'!E6+'9'!E6 -> 0 | F6: ='3'!F6+'9'!F6 -> 0 | G6: ='3'!G6+'9'!G6 -> 0 | H6: ='3'!H6+'9'!H6 -> 0 | I6: ='3'!I6+'9'!I6 -> 0 | J6: ='3'!J6+'9'!J6 -> 0 | K6: ='3'!K6+'9'!K6 -> 0 | ... R6: ='3'!R6+'9'!R6 -> 0
B7: 23.0 | C7: kinetoterapeuţi | D7: ='3'!D7+'9'!D7 -> 0 | E7: ='3'!E7+'9'!E7 -> 0 | F7: ='3'!F7+'9'!F7 -> 0 | G7: ='3'!G7+'9'!G7 -> 0 | H7: ='3'!H7+'9'!H7 -> 0 | I7: ='3'!I7+'9'!I7 -> 0 | J7: ='3'!J7+'9'!J7 -> 0 | K7: ='3'!K7+'9'!K7 -> 0 | ... R7: ='3'!R7+'9'!R7 -> 0
B8: 24.0 | C8: medici medicină sportivă | D8: ='3'!D8+'9'!D8 -> 0 | E8: ='3'!E8+'9'!E8 -> 0 | F8: ='3'!F8+'9'!F8 -> 0 | G8: ='3'!G8+'9'!G8 -> 0 | H8: ='3'!H8+'9'!H8 -> 0 | I8: ='3'!I8+'9'!I8 -> 0 | J8: ='3'!J8+'9'!J8 -> 0 | K8: ='3'!K8+'9'!K8 -> 0 | ... R8: ='3'!R8+'9'!R8 -> 0
B9: 25.0 | C9: medici diagnostic funcţional | D9: ='3'!D9+'9'!D9 -> 0 | E9: ='3'!E9+'9'!E9 -> 0 | F9: ='3'!F9+'9'!F9 -> 0 | G9: ='3'!G9+'9'!G9 -> 0 | H9: ='3'!H9+'9'!H9 -> 0 | I9: ='3'!I9+'9'!I9 -> 0 | J9: ='3'!J9+'9'!J9 -> 0 | K9: ='3'!K9+'9'!K9 -> 0 | ... R9: ='3'!R9+'9'!R9 -> 0
B10: 26.0 | C10: geneticieni | D10: ='3'!D10+'9'!D10 -> 0 | E10: ='3'!E10+'9'!E10 -> 0 | F10: ='3'!F10+'9'!F10 -> 0 | G10: ='3'!G10+'9'!G10 -> 0 | H10: ='3'!H10+'9'!H10 -> 0 | I10: ='3'!I10+'9'!I10 -> 0 | J10: ='3'!J10+'9'!J10 -> 0 | K10: ='3'!K10+'9'!K10 -> 0 | ... R10: ='3'!R10+'9'!R10 -> 0
B11: 27.0 | C11: toxicologi | D11: ='3'!D11+'9'!D11 -> 0 | E11: ='3'!E11+'9'!E11 -> 0 | F11: ='3'!F11+'9'!F11 -> 0 | G11: ='3'!G11+'9'!G11 -> 0 | H11: ='3'!H11+'9'!H11 -> 0 | I11: ='3'!I11+'9'!I11 -> 0 | J11: ='3'!J11+'9'!J11 -> 0 | K11: ='3'!K11+'9'!K11 -> 0 | ... R11: ='3'!R11+'9'!R11 -> 0
B12: 28.0 | C12: geriatri | D12: ='3'!D12+'9'!D12 -> 0 | E12: ='3'!E12+'9'!E12 -> 0 | F12: ='3'!F12+'9'!F12 -> 0 | G12: ='3'!G12+'9'!G12 -> 0 | H12: ='3'!H12+'9'!H12 -> 0 | I12: ='3'!I12+'9'!I12 -> 0 | J12: ='3'!J12+'9'!J12 -> 0 | K12: ='3'!K12+'9'!K12 -> 0 | ... R12: ='3'!R12+'9'!R12 -> 0
B13: 29.0 | C13: medici de urgenţă | D13: ='3'!D13+'9'!D13 -> 0 | E13: ='3'!E13+'9'!E13 -> 0 | F13: ='3'!F13+'9'!F13 -> 0 | G13: ='3'!G13+'9'!G13 -> 0 | H13: ='3'!H13+'9'!H13 -> 0 | I13: ='3'!I13+'9'!I13 -> 0 | J13: ='3'!J13+'9'!J13 -> 0 | K13: ='3'!K13+'9'!K13 -> 0 | ... R13: ='3'!R13+'9'!R13 -> 0
B14: 30.0 | C14: imagişti-sonografie | D14: ='3'!D14+'9'!D14 -> 0 | E14: ='3'!E14+'9'!E14 -> 0 | F14: ='3'!F14+'9'!F14 -> 0 | G14: ='3'!G14+'9'!G14 -> 0 | H14: ='3'!H14+'9'!H14 -> 0 | I14: ='3'!I14+'9'!I14 -> 0 | J14: ='3'!J14+'9'!J14 -> 0 | K14: ='3'!K14+'9'!K14 -> 0 | ... R14: ='3'!R14+'9'!R14 -> 0
A15: 16 | B15: 31.0 | C15: chirurgi | D15: ='3'!D15+'9'!D15 -> 0 | E15: ='3'!E15+'9'!E15 -> 0 | F15: ='3'!F15+'9'!F15 -> 0 | G15: ='3'!G15+'9'!G15 -> 0 | H15: ='3'!H15+'9'!H15 -> 0 | I15: ='3'!I15+'9'!I15 -> 0 | J15: ='3'!J15+'9'!J15 -> 0 | K15: ='3'!K15+'9'!K15 -> 0 | ... R15: ='3'!R15+'9'!R15 -> 0
B16: 32.0 | C16: chirurgi pentru copii | D16: ='3'!D16+'9'!D16 -> 0 | E16: ='3'!E16+'9'!E16 -> 0 | F16: ='3'!F16+'9'!F16 -> 0 | G16: ='3'!G16+'9'!G16 -> 0 | H16: ='3'!H16+'9'!H16 -> 0 | I16: ='3'!I16+'9'!I16 -> 0 | J16: ='3'!J16+'9'!J16 -> 0 | K16: ='3'!K16+'9'!K16 -> 0 | ... R16: ='3'!R16+'9'!R16 -> 0
B17: 33.0 | C17: chirurgi cardiovasculari | D17: ='3'!D17+'9'!D17 -> 0 | E17: ='3'!E17+'9'!E17 -> 0 | F17: ='3'!F17+'9'!F17 -> 0 | G17: ='3'!G17+'9'!G17 -> 0 | H17: ='3'!H17+'9'!H17 -> 0 | I17: ='3'!I17+'9'!I17 -> 0 | J17: ='3'!J17+'9'!J17 -> 0 | K17: ='3'!K17+'9'!K17 -> 0 | ... R17: ='3'!R17+'9'!R17 -> 0
B18: 34.0 | C18: chirurgi toracali | D18: ='3'!D18+'9'!D18 -> 0 | E18: ='3'!E18+'9'!E18 -> 0 | F18: ='3'!F18+'9'!F18 -> 0 | G18: ='3'!G18+'9'!G18 -> 0 | H18: ='3'!H18+'9'!H18 -> 0 | I18: ='3'!I18+'9'!I18 -> 0 | J18: ='3'!J18+'9'!J18 -> 0 | K18: ='3'!K18+'9'!K18 -> 0 | ... R18: ='3'!R18+'9'!R18 -> 0
B19: 35.0 | C19: proctologi | D19: ='3'!D19+'9'!D19 -> 0 | E19: ='3'!E19+'9'!E19 -> 0 | F19: ='3'!F19+'9'!F19 -> 0 | G19: ='3'!G19+'9'!G19 -> 0 | H19: ='3'!H19+'9'!H19 -> 0 | I19: ='3'!I19+'9'!I19 -> 0 | J19: ='3'!J19+'9'!J19 -> 0 | K19: ='3'!K19+'9'!K19 -> 0 | ... R19: ='3'!R19+'9'!R19 -> 0
B20: 36.0 | C20: ortopezi-traumatologi | D20: ='3'!D20+'9'!D20 -> 0 | E20: ='3'!E20+'9'!E20 -> 0 | F20: ='3'!F20+'9'!F20 -> 0 | G20: ='3'!G20+'9'!G20 -> 0 | H20: ='3'!H20+'9'!H20 -> 0 | I20: ='3'!I20+'9'!I20 -> 0 | J20: ='3'!J20+'9'!J20 -> 0 | K20: ='3'!K20+'9'!K20 -> 0 | ... R20: ='3'!R20+'9'!R20 -> 0
B21: 37.0 | C21: ortopezi-traumatologi pentru copii | D21: ='3'!D21+'9'!D21 -> 0 | E21: ='3'!E21+'9'!E21 -> 0 | F21: ='3'!F21+'9'!F21 -> 0 | G21: ='3'!G21+'9'!G21 -> 0 | H21: ='3'!H21+'9'!H21 -> 0 | I21: ='3'!I21+'9'!I21 -> 0 | J21: ='3'!J21+'9'!J21 -> 0 | K21: ='3'!K21+'9'!K21 -> 0 | ... R21: ='3'!R21+'9'!R21 -> 0
B22: 38.0 | C22: urologi | D22: ='3'!D22+'9'!D22 -> 0 | E22: ='3'!E22+'9'!E22 -> 0 | F22: ='3'!F22+'9'!F22 -> 0 | G22: ='3'!G22+'9'!G22 -> 0 | H22: ='3'!H22+'9'!H22 -> 0 | I22: ='3'!I22+'9'!I22 -> 0 | J22: ='3'!J22+'9'!J22 -> 0 | K22: ='3'!K22+'9'!K22 -> 0 | ... R22: ='3'!R22+'9'!R22 -> 0
B23: 39.0 | C23: urologi pentru copii | D23: ='3'!D23+'9'!D23 -> 0 | E23: ='3'!E23+'9'!E23 -> 0 | F23: ='3'!F23+'9'!F23 -> 0 | G23: ='3'!G23+'9'!G23 -> 0 | H23: ='3'!H23+'9'!H23 -> 0 | I23: ='3'!I23+'9'!I23 -> 0 | J23: ='3'!J23+'9'!J23 -> 0 | K23: ='3'!K23+'9'!K23 -> 0 | ... R23: ='3'!R23+'9'!R23 -> 0
B24: 40.0 | C24: neurochirurgi | D24: ='3'!D24+'9'!D24 -> 0 | E24: ='3'!E24+'9'!E24 -> 0 | F24: ='3'!F24+'9'!F24 -> 0 | G24: ='3'!G24+'9'!G24 -> 0 | H24: ='3'!H24+'9'!H24 -> 0 | I24: ='3'!I24+'9'!I24 -> 0 | J24: ='3'!J24+'9'!J24 -> 0 | K24: ='3'!K24+'9'!K24 -> 0 | ... R24: ='3'!R24+'9'!R24 -> 0
B25: 41.0 | C25: anesteziologi-reanimatologi | D25: ='3'!D25+'9'!D25 -> 0 | E25: ='3'!E25+'9'!E25 -> 0 | F25: ='3'!F25+'9'!F25 -> 0 | G25: ='3'!G25+'9'!G25 -> 0 | H25: ='3'!H25+'9'!H25 -> 0 | I25: ='3'!I25+'9'!I25 -> 0 | J25: ='3'!J25+'9'!J25 -> 0 | K25: ='3'!K25+'9'!K25 -> 0 | ... R25: ='3'!R25+'9'!R25 -> 0
B26: 42.0 | C26: anesteziologi-reanimatologi pentru copii | D26: ='3'!D26+'9'!D26 -> 0 | E26: ='3'!E26+'9'!E26 -> 0 | F26: ='3'!F26+'9'!F26 -> 0 | G26: ='3'!G26+'9'!G26 -> 0 | H26: ='3'!H26+'9'!H26 -> 0 | I26: ='3'!I26+'9'!I26 -> 0 | J26: ='3'!J26+'9'!J26 -> 0 | K26: ='3'!K26+'9'!K26 -> 0 | ... R26: ='3'!R26+'9'!R26 -> 0
B27: 43.0 | C27: endoscopişti | D27: ='3'!D27+'9'!D27 -> 0 | E27: ='3'!E27+'9'!E27 -> 0 | F27: ='3'!F27+'9'!F27 -> 0 | G27: ='3'!G27+'9'!G27 -> 0 | H27: ='3'!H27+'9'!H27 -> 0 | I27: ='3'!I27+'9'!I27 -> 0 | J27: ='3'!J27+'9'!J27 -> 0 | K27: ='3'!K27+'9'!K27 -> 0 | ... R27: ='3'!R27+'9'!R27 -> 0
... B31: 46.0 | C31: obstetricieni – ginecologi pentru copii | D31: ='3'!D31+'9'!D31 -> 0 | E31: ='3'!E31+'9'!E31 -> 0 | F31: ='3'!F31+'9'!F31 -> 0 | G31: ='3'!G31+'9'!G31 -> 0 | H31: ='3'!H31+'9'!H31 -> 0 | I31: ='3'!I31+'9'!I31 -> 0 | J31: ='3'!J31+'9'!J31 -> 0 | K31: ='3'!K31+'9'!K31 -> 0 | ... R31: ='3'!R31+'9'!R31 -> 0

Sheet ba4
B1: Cod funcţie | C1: Denumirea funcţiei | D1: Număr funcţii pe instituţie | J1: Număr persoane fizice lucrători de bază în funcţii ocupate
D2: total | F2: inclusiv în | J2: total | K2: inclusiv în | M2: repartizați pe grupe de vîrstă (din total, col. 7) | R2: inclusiv în localitatea rurală (din total, col. 7)
F3: instituţia de asistenţă medicală primară | H3: secţia consultativă | K3: instituţia de asistenţă medicală primară | L3: secţia consultativă | M3: <35 ani | N3: 35-44 ani | O3: 45-54 ani | P3: 55-64 ani | Q3: >65 ani
D4: scriptice | E4: ocupate | F4: scriptice | G4: ocupate | H4: scriptice | I4: ocupate
B5: A | C5: B | D5: 1 | E5: 2 | F5: 3 | G5: 4 | H5: 5 | I5: 6 | J5: 7 | K5: 8 | L5: 9 | M5: 10 | N5: 11 | O5: 12 | P5: 13 | Q5: 14 | R5: 15
B6: 47.0 | C6: pediatri | D6: ='4'!D6+'10'!D6 -> 0 | E6: ='4'!E6+'10'!E6 -> 0 | F6: ='4'!F6+'10'!F6 -> 0 | G6: ='4'!G6+'10'!G6 -> 0 | H6: ='4'!H6+'10'!H6 -> 0 | I6: ='4'!I6+'10'!I6 -> 0 | J6: ='4'!J6+'10'!J6 -> 0 | K6: ='4'!K6+'10'!K6 -> 0 | ... R6: ='4'!R6+'10'!R6 -> 0
B7: 47.1 | C7: inclusiv pediatri – consultanţi | D7: ='4'!D7+'10'!D7 -> 0 | E7: ='4'!E7+'10'!E7 -> 0 | F7: ='4'!F7+'10'!F7 -> 0 | G7: ='4'!G7+'10'!G7 -> 0 | H7: ='4'!H7+'10'!H7 -> 0 | I7: ='4'!I7+'10'!I7 -> 0 | J7: ='4'!J7+'10'!J7 -> 0 | K7: ='4'!K7+'10'!K7 -> 0 | ... R7: ='4'!R7+'10'!R7 -> 0
B8: 48.0 | C8: neonatologi | D8: ='4'!D8+'10'!D8 -> 0 | E8: ='4'!E8+'10'!E8 -> 0 | F8: ='4'!F8+'10'!F8 -> 0 | G8: ='4'!G8+'10'!G8 -> 0 | H8: ='4'!H8+'10'!H8 -> 0 | I8: ='4'!I8+'10'!I8 -> 0 | J8: ='4'!J8+'10'!J8 -> 0 | K8: ='4'!K8+'10'!K8 -> 0 | ... R8: ='4'!R8+'10'!R8 -> 0
B9: 49.0 | C9: cardioreumatologi pediatri | D9: ='4'!D9+'10'!D9 -> 0 | E9: ='4'!E9+'10'!E9 -> 0 | F9: ='4'!F9+'10'!F9 -> 0 | G9: ='4'!G9+'10'!G9 -> 0 | H9: ='4'!H9+'10'!H9 -> 0 | I9: ='4'!I9+'10'!I9 -> 0 | J9: ='4'!J9+'10'!J9 -> 0 | K9: ='4'!K9+'10'!K9 -> 0 | ... R9: ='4'!R9+'10'!R9 -> 0
B10: 50.0 | C10: oftalmologi | D10: ='4'!D10+'10'!D10 -> 0 | E10: ='4'!E10+'10'!E10 -> 0 | F10: ='4'!F10+'10'!F10 -> 0 | G10: ='4'!G10+'10'!G10 -> 0 | H10: ='4'!H10+'10'!H10 -> 0 | I10: ='4'!I10+'10'!I10 -> 0 | J10: ='4'!J10+'10'!J10 -> 0 | K10: ='4'!K10+'10'!K10 -> 0 | ... R10: ='4'!R10+'10'!R10 -> 0
B11: 51.0 | C11: oftalmologi pentru copii | D11: ='4'!D11+'10'!D11 -> 0 | E11: ='4'!E11+'10'!E11 -> 0 | F11: ='4'!F11+'10'!F11 -> 0 | G11: ='4'!G11+'10'!G11 -> 0 | H11: ='4'!H11+'10'!H11 -> 0 | I11: ='4'!I11+'10'!I11 -> 0 | J11: ='4'!J11+'10'!J11 -> 0 | K11: ='4'!K11+'10'!K11 -> 0 | ... R11: ='4'!R11+'10'!R11 -> 0
