Workbook
Name Raion: '1'!$H$33
Name Raion: #REF!
Name Rubrici: #NAME?
Name Tabel_Populatia: #NAME?

Sheet 1
A1: RAPORT STATISTIC DE RAMURĂ ОТРАСЛЕВОЙ СТАТИСТИЧЕСКИЙ ОТЧЁТ
K3: In conformitate cu Legea Republicii Moldova Nr. 412-XV din 9.12.2004 «Cu privire la statistica oficială» organele statisticii oficiale: - au dreptul să obţină date statistice de la toate persoanele fizice si juridice, indiferent de forma de proprietate; - asigura соnfidenţialitatea datelor individuale obţinute si utilizarea lor numai in scорuri statistice. Refuzul, prezentarea cu întîrziere a datelor statistice, prezentarea datelor eronate sau în volum incomplet constituie contravenţie administrativă şi se sancţionează conform legislaţiei în vigoare. В соответствии с Законом Республики Молдова N 412-XV oт 9.12.2004 «Об официальной статистике» органы официальной статистики: -имеют право получать статистические данные от всех физических и юридических лиц независимо от формы собственности; -гарантируют конфиденциальность полученных индивидуальных данных и их использование только в статистических целях. Отказ, представление статистических данных с опозданием, представление ошибочных данных или не в полном объеме являются административными правонарушениями и влекут за собой применение санкций в соответствии с действующим законодательством. Aprobat de MS al Republicii Moldova prin ordinul Nr.1134 din 19.12.2023 Утвержден приказом МЗ Республики Молдова № 1134 от 19.12.2023 Prezintă: - instituţia medico-sanitară privată, agentul economic privat, care dispune de licenţă pentru prestarea serviciilor medicale pînă la 10 februarie - MS al Republicii Moldova (сătre Agenţia . Naţională pentru Sănătate Publică) - MS al Republicii Moldova ( Agenţia Naţională pentru Sănătate Publică) centralizator anual la 28 aprilie – Biroului Naţional de Statistică Представляют: - частное учреждение здравоохранения, частный экономический , агент имеющий лицензию по оказанию медицинских услуг до 10 февраля -МЗ Республики Молдова (Национальному Агентству Общественного Здоровья) - МЗ Республики Молдова (Национальное Агентство Общественного Здоровья) сводные данные за год 28 апреля – Национальному Бюро Статистики
A5: Denumirea: Наименование:
A6: Denta Ilasciuc I.I
A10: Adresa: | B10: Адрес: | F10: RAPORT STATISTIC № 1-aim-săn
F11: ( anual )
A12: Raionul (municipiul) | C12: Cahul
A13: Район (муниципий)
F14: Privind activitatea agentului economic privat la prestarea serviciilor medicale
A15: Satul (comuna) | C15: Zirnesti
A16: Село (коммуна)
A18: Strada | B18: Stefan cel Mare | D18: , nr | E18: 42 | F18: СТАТИСТИЧЕСКИЙ ОТЧЕТ № 1-aim-здрав
A19: Улица | F19: ( годовой )
A21: Cod CUIÎO | D21: 1585997
A22: Код | F22: О деятельности частного экономического агента по оказанию медицинских услуг
A24: Cod INDO | C24: 1006603001094
A25: Код
C26: Cod CAEM, ediţia 2005
A27: Activitatea principală | G27: pe 20 | H27: 23
A28: Основной вид деятельности | G28: за
A30: Stomatologie
F32: CODUL MUNICIPIULUI / RAIONULUI
H33: 7
A34: Conducătorul L.Ş. Руководитель М.П.
A35: Руководитель | D35: М.П.
A37: Numele şi coordonatele executantului
A38: Фамилия и координаты исполнителя
A40: Dl (dna) | B40: Ilasciuc Eduard | F40: Ziua | G40: Luna | I40: Anul
A41: Tel: | B41: 069004363 | F41: 2 | G41: 1 | I41: 24
A43: e-mail | B43: ilasciuc68@mail.ru

Sheet 2
B1: 3. Cadre medicale Медицинские кадры
F3: А. Medici Врачи
B5: Cod funcţie Код должности | C5: Denumirea funcţiei Наименование должности | D5: Număr medici (persoane fizice) Численность врачей (физических лиц)
D6: total всего | E6: repartizaţi pe virstă (din rub.1) : распределены по возрасту (из гр.1): | J6: din ei sunt cumulari из них совместители | P6: fără cumulari без совместителей
E7: sub 35 ani | F7: 36-44 ani | G7: 45-54 ani | H7: 55-64 ani | I7: 65 ani şi peste | J7: total всего | K7: repartizaţi pe virstă (din rub.7) : распределены по возрасту (из гр.7): | P7: total всего | Q7: repartizaţi pe virstă (din rub.13) : распределены по возрасту (из гр.13):
K8: sub 35 ani | L8: 36-44 ani | M8: 45-54 ani | N8: 55-64 ani | O8: 65 ani şi peste | Q8: sub 35 ani | R8: 36-44 ani | S8: 45-54 ani | T8: 55-64 ani | U8: 65 ani şi peste
B9: A | C9: B | D9: 1 | E9: 2 | F9: 3 | G9: 4 | H9: 5 | I9: 6 | J9: 7 | K9: 8 | L9: 9 | M9: 10 | N9: 11 | O9: 12 | P9: 13 | Q9: 14 | R9: 15 | S9: 16 | T9: 17 | U9: 18
B10: 4.0 | C10: Total (suma rînd.5.0-96.0) Всего(сумма стр.5.0-96.0) | D10: 1 | G10: 1 | J10: 1 | M10: 1 | P10: =D10-J10 -> 0 | Q10: =E10-K10 -> 0 | R10: =F10-L10 -> 0 | S10: =G10-M10 -> 0 | T10: =H10-N10 -> 0 | U10: =I10-O10 -> 0
B11: 4.1 | C11: inclusiv femei в том числе женщин | P11: =D11-J11 -> 0 | Q11: =E11-K11 -> 0 | R11: =F11-L11 -> 0 | S11: =G11-M11 -> 0 | T11: =H11-N11 -> 0 | U11: =I11-O11 -> 0
B12: 5.0 | C12: Din număr total medici (rînd. 4.0) Из общего числа врачей (стр. 4.0) conducătorii instituţiilor руководители учреждений | P12: =D12-J12 -> 0 | Q12: =E12-K12 -> 0 | R12: =F12-L12 -> 0 | S12: =G12-M12 -> 0 | T12: =H12-N12 -> 0 | U12: =I12-O12 -> 0
B13: 7.0 | C13: internişti терапевты | P13: =D13-J13 -> 0 | Q13: =E13-K13 -> 0 | R13: =F13-L13 -> 0 | S13: =G13-M13 -> 0 | T13: =H13-N13 -> 0 | U13: =I13-O13 -> 0
B14: 8.0 | C14: internişti аi cabinetelor pentru adolescenţi терапевты подростковых кабинетов | P14: =D14-J14 -> 0 | Q14: =E14-K14 -> 0 | R14: =F14-L14 -> 0 | S14: =G14-M14 -> 0 | T14: =H14-N14 -> 0 | U14: =I14-O14 -> 0
B15: 9.0 | C15: reumatologi ревматологи | P15: =D15-J15 -> 0 | Q15: =E15-K15 -> 0 | R15: =F15-L15 -> 0 | S15: =G15-M15 -> 0 | T15: =H15-N15 -> 0 | U15: =I15-O15 -> 0
B16: 10.0 | C16: cardiologi кардиологи | P16: =D16-J16 -> 0 | Q16: =E16-K16 -> 0 | R16: =F16-L16 -> 0 | S16: =G16-M16 -> 0 | T16: =H16-N16 -> 0 | U16: =I16-O16 -> 0
A17: 2 | B17: 11.0 | C17: gastroenterologi гастроэнтерологи | P17: =D17-J17 -> 0 | Q17: =E17-K17 -> 0 | R17: =F17-L17 -> 0 | S17: =G17-M17 -> 0 | T17: =H17-N17 -> 0 | U17: =I17-O17 -> 0
B18: 12.0 | C18: gastroenterologi pentru copii гастроэнтерологи детские | P18: =D18-J18 -> 0 | Q18: =E18-K18 -> 0 | R18: =F18-L18 -> 0 | S18: =G18-M18 -> 0 | T18: =H18-N18 -> 0 | U18: =I18-O18 -> 0
B19: 13.0 | C19: dietologi диетологи | P19: =D19-J19 -> 0 | Q19: =E19-K19 -> 0 | R19: =F19-L19 -> 0 | S19: =G19-M19 -> 0 | T19: =H19-N19 -> 0 | U19: =I19-O19 -> 0
B20: 14.0 | C20: nefrologi нефрологи | P20: =D20-J20 -> 0 | Q20: =E20-K20 -> 0 | R20: =F20-L20 -> 0 | S20: =G20-M20 -> 0 | T20: =H20-N20 -> 0 | U20: =I20-O20 -> 0
B21: 15.0 | C21: endocrinologi эндокринологи | P21: =D21-J21 -> 0 | Q21: =E21-K21 -> 0 | R21: =F21-L21 -> 0 | S21: =G21-M21 -> 0 | T21: =H21-N21 -> 0 | U21: =I21-O21 -> 0
B22: 16.0 | C22: endocrinologi pentru copii эндокринологи детские | P22: =D22-J22 -> 0 | Q22: =E22-K22 -> 0 | R22: =F22-L22 -> 0 | S22: =G22-M22 -> 0 | T22: =H22-N22 -> 0 | U22: =I22-O22 -> 0
B23: 17.0 | C23: alergologi аллергологи | P23: =D23-J23 -> 0 | Q23: =E23-K23 -> 0 | R23: =F23-L23 -> 0 | S23: =G23-M23 -> 0 | T23: =H23-N23 -> 0 | U23: =I23-O23 -> 0
B24: 18.0 | C24: hematologi гематологи | P24: =D24-J24 -> 0 | Q24: =E24-K24 -> 0 | R24: =F24-L24 -> 0 | S24: =G24-M24 -> 0 | T24: =H24-N24 -> 0 | U24: =I24-O24 -> 0
B25: 19.0 | C25: infecţionişti инфекционисты | P25: =D25-J25 -> 0 | Q25: =E25-K25 -> 0 | R25: =F25-L25 -> 0 | S25: =G25-M25 -> 0 | T25: =H25-N25 -> 0 | U25: =I25-O25 -> 0
B26: 20.0 | C26: infecţionişti pentru copii инфекционисты детские | P26: =D26-J26 -> 0 | Q26: =E26-K26 -> 0 | R26: =F26-L26 -> 0 | S26: =G26-M26 -> 0 | T26: =H26-N26 -> 0 | U26: =I26-O26 -> 0
B27: 21.0 | C27: fizioterapeuţi физиотерапевты | P27: =D27-J27 -> 0 | Q27: =E27-K27 -> 0 | R27: =F27-L27 -> 0 | S27: =G27-M27 -> 0 | T27: =H27-N27 -> 0 | U27: =I27-O27 -> 0
B28: 22.0 | C28: medici medicină tradiţională по традиционной медицине | P28: =D28-J28 -> 0 | Q28: =E28-K28 -> 0 | R28: =F28-L28 -> 0 | S28: =G28-M28 -> 0 | T28: =H28-N28 -> 0 | U28: =I28-O28 -> 0
B29: 23.0 | C29: kinetoterapeuţi кинетотерапевты | P29: =D29-J29 -> 0 | Q29: =E29-K29 -> 0 | R29: =F29-L29 -> 0 | S29: =G29-M29 -> 0 | T29: =H29-N29 -> 0 | U29: =I29-O29 -> 0
... B31: 25.0 | C31: medici diagnostic funcţional врачи по функциональной диагностике | P31: =D31-J31 -> 0 | Q31: =E31-K31 -> 0 | R31: =F31-L31 -> 0 | S31: =G31-M31 -> 0 | T31: =H31-N31 -> 0 | U31: =I31-O31 -> 0
D32: =SUM(D12:D31)+SUM('3'!D6:D30)+SUM('4'!D6:D34)+SUM('5'!D6:D23)-'3'!D26-'3'!D29 -> 1 | E32: =SUM(E12:E31)+SUM('3'!E6:E30)+SUM('4'!E6:E34)+SUM('5'!E6:E23)-'3'!E26-'3'!E29 -> 0 | F32: =SUM(F12:F31)+SUM('3'!F6:F30)+SUM('4'!F6:F34)+SUM('5'!F6:F23)-'3'!F26-'3'!F29 -> 0 | G32: =SUM(G12:G31)+SUM('3'!G6:G30)+SUM('4'!G6:G34)+SUM('5'!G6:G23)-'3'!G26-'3'!G29 -> 1 | H32: =SUM(H12:H31)+SUM('3'!H6:H30)+SUM('4'!H6:H34)+SUM('5'!H6:H23)-'3'!H26-'3'!H29 -> 0 | I32: =SUM(I12:I31)+SUM('3'!I6:I30)+SUM('4'!I6:I34)+SUM('5'!I6:I23)-'3'!I26-'3'!I29 -> 0 | J32: =SUM(J12:J31)+SUM('3'!J6:J30)+SUM('4'!J6:J34)+SUM('5'!J6:J23)-'3'!J26-'3'!J29 -> 1 | K32: =SUM(K12:K31)+SUM('3'!K6:K30)+SUM('4'!K6:K34)+SUM('5'!K6:K23)-'3'!K26-'3'!K29 -> 0 | ... U32: =SUM(U12:U31)+SUM('3'!U6:U30)+SUM('4'!U6:U34)+SUM('5'!U6:U23)-'3'!U26-'3'!U29 -> 0

Sheet 3
B1: Cod funcţie Код должности | C1: Denumirea funcţiei Наименование должности | D1: Număr medici (persoane fizice) Численность врачей (физических лиц)
D2: total всего | E2: repartizaţi pe virstă (din rub.1) : распределены по возрасту (из гр.1): | J2: din ei sunt cumulari из них совместители | P2: fără cumulari без совместителей
E3: sub 35 ani | F3: 36-44 ani | G3: 45-54 ani | H3: 55-64 ani | I3: 65 ani şi peste | J3: total всего | K3: repartizaţi pe virstă (din rub.7) : распределены по возрасту (из гр.7): | P3: total всего | Q3: repartizaţi pe virstă (din rub.13) : распределены по возрасту (из гр.13):
K4: sub 35 ani | L4: 36-44 ani | M4: 45-54 ani | N4: 55-64 ani | O4: 65 ani şi peste | Q4: sub 35 ani | R4: 36-44 ani | S4: 45-54 ani | T4: 55-64 ani | U4: 65 ani şi peste
B5: A | C5: B | D5: 1 | E5: 2 | F5: 3 | G5: 4 | H5: 5 | I5: 6 | J5: 7 | K5: 8 | L5: 9 | M5: 10 | N5: 11 | O5: 12 | P5: 13 | Q5: 14 | R5: 15 | S5: 16 | T5: 17 | U5: 18
B6: 26.0 | C6: geneticieni генетики | P6: =D6-J6 -> 0 | Q6: =E6-K6 -> 0 | R6: =F6-L6 -> 0 | S6: =G6-M6 -> 0 | T6: =H6-N6 -> 0 | U6: =I6-O6 -> 0
B7: 27.0 | C7: toxicologi токсикологи | P7: =D7-J7 -> 0 | Q7: =E7-K7 -> 0 | R7: =F7-L7 -> 0 | S7: =I7-O7 -> 0 | T7: =H7-N7 -> 0 | U7: =I7-O7 -> 0
B8: 28.0 | C8: geriatri геронтологи | P8: =D8-J8 -> 0 | Q8: =E8-K8 -> 0 | R8: =F8-L8 -> 0 | S8: =I8-O8 -> 0 | T8: =H8-N8 -> 0 | U8: =I8-O8 -> 0
B9: 29.0 | C9: medici de urgenţă врачи скорой помощи | P9: =D9-J9 -> 0 | Q9: =E9-K9 -> 0 | R9: =F9-L9 -> 0 | S9: =I9-O9 -> 0 | T9: =H9-N9 -> 0 | U9: =I9-O9 -> 0
B10: 30.0 | C10: imagişti-sonografie врачи по ультразвуковой диагностики | P10: =D10-J10 -> 0 | Q10: =E10-K10 -> 0 | R10: =F10-L10 -> 0 | S10: =I10-O10 -> 0 | T10: =H10-N10 -> 0 | U10: =I10-O10 -> 0
B11: 31.0 | C11: chirurgi хирурги | P11: =D11-J11 -> 0 | Q11: =E11-K11 -> 0 | R11: =F11-L11 -> 0 | S11: =I11-O11 -> 0 | T11: =H11-N11 -> 0 | U11: =I11-O11 -> 0
B12: 32.0 | C12: chirurgi pentru copii хирурги детские | P12: =D12-J12 -> 0 | Q12: =E12-K12 -> 0 | R12: =F12-L12 -> 0 | S12: =I12-O12 -> 0 | T12: =H12-N12 -> 0 | U12: =I12-O12 -> 0
B13: 33.0 | C13: chirurgi cardiovasculari сердечно-сосудистые хирурги | P13: =D13-J13 -> 0 | Q13: =E13-K13 -> 0 | R13: =F13-L13 -> 0 | S13: =I13-O13 -> 0 | T13: =H13-N13 -> 0 | U13: =I13-O13 -> 0
B14: 34.0 | C14: chirurgi toracali торакальные хирурги | P14: =D14-J14 -> 0 | Q14: =E14-K14 -> 0 | R14: =F14-L14 -> 0 | S14: =I14-O14 -> 0 | T14: =H14-N14 -> 0 | U14: =I14-O14 -> 0
B15: 35.0 | C15: proctologi проктологи | P15: =D15-J15 -> 0 | Q15: =E15-K15 -> 0 | R15: =F15-L15 -> 0 | S15: =I15-O15 -> 0 | T15: =H15-N15 -> 0 | U15: =I15-O15 -> 0
B16: 36.0 | C16: ortopezi-traumatologi ортопеды-травматологи | P16: =D16-J16 -> 0 | Q16: =E16-K16 -> 0 | R16: =F16-L16 -> 0 | S16: =I16-O16 -> 0 | T16: =H16-N16 -> 0 | U16: =I16-O16 -> 0
A17: 3 | B17: 37.0 | C17: ortopezi-traumatologi pentru copii ортопеды-травматологи детские | P17: =D17-J17 -> 0 | Q17: =E17-K17 -> 0 | R17: =F17-L17 -> 0 | S17: =I17-O17 -> 0 | T17: =H17-N17 -> 0 | U17: =I17-O17 -> 0
B18: 38.0 | C18: urologi урологи | P18: =D18-J18 -> 0 | Q18: =E18-K18 -> 0 | R18: =F18-L18 -> 0 | S18: =I18-O18 -> 0 | T18: =H18-N18 -> 0 | U18: =I18-O18 -> 0
B19: 39.0 | C19: urologi pentru copii урологи детские | P19: =D19-J19 -> 0 | Q19: =E19-K19 -> 0 | R19: =F19-L19 -> 0 | S19: =I19-O19 -> 0 | T19: =H19-N19 -> 0 | U19: =I19-O19 -> 0
B20: 40.0 | C20: neurochirurgi нейрохирурги | P20: =D20-J20 -> 0 | Q20: =E20-K20 -> 0 | R20: =F20-L20 -> 0 | S20: =I20-O20 -> 0 | T20: =H20-N20 -> 0 | U20: =I20-O20 -> 0
B21: 41.0 | C21: anesteziologi-reanimatologi анестезиологи-реаниматологи | P21: =D21-J21 -> 0 | Q21: =E21-K21 -> 0 | R21: =F21-L21 -> 0 | S21: =I21-O21 -> 0 | T21: =H21-N21 -> 0 | U21: =I21-O21 -> 0
B22: 42.0 | C22: anesteziologi-reanimatologi pentru copii анестезиологи-реаниматологи детские | P22: =D22-J22 -> 0 | Q22: =E22-K22 -> 0 | R22: =F22-L22 -> 0 | S22: =I22-O22 -> 0 | T22: =H22-N22 -> 0 | U22: =I22-O22 -> 0
B23: 43.0 | C23: endoscopişti эндоскописты | P23: =D23-J23 -> 0 | Q23: =E23-K23 -> 0 | R23: =F23-L23 -> 0 | S23: =I23-O23 -> 0 | T23: =H23-N23 -> 0 | U23: =I23-O23 -> 0
B24: 44.0 | C24: oncologi онкологи | P24: =D24-J24 -> 0 | Q24: =E24-K24 -> 0 | R24: =F24-L24 -> 0 | S24: =I24-O24 -> 0 | T24: =H24-N24 -> 0 | U24: =I24-O24 -> 0
B25: 45.0 | C25: obstetricieni – ginecologi акушеры – гинекологи | P25: =D25-J25 -> 0 | Q25: =E25-K25 -> 0 | R25: =F25-L25 -> 0 | S25: =I25-O25 -> 0 | T25: =H25-N25 -> 0 | U25: =I25-O25 -> 0
B26: 45.1 | C26: inclusiv obstetricieni-ginecologi a cabinetului de planificare a familiei в т. ч.акушеры- гинекологи кабинета планирования семьи | P26: =D26-J26 -> 0 | Q26: =E26-K26 -> 0 | R26: =F26-L26 -> 0 | S26: =I26-O26 -> 0 | T26: =H26-N26 -> 0 | U26: =I26-O26 -> 0
B27: 46.0 | C27: obstetricieni – ginecologi pentru copii акушеры – гинекологи детские | P27: =D27-J27 -> 0 | Q27: =E27-K27 -> 0 | R27: =F27-L27 -> 0 | S27: =I27-O27 -> 0 | T27: =H27-N27 -> 0 | U27: =I27-O27 -> 0
B28: 47.0 | C28: pediatri педиатры | P28: =D28-J28 -> 0 | Q28: =E28-K28 -> 0 | R28: =F28-L28 -> 0 | S28: =I28-O28 -> 0 | T28: =H28-N28 -> 0 | U28: =I28-O28 -> 0
B29: 47.1 | C29: inclusiv pediatri – consultanţi в том числе педиатры- консультанты | P29: =D29-J29 -> 0 | Q29: =E29-K29 -> 0 | R29: =F29-L29 -> 0 | S29: =I29-O29 -> 0 | T29: =H29-N29 -> 0 | U29: =I29-O29 -> 0
B30: 48.0 | C30: neonatologi неонатологи | P30: =D30-J30 -> 0 | Q30: =E30-K30 -> 0 | R30: =F30-L30 -> 0 | S30: =I30-O30 -> 0 | T30: =H30-N30 -> 0 | U30: =I30-O30 -> 0

Sheet 4
B1: Cod funcţie Код должности | C1: Denumirea funcţiei Наименование должности | D1: Număr medici (persoane fizice) Численность врачей (физических лиц)
D2: total всего | E2: repartizaţi pe virstă (din rub.1) : распределены по возрасту (из гр.1): | J2: din ei sunt cumulari из них совместители | P2: fără cumulari без совместителей
E3: sub 35 ani | F3: 36-44 ani | G3: 45-54 ani | H3: 55-64 ani | I3: 65 ani şi peste | J3: total всего | K3: repartizaţi pe virstă (din rub.7) : распределены по возрасту (из гр.7): | P3: total всего | Q3: repartizaţi pe virstă (din rub.13) : распределены по возрасту (из гр.13):
K4: sub 35 ani | L4: 36-44 ani | M4: 45-54 ani | N4: 55-64 ani | O4: 65 ani şi peste | Q4: sub 35 ani | R4: 36-44 ani | S4: 45-54 ani | T4: 55-64 ani | U4: 65 ani şi peste
B5: A | C5: B | D5: 1 | E5: 2 | F5: 3 | G5: 4 | H5: 5 | I5: 6 | J5: 7 | K5: 8 | L5: 9 | M5: 10 | N5: 11 | O5: 12 | P5: 13 | Q5: 14 | R5: 15 | S5: 16 | T5: 17 | U5: 18
B6: 49.0 | C6: cardioreumatologi pediatri кардиоревматологи детские | P6: =D6-J6 -> 0 | Q6: =E6-K6 -> 0 | R6: =F6-L6 -> 0 | S6: =G6-M6 -> 0 | T6: =H6-N6 -> 0 | U6: =I6-O6 -> 0
B7: 50.0 | C7: oftalmologi офтальмологи | P7: =D7-J7 -> 0 | Q7: =E7-K7 -> 0 | R7: =F7-L7 -> 0 | S7: =G7-M7 -> 0 | T7: =H7-N7 -> 0 | U7: =I7-O7 -> 0
B8: 51.0 | C8: oftalmologi pentru copii офтальмологи детские | P8: =D8-J8 -> 0 | Q8: =E8-K8 -> 0 | R8: =F8-L8 -> 0 | S8: =G8-M8 -> 0 | T8: =H8-N8 -> 0 | U8: =I8-O8 -> 0
B9: 52.0 | C9: otorinolaringologi оториноларингологи | P9: =D9-J9 -> 0 | Q9: =E9-K9 -> 0 | R9: =F9-L9 -> 0 | S9: =G9-M9 -> 0 | T9: =H9-N9 -> 0 | U9: =I9-O9 -> 0
B10: 53.0 | C10: otorinolaringologi pentru copii оториноларингологи детские | P10: =D10-J10 -> 0 | Q10: =E10-K10 -> 0 | R10: =F10-L10 -> 0 | S10: =G10-M10 -> 0 | T10: =H10-N10 -> 0 | U10: =I10-O10 -> 0
B11: 54.0 | C11: surdologi сурдологи | P11: =D11-J11 -> 0 | Q11: =E11-K11 -> 0 | R11: =F11-L11 -> 0 | S11: =G11-M11 -> 0 | T11: =H11-N11 -> 0 | U11: =I11-O11 -> 0
B12: 55.0 | C12: ftiziopneumologi фтизиопульмонологи | P12: =D12-J12 -> 0 | Q12: =E12-K12 -> 0 | R12: =F12-L12 -> 0 | S12: =G12-M12 -> 0 | T12: =H12-N12 -> 0 | U12: =I12-O12 -> 0
B13: 56.0 | C13: ftiziopneumologi pentru copii фтизиопульмонологи детские | P13: =D13-J13 -> 0 | Q13: =E13-K13 -> 0 | R13: =F13-L13 -> 0 | S13: =G13-M13 -> 0 | T13: =H13-N13 -> 0 | U13: =I13-O13 -> 0
B14: 57.0 | C14: neurologi невропатологи | P14: =D14-J14 -> 0 | Q14: =E14-K14 -> 0 | R14: =F14-L14 -> 0 | S14: =G14-M14 -> 0 | T14: =H14-N14 -> 0 | U14: =I14-O14 -> 0
B15: 58.0 | C15: neurologi pentru copii невропатологи детские | P15: =D15-J15 -> 0 | Q15: =E15-K15 -> 0 | R15: =F15-L15 -> 0 | S15: =G15-M15 -> 0 | T15: =H15-N15 -> 0 | U15: =I15-O15 -> 0
B16: 59.0 | C16: psihiatri психиатры | P16: =D16-J16 -> 0 | Q16: =E16-K16 -> 0 | R16: =F16-L16 -> 0 | S16: =G16-M16 -> 0 | T16: =H16-N16 -> 0 | U16: =I16-O16 -> 0
B17: 60.0 | C17: psihiatri pentru copii психиатры детские | P17: =D17-J17 -> 0 | Q17: =E17-K17 -> 0 | R17: =F17-L17 -> 0 | S17: =G17-M17 -> 0 | T17: =H17-N17 -> 0 | U17: =I17-O17 -> 0
B18: 61.0 | C18: narcologi наркологи | P18: =D18-J18 -> 0 | Q18: =E18-K18 -> 0 | R18: =F18-L18 -> 0 | S18: =G18-M18 -> 0 | T18: =H18-N18 -> 0 | U18: =I18-O18 -> 0
A19: 4 | B19: 62.0 | C19: psihoterapeuţi психотерапевты | P19: =D19-J19 -> 0 | Q19: =E19-K19 -> 0 | R19: =F19-L19 -> 0 | S19: =G19-M19 -> 0 | T19: =H19-N19 -> 0 | U19: =I19-O19 -> 0
B20: 64.0 | C20: epidemiologi эпидемиологи | P20: =D20-J20 -> 0 | Q20: =E20-K20 -> 0 | R20: =F20-L20 -> 0 | S20: =G20-M20 -> 0 | T20: =H20-N20 -> 0 | U20: =I20-O20 -> 0
B21: 65.0 | C21: dezinfecţionişti дезинфекционисты | P21: =D21-J21 -> 0 | Q21: =E21-K21 -> 0 | R21: =F21-L21 -> 0 | S21: =G21-M21 -> 0 | T21: =H21-N21 -> 0 | U21: =I21-O21 -> 0
B22: 66.0 | C22: parazitologi паразитологи | P22: =D22-J22 -> 0 | Q22: =E22-K22 -> 0 | R22: =F22-L22 -> 0 | S22: =G22-M22 -> 0 | T22: =H22-N22 -> 0 | U22: =I22-O22 -> 0
B23: 67.0 | C23: microbiologi микробиологи | P23: =D23-J23 -> 0 | Q23: =E23-K23 -> 0 | R23: =F23-L23 -> 0 | S23: =G23-M23 -> 0 | T23: =H23-N23 -> 0 | U23: =I23-O23 -> 0
B24: 68.0 | C24: virusologi вирусологи | P24: =D24-J24 -> 0 | Q24: =E24-K24 -> 0 | R24: =F24-L24 -> 0 | S24: =G24-M24 -> 0 | T24: =H24-N24 -> 0 | U24: =I24-O24 -> 0
B25: 69.0 | C25: medici igienişti pe: врачи гигиенисты по: igiena generală общей гигиене | P25: =D25-J25 -> 0 | Q25: =E25-K25 -> 0 | R25: =F25-L25 -> 0 | S25: =G25-M25 -> 0 | T25: =H25-N25 -> 0 | U25: =I25-O25 -> 0
B26: 70.0 | C26: igiena copiilor şi adolescenţilor гигиене детей и подростков | P26: =D26-J26 -> 0 | Q26: =E26-K26 -> 0 | R26: =F26-L26 -> 0 | S26: =G26-M26 -> 0 | T26: =H26-N26 -> 0 | U26: =I26-O26 -> 0
B27: 71.0 | C27: igiena alimentară гигиене питания | P27: =D27-J27 -> 0 | Q27: =E27-K27 -> 0 | R27: =F27-L27 -> 0 | S27: =G27-M27 -> 0 | T27: =H27-N27 -> 0 | U27: =I27-O27 -> 0
B28: 72.0 | C28: igiena muncii гигиене труда | P28: =D28-J28 -> 0 | Q28: =E28-K28 -> 0 | R28: =F28-L28 -> 0 | S28: =G28-M28 -> 0 | T28: =H28-N28 -> 0 | U28: =I28-O28 -> 0
B29: 73.0 | C29: igiena radiaţiilor радиационной гигиене | P29: =D29-J29 -> 0 | Q29: =E29-K29 -> 0 | R29: =F29-L29 -> 0 | S29: =G29-M29 -> 0 | T29: =H29-N29 -> 0 | U29: =I29-O29 -> 0
B30: 74.0 | C30: igiena mediului ambiant şi habitatului uman гигиене окружающей среды и среды обитания | P30: =D30-J30 -> 0 | Q30: =E30-K30 -> 0 | R30: =F30-L30 -> 0 | S30: =G30-M30 -> 0 | T30: =H30-N30 -> 0 | U30: =I30-O30 -> 0
B31: 75.0 | C31: educaţie pentru sănătate здоровому образу жизни | P31: =D31-J31 -> 0 | Q31: =E31-K31 -> 0 | R31: =F31-L31 -> 0 | S31: =G31-M31 -> 0 | T31: =H31-N31 -> 0 | U31: =I31-O31 -> 0
B32: 76.0 | C32: stоmatologi стоматологи | D32: 1 | G32: 1 | J32: 1 | M32: 1 | P32: =D32-J32 -> 0 | Q32: =E32-K32 -> 0 | R32: =F32-L32 -> 0 | S32: =G32-M32 -> 0 | T32: =H32-N32 -> 0 | U32: =I32-O32 -> 0
B33: 77.0 | C33: stоmatologi pentru copii стоматологи детские | P33: =D33-J33 -> 0 | Q33: =E33-K33 -> 0 | R33: =F33-L33 -> 0 | S33: =G33-M33 -> 0 | T33: =H33-N33 -> 0 | U33: =I33-O33 -> 0
B34: 78.0 | C34: stоmatologi chirurgi стоматологи хирурги | P34: =D34-J34 -> 0 | Q34: =E34-K34 -> 0 | R34: =F34-L34 -> 0 | S34: =G34-M34 -> 0 | T34: =H34-N34 -> 0 | U34: =I34-O34 -> 0

Sheet 5
B1: Cod funcţie Код должности | C1: Denumirea funcţiei Наименование должности | D1: Număr medici (persoane fizice) Численность врачей (физических лиц)
D2: total всего | E2: repartizaţi pe virstă (din rub.1) : распределены по возрасту (из гр.1): | J2: din ei sunt cumulari из них совместители | P2: fără cumulari без совместителей
E3: sub 35 ani | F3: 36-44 ani | G3: 45-54 ani | H3: 55-64 ani | I3: 65 ani şi peste | J3: total всего | K3: repartizaţi pe virstă (din rub.7) : распределены по возрасту (из гр.7): | P3: total всего | Q3: repartizaţi pe virstă (din rub.13) : распределены по возрасту (из гр.13):
K4: sub 35 ani | L4: 36-44 ani | M4: 45-54 ani | N4: 55-64 ani | O4: 65 ani şi peste | Q4: sub 35 ani | R4: 36-44 ani | S4: 45-54 ani | T4: 55-64 ani | U4: 65 ani şi peste
B5: A | C5: B | D5: 1 | E5: 2 | F5: 3 | G5: 4 | H5: 5 | I5: 6 | J5: 7 | K5: 8 | L5: 9 | M5: 10 | N5: 11 | O5: 12 | P5: 13 | Q5: 14 | R5: 15 | S5: 16 | T5: 17 | U5: 18
B6: 79.0 | C6: stоmatologi ortopezi стоматологи ортопеды | P6: =D6-J6 -> 0 | Q6: =E6-K6 -> 0 | R6: =F6-L6 -> 0 | S6: =G6-M6 -> 0 | T6: =H6-N6 -> 0 | U6: =I6-O6 -> 0
B7: 80.0 | C7: stоmatologi ortodonţi стоматологи ортодонты | P7: =D7-J7 -> 0 | Q7: =E7-K7 -> 0 | R7: =F7-L7 -> 0 | S7: =G7-M7 -> 0 | T7: =H7-N7 -> 0 | U7: =I7-O7 -> 0
B8: 81.0 | C8: imagişti-radiologi рентгенологи | P8: =D8-J8 -> 0 | Q8: =E8-K8 -> 0 | R8: =F8-L8 -> 0 | S8: =G8-M8 -> 0 | T8: =H8-N8 -> 0 | U8: =I8-O8 -> 0
B9: 82.0 | C9: imagişti-radiologi (radioterapeuţi) рентгенотерапевты | P9: =D9-J9 -> 0 | Q9: =E9-K9 -> 0 | R9: =F9-L9 -> 0 | S9: =G9-M9 -> 0 | T9: =H9-N9 -> 0 | U9: =I9-O9 -> 0
B10: 83.0 | C10: imagişti- medicina nucleară радиологи (радионуклидная диагностика) | P10: =D10-J10 -> 0 | Q10: =E10-K10 -> 0 | R10: =F10-L10 -> 0 | S10: =G10-M10 -> 0 | T10: =H10-N10 -> 0 | U10: =I10-O10 -> 0
B11: 86.0 | C11: morfopatologi морфопатологи | P11: =D11-J11 -> 0 | Q11: =E11-K11 -> 0 | R11: =F11-L11 -> 0 | S11: =G11-M11 -> 0 | T11: =H11-N11 -> 0 | U11: =I11-O11 -> 0
B12: 87.0 | C12: laboranţi лаборанты | P12: =D12-J12 -> 0 | Q12: =E12-K12 -> 0 | R12: =F12-L12 -> 0 | S12: =G12-M12 -> 0 | T12: =H12-N12 -> 0 | U12: =I12-O12 -> 0
B13: 88.0 | C13: laboranţi-geneticieni лаборанты-генетики | P13: =D13-J13 -> 0 | Q13: =E13-K13 -> 0 | R13: =F13-L13 -> 0 | S13: =G13-M13 -> 0 | T13: =H13-N13 -> 0 | U13: =I13-O13 -> 0
B14: 89.0 | C14: farmacologi clinici клинические фармакологи | P14: =D14-J14 -> 0 | Q14: =E14-K14 -> 0 | R14: =F14-L14 -> 0 | S14: =G14-M14 -> 0 | T14: =H14-N14 -> 0 | U14: =I14-O14 -> 0
B15: 90.0 | C15: transfuziologi трансфузиологи | P15: =D15-J15 -> 0 | Q15: =E15-K15 -> 0 | R15: =F15-L15 -> 0 | S15: =G15-M15 -> 0 | T15: =H15-N15 -> 0 | U15: =I15-O15 -> 0
B16: 91.0 | C16: imunologi иммунологи | P16: =D16-J16 -> 0 | Q16: =E16-K16 -> 0 | R16: =F16-L16 -> 0 | S16: =G16-M16 -> 0 | T16: =H16-N16 -> 0 | U16: =I16-O16 -> 0
A17: 5 | B17: 92.0 | C17: sexopatologi сексопатологи | P17: =D17-J17 -> 0 | Q17: =E17-K17 -> 0 | R17: =F17-L17 -> 0 | S17: =G17-M17 -> 0 | T17: =H17-N17 -> 0 | U17: =I17-O17 -> 0
B18: 93.0 | C18: andrologi андрологи | P18: =D18-J18 -> 0 | Q18: =E18-K18 -> 0 | R18: =F18-L18 -> 0 | S18: =G18-M18 -> 0 | T18: =H18-N18 -> 0 | U18: =I18-O18 -> 0
B19: 94.0 | C19: statisticieni статистики | P19: =D19-J19 -> 0 | Q19: =E19-K19 -> 0 | R19: =F19-L19 -> 0 | S19: =G19-M19 -> 0 | T19: =H19-N19 -> 0 | U19: =I19-O19 -> 0
B20: 95.0 | C20: metodişti методисты | P20: =D20-J20 -> 0 | Q20: =E20-K20 -> 0 | R20: =F20-L20 -> 0 | S20: =G20-M20 -> 0 | T20: =H20-N20 -> 0 | U20: =I20-O20 -> 0
B21: 96.0 | C21: dermato-venerologi дермато-венерологи | P21: =D21-J21 -> 0 | Q21: =E21-K21 -> 0 | R21: =F21-L21 -> 0 | S21: =G21-M21 -> 0 | T21: =H21-N21 -> 0 | U21: =I21-O21 -> 0
B22: 97.0 | P22: =D22-J22 -> 0 | Q22: =E22-K22 -> 0 | R22: =F22-L22 -> 0 | S22: =G22-M22 -> 0 | T22: =H22-N22 -> 0 | U22: =I22-O22 -> 0
B23: 98.0 | C23: alţi specialişti другие специалисты | P23: =D23-J23 -> 0 | Q23: =E23-K23 -> 0 | R23: =F23-L23 -> 0 | S23: =G23-M23 -> 0 | T23: =H23-N23 -> 0 | U23: =I23-O23 -> 0
B24: 99.0 | C24: În afară de aceasta: Кроме того: rezidenţi резиденты | P24: =D24-J24 -> 0 | Q24: =E24-K24 -> 0 | R24: =F24-L24 -> 0 | S24: =G24-M24 -> 0 | T24: =H24-N24 -> 0 | U24: =I24-O24 -> 0
B25: 100.0 | C25: Dentişti Зубные врачи | P25: =D25-J25 -> 0 | Q25: =E25-K25 -> 0 | R25: =F25-L25 -> 0 | S25: =G25-M25 -> 0 | T25: =H25-N25 -> 0 | U25: =I25-O25 -> 0
B26: 103.0 | C26: Specialişti cu studii superioare nemedicale, care ocupă funcţii de medici – total Специалисты с высшим немедицинским образованием, занимающие должности врачей - всего | P26: =D26-J26 -> 0 | Q26: =E26-K26 -> 0 | R26: =F26-L26 -> 0 | S26: =G26-M26 -> 0 | T26: =H26-N26 -> 0 | U26: =I26-O26 -> 0
B27: 103.1 | C27: din ei: из них: medici – laboranţi врачей –лаборантов | P27: =D27-J27 -> 0 | Q27: =E27-K27 -> 0 | R27: =F27-L27 -> 0 | S27: =G27-M27 -> 0 | T27: =H27-N27 -> 0 | U27: =I27-O27 -> 0
B28: 103.2 | C28: medici – statisticieni врачей - статистиков | P28: =D28-J28 -> 0 | Q28: =E28-K28 -> 0 | R28: =F28-L28 -> 0 | S28: =G28-M28 -> 0 | T28: =H28-N28 -> 0 | U28: =I28-O28 -> 0
B29: 103.3 | C29: medici – kinetoterapeuţi врачей - кинетотерапевтов | P29: =D29-J29 -> 0 | Q29: =E29-K29 -> 0 | R29: =F29-L29 -> 0 | S29: =G29-M29 -> 0 | T29: =H29-N29 -> 0 | U29: =I29-O29 -> 0
B30: 6.0 | C30: În afară de aceasta medici de familie care activează conform contractului cu CNAM Кроме того семейные врачи работающие на базе контракта с НКСM | P30: =D30-J30 -> 0 | Q30: =E30-K30 -> 0 | R30: =F30-L30 -> 0 | S30: =G30-M30 -> 0 | T30: =H30-N30 -> 0 | U30: =I30-O30 -> 0
D31: ='2'!D10 -> 1 | E31: ='2'!E10 -> 0 | F31: ='2'!F10 -> 0 | G31: ='2'!G10 -> 1 | H31: ='2'!H10 -> 0 | I31: ='2'!I10 -> 0 | J31: ='2'!J10 -> 1 | K31: ='2'!K10 -> 0 | ... S31: ='2'!S10 -> 0

Sheet 6
D2: B. Personal medical mediu Средний медицинский персонал
B4: Cod funcţie Код должности | C4: Denumirea funcţiei Наименование должности | D4: Număr personal medical (persoane fizice) Численность средний медицинский персонал (физических лиц)
D5: total всего | E5: repartizaţi pe virstă (din rub.1) : распределены по возрасту (из гр.1): | J5: din ei sunt cumulari из них совместители | P5: fără cumulari без совместителей
E6: sub 35 ani | F6: 36-44 ani | G6: 45-54 ani | H6: 55-64 ani | I6: 65 ani şi peste | J6: total всего | K6: repartizaţi pe virstă (din rub.7) : распределены по возрасту (из гр.7): | P6: total всего | Q6: repartizaţi pe virstă (din rub.13) : распределены по возрасту (из гр.13):
K7: sub 35 ani | L7: 36-44 ani | M7: 45-54 ani | N7: 55-64 ani | O7: 65 ani şi peste | Q7: sub 35 ani | R7: 36-44 ani | S7: 45-54 ani | T7: 55-64 ani | U7: 65 ani şi peste
B8: A | C8: B | D8: 1 | E8: 2 | F8: 3 | G8: 4 | H8: 5 | I8: 6 | J8: 7 | K8: 8 | L8: 9 | M8: 10 | N8: 11 | O8: 12 | P8: 13 | Q8: 14 | R8: 15 | S8: 16 | T8: 17 | U8: 18
B9: 107.0 | C9: Total Всего | D9: 2 | G9: 1 | H9: 1 | J9: 1 | M9: 1 | P9: =D9-J9 -> 1 | Q9: =E9-K9 -> 0 | R9: =F9-L9 -> 0 | S9: =G9-M9 -> 0 | T9: =H9-N9 -> 1 | U9: =I9-O9 -> 0
B10: 107.1 | C10: inclusiv femei в том числе женщин | D10: 1 | G10: 1 | J10: 1 | M10: 1 | P10: =D10-J10 -> 0 | Q10: =E10-K10 -> 0 | R10: =F10-L10 -> 0 | S10: =G10-M10 -> 0 | T10: =H10-N10 -> 0 | U10: =I10-O10 -> 0
B11: 108.0 | C11: Din număr total personal medical mediu (rînd. 107.0), Из общего числа среднего медперсонала (стр. 107.0), asistenţi medicali медицинские сестры | P11: =D11-J11 -> 0 | Q11: =E11-K11 -> 0 | R11: =F11-L11 -> 0 | S11: =G11-M11 -> 0 | T11: =H11-N11 -> 0 | U11: =I11-O11 -> 0
B12: 109.0 | C12: asistenţii medicului igienist помощники врача гигиениста | P12: =D12-J12 -> 0 | Q12: =E12-K12 -> 0 | R12: =F12-L12 -> 0 | S12: =G12-M12 -> 0 | T12: =H12-N12 -> 0 | U12: =I12-O12 -> 0
B13: 110.0 | C13: asistenţii epidemiologului помощники эпидемиолога | P13: =D13-J13 -> 0 | Q13: =E13-K13 -> 0 | R13: =F13-L13 -> 0 | S13: =G13-M13 -> 0 | T13: =H13-N13 -> 0 | U13: =I13-O13 -> 0
B14: 111.0 | C14: moaşe акушерки | P14: =D14-J14 -> 0 | Q14: =E14-K14 -> 0 | R14: =F14-L14 -> 0 | S14: =G14-M14 -> 0 | T14: =H14-N14 -> 0 | U14: =I14-O14 -> 0
B15: 112.0 | C15: felceri фельдшера | P15: =D15-J15 -> 0 | Q15: =E15-K15 -> 0 | R15: =F15-L15 -> 0 | S15: =G15-M15 -> 0 | T15: =H15-N15 -> 0 | U15: =I15-O15 -> 0
B16: 113.0 | C16: felceri-narcologi фельдшера -наркологи | P16: =D16-J16 -> 0 | Q16: =E16-K16 -> 0 | R16: =F16-L16 -> 0 | S16: =G16-M16 -> 0 | T16: =H16-N16 -> 0 | U16: =I16-O16 -> 0
A17: 6 | B17: 114.0 | C17: laboranţi лаборанты | P17: =D17-J17 -> 0 | Q17: =E17-K17 -> 0 | R17: =F17-L17 -> 0 | S17: =G17-M17 -> 0 | T17: =H17-N17 -> 0 | U17: =I17-O17 -> 0
B18: 115.0 | C18: tehnicieni-radiologi рентген-лаборанты | P18: =D18-J18 -> 0 | Q18: =E18-K18 -> 0 | R18: =F18-L18 -> 0 | S18: =G18-M18 -> 0 | T18: =H18-N18 -> 0 | U18: =I18-O18 -> 0
B19: 116.0 | C19: statisticieni medicali медицинские статистики | D19: 1 | G19: 1 | J19: 1 | M19: 1 | P19: =D19-J19 -> 0 | Q19: =E19-K19 -> 0 | R19: =F19-L19 -> 0 | S19: =G19-M19 -> 0 | T19: =H19-N19 -> 0 | U19: =I19-O19 -> 0
B20: 117.0 | C20: tehnicieni- dentari зубные техники | D20: 1 | H20: 1 | P20: =D20-J20 -> 1 | Q20: =E20-K20 -> 0 | R20: =F20-L20 -> 0 | S20: =G20-M20 -> 0 | T20: =H20-N20 -> 1 | U20: =I20-O20 -> 0
B21: 118.0 | C21: registratori medicali медицинские регистраторы | P21: =D21-J21 -> 0 | Q21: =E21-K21 -> 0 | R21: =F21-L21 -> 0 | S21: =G21-M21 -> 0 | T21: =H21-N21 -> 0 | U21: =I21-O21 -> 0
B22: 119.0 | C22: instructori – dezinfecţionişti инструкторы - дезинфекторы | P22: =D22-J22 -> 0 | Q22: =E22-K22 -> 0 | R22: =F22-L22 -> 0 | S22: =G22-M22 -> 0 | T22: =H22-N22 -> 0 | U22: =I22-O22 -> 0
B23: 120.0 | C23: felceri în educaţie pentru sănătate фельдшерa по здоровому образу жизни | P23: =D23-J23 -> 0 | Q23: =E23-K23 -> 0 | R23: =F23-L23 -> 0 | S23: =G23-M23 -> 0 | T23: =H23-N23 -> 0 | U23: =I23-O23 -> 0
B24: 121.0 | C24: dezinfectori дезинфекторы | P24: =D24-J24 -> 0 | Q24: =E24-K24 -> 0 | R24: =F24-L24 -> 0 | S24: =G24-M24 -> 0 | T24: =H24-N24 -> 0 | U24: =I24-O24 -> 0
B25: 122.0 | C25: alt personal medical mediu прочий cредний медицинский персонал | P25: =D25-J25 -> 0 | Q25: =E25-K25 -> 0 | R25: =F25-L25 -> 0 | S25: =G25-M25 -> 0 | T25: =H25-N25 -> 0 | U25: =I25-O25 -> 0
B26: 123.0 | C26: În afară de aceasta, fără studii medicale medii, ocupă funcţii- total Кроме того, без среднего медицинского образования, занимающие должности- всего | P26: =D26-J26 -> 0 | Q26: =E26-K26 -> 0 | R26: =F26-L26 -> 0 | S26: =G26-M26 -> 0 | T26: =H26-N26 -> 0 | U26: =I26-O26 -> 0
B27: 123.1 | C27: din ei: из них: registratori medicali медицинских регистраторов | P27: =D27-J27 -> 0 | Q27: =E27-K27 -> 0 | R27: =F27-L27 -> 0 | S27: =G27-M27 -> 0 | T27: =H27-N27 -> 0 | U27: =I27-O27 -> 0
B28: 123.2 | C28: instructori – dezinfecţionişti инструкторов - дезинфекторов | P28: =D28-J28 -> 0 | Q28: =E28-K28 -> 0 | R28: =F28-L28 -> 0 | S28: =G28-M28 -> 0 | T28: =H28-N28 -> 0 | U28: =I28-O28 -> 0
B29: 123.3 | C29: dezinfectori дезинфекторов | P29: =D29-J29 -> 0 | Q29: =E29-K29 -> 0 | R29: =F29-L29 -> 0 | S29: =G29-M29 -> 0 | T29: =H29-N29 -> 0 | U29: =I29-O29 -> 0
B30: 123.4 | C30: alt personal medical mediu прочего cреднего медперсонала | P30: =D30-J30 -> 0 | Q30: =E30-K30 -> 0 | R30: =F30-L30 -> 0 | S30: =G30-M30 -> 0 | T30: =H30-N30 -> 0 | U30: =I30-O30 -> 0
B31: 108.1 | C31: În afară de aceasta, asistente medicale ale medicilor de familie Кроме того, медицинские сёстры семейных врачей | P31: =D31-J31 -> 0 | Q31: =E31-K31 -> 0 | R31: =F31-L31 -> 0 | S31: =G31-M31 -> 0 | T31: =H31-N31 -> 0 | U31: =I31-O31 -> 0

Sheet 7
B2: 4. Numar total de vizite la medici, inclusiv profilactice (fără vizite la stomatologi şi medici de familie care activează conform contractului cu CNAM)*
B3: Общее число посещений к врачам, включая профилактические (без посещений к стоматологам и семейным врачам работающим на базе контракта с НКСM)
B4: Cod funcţie Код должности | C4: Denumirea Наименование | D4: Vizite la medici, inclusiv profilactice Число посещений к врачам, включая профилактические | G4: Din număr total de vizite au fost efectuate pe motiv de boală Из общего числа посещений сделано по поводу заболеваний | J4: Vizite efectuate de medici la domiciliu Посещения, выполненные врачами на дому | M4: Din număr total de vizite la domiciliu- pe motiv de boală Из общего числа посещений на дому- по поводу заболеваний
D5: total всего | E5: inclusiv (din rub.1) в т.ч.(из гр.1) | G5: Din număr total de vizite au fost efectuate pe motiv de boală Из общего числа посещений сделано по поводу заболеваний | H5: inclusiv_ (din rub.4) в т.ч.(из гр.4) | J5: total всего | K5: inclusiv (din rub.7) в т.ч.(из гр.7) | M5: total всего | N5: inclusiv (din rub.10) в т.ч.(из гр.10)
E6: de către persoanele asigurate (achitate de СNAM) застрахованных лиц (оплачен-ных НКСМ) | F6: la copii 0 - 17 ani 11luni 29zile к детям 0-17 лет 11мес. 29 дн | I6: copii 0 – 17 ani 11 luni 29 zile детей 0 – 17 лет 11 мес. 29 дн. | K6: de către persoanele asigurate (achitate de СNAM) к застрахованным лицам (оплачен-ных НКСМ) | L6: la copii 0 - 17 ani 11luni 29zile к детям 0-17 лет 11мес. 29 дн | O6: la copii 0 - 17 ani 11luni 29zile к детям 0-17 лет 11мес. 29 дн
B8: A | C8: B | D8: 1 | E8: 2 | F8: 3 | G8: 4 | H8: 5 | I8: 6 | J8: 7 | K8: 8 | L8: 9 | M8: 10 | N8: 11 | O8: 12
B9: 1 | C9: Total Всего | H9: 0 | N9: 0
B10: 3 | C10: internişti терапевты | H10: 0 | N10: 0
B11: 4 | C11: internişti ai cabinetelor p-u adolescenţi терапевты подростковых кабинетов | H11: 0 | N11: 0
A12: 7 | B12: 5 | C12: reumatologi ревматологи | H12: 0 | N12: 0
B13: 6 | C13: cardiologi кардиологи | H13: 0 | N13: 0
B14: 7 | C14: gastroenterologi гастроентерологи | H14: 0 | N14: 0
B15: 8 | C15: dietologi диетологи | H15: 0 | N15: 0
B16: 9 | C16: nefrologi нефрологи | H16: 0 | N16: 0
B17: 10 | C17: endocrinologi эндокринологи | H17: 0 | N17: 0
B18: 11 | C18: alergologi алергологи | H18: 0 | N18: 0
B19: 12 | C19: hematologi гематологи | H19: 0 | N19: 0
B20: 13 | C20: infecţionişti инфекционисты | H20: 0 | N20: 0
B21: 14 | C21: fizioterapeuţi физиотерапевты | H21: 0 | N21: 0
B22: 15 | C22: medici medicină tradiţională врачи по традиционной медицине | H22: 0 | N22: 0
B23: 16 | C23: kinetoterapeuţi кинетотерапевты | H23: 0 | N23: 0
B24: 17 | C24: medici medicină sportivă врачи по спортивной медицине | H24: 0 | N24: 0
D25: =SUM('8'!D6:D21)+SUM('9'!D6:D23)-'8'!D20 -> 0 | E25: =SUM('8'!E6:E21)+SUM('9'!E6:E23)-'8'!E20 -> 0 | F25: =SUM('8'!F6:F21)+SUM('9'!F6:F23)-'8'!F20 -> 0 | G25: =SUM('8'!G6:G21)+SUM('9'!G6:G23)-'8'!G20 -> 0 | H25: =SUM('8'!H6:H21)+SUM('9'!H6:H23)-'8'!H20 -> 0 | I25: =SUM('8'!I6:I21)+SUM('9'!I6:I23)-'8'!I20 -> 0 | J25: =SUM('8'!J6:J21)+SUM('9'!J6:J23)-'8'!J20 -> 0 | K25: =SUM('8'!K6:K21)+SUM('9'!K6:K23)-'8'!K20 -> 0 | ... O25: =SUM('8'!O6:O21)+SUM('9'!O6:O23)-'8'!O20 -> 0
B26: *Vizite la medici de familie, care activează conform contractului cu CNAM se indică în rs30 – săn. Посещения к семейны*Vizite la medici de familie, care activează conform contractului cu CNAM se indică în rs30 – săn.

Sheet 8
B1: Cod funcţie Код должности | C1: Denumirea Наименование | D1: Vizite la medici, inclusiv profilactice Число посещений к врачам, включая профилактические | G1: Din număr total de vizite au fost efectuate pe motiv de boală Из общего числа посещений сделано по поводу заболеваний | J1: Vizite efectuate de medici la domiciliu Посещения, выполненные врачами на дому | M1: Din număr total de vizite la domiciliu- pe motiv de boală Из общего числа посещений на дому- по поводу заболеваний
D2: total всего | E2: inclusiv (din rub.1) в т.ч.(из гр.1) | G2: total всего | H2: inclusiv (din rub.4) в т.ч.(из гр.4) | J2: total всего | K2: inclusiv (din rub.7) в т.ч.(из гр.7) | M2: total всего | N2: inclusiv (din rub.10) в т.ч.(из гр.10)
E3: de către persoanele asigurate (achitate de СNAM) застрахованных лиц (оплачен-ных НКСМ) | F3: la copii 0 - 17 ani 11luni 29zile к детям 0-17 лет 11мес. 29 дн | I3: copii 0 – 17 ani 11 luni 29 zile детей 0 – 17 лет 11 мес. 29 дн. | K3: de către persoanele asigurate (achitate de СNAM) к застрахован-ным лицам (оплаченных НКСМ) | L3: la copii 0 - 17 ani 11luni 29zile к детям 0-17 лет 11мес. 29 дн | O3: la copii 0 - 17 ani 11luni 29zile к детям 0-17 лет 11мес. 29 дн
B5: A | C5: B | D5: 1 | E5: 2 | F5: 3 | G5: 4 | H5: 5 | I5: 6 | J5: 7 | K5: 8 | L5: 9 | M5: 10 | N5: 11 | O5: 12
B6: 18 | C6: medici diagnostic funcţional врачи по функциональной диагностике | H6: 0 | N6: 0
B7: 19 | C7: geneticieni генетики | H7: 0 | N7: 0
B8: 20 | C8: geriatri геронтологи | H8: 0 | N8: 0
A9: 8 | B9: 21 | C9: imagişti-sonografie врачи по ультразвуковой диагностике | H9: 0 | N9: 0
B10: 22 | C10: chirurgi хирурги | H10: 0 | N10: 0
B11: 23 | C11: chirurgi cardiovasculari сердечно-сосудистые хирурги | H11: 0 | N11: 0
B12: 24 | C12: chirurgi toracali торакальные хирурги | H12: 0 | N12: 0
B13: 25 | C13: proctologi проктологи | H13: 0 | N13: 0
B14: 26 | C14: ortopezi-traumatologi ортопеды-травматологи | H14: 0 | N14: 0
B15: 27 | C15: urologi урологи | H15: 0 | N15: 0
B16: 28 | C16: neurochirurgi нейрохирурги | H16: 0 | N16: 0
B17: 29 | C17: endoscopişti эндоскописты | H17: 0 | N17: 0
B18: 30 | C18: oncologi онкологи | H18: 0 | N18: 0
B19: 31 | C19: obstetricieni – ginecologi акушеры – гинекологи | H19: 0 | N19: 0
B20: 31.1 | C20: din ei obstetricieni – ginecologi a cabinetului de planificare a familiei из них акушеры – гинекологи кабинета планирования семьи | H20: 0 | N20: 0
B21: 32 | C21: pediatri педиатры | H21: 0 | N21: 0
B22: 32.1 | C22: din ei pediatri – consultanţi из них педиатры - консультанты | H22: 0 | N22: 0

Sheet 9
B1: Cod funcţie Код должности | C1: Denumirea Наименование | D1: Vizite la medici, inclusiv profilactice Число посещений к врачам, включая профилактические | G1: Din număr total de vizite au fost efectuate pe motiv de boală Из общего числа посещений сделано по поводу заболеваний | J1: Vizite efectuate de medici la domiciliu Посещения, выполненные врачами на дому | M1: Din număr total de vizite la domiciliu- pe motiv de boală Из общего числа посещений на дому- по поводу заболеваний
D2: total всего | E2: inclusiv (din rub.1) в т.ч.(из гр.1) | G2: total всего | H2: inclusiv (din rub.4) в т.ч.(из гр.4) | J2: total всего | K2: inclusiv (din rub.7) в т.ч.(из гр.7) | M2: total всего | N2: inclusiv (din rub.10) в т.ч.(из гр.10)
E3: de către persoanele asigurate (achitate de СNAM) застрахованных лиц (оплачен-ных НКСМ) | F3: la copii 0 - 17 ani 11luni 29zile к детям 0-17 лет 11мес. 29 дн | I3: copii 0 – 17 ani 11 luni 29 zile детей 0 – 17 лет 11 мес. 29 дн. | K3: de către persoanele asigurate (achitate de СNAM) к застрахован-ным лицам (оплаченных НКСМ) | L3: la copii 0 - 17 ani 11luni 29zile к детям 0-17 лет 11мес. 29 дн | O3: la copii 0 - 17 ani 11luni 29zile к детям 0-17 лет 11мес. 29 дн
B5: A | C5: B | D5: 1 | E5: 2 | F5: 3 | G5: 4 | H5: 5 | I5: 6 | J5: 7 | K5: 8 | L5: 9 | M5: 10 | N5: 11 | O5: 12
B6: 33 | C6: cardioreumatologi pediatri кардиоревматологи детские | H6: 0 | N6: 0
B7: 34 | C7: oftalmologi офтальмологи | H7: 0 | N7: 0
B8: 35 | C8: otorinolaringologi оториноларингологи | H8: 0 | N8: 0
A9: 9 | B9: 36 | C9: surdologi сурдологи | H9: 0 | N9: 0
B10: 37 | C10: ftiziopneumologi фтизиопульмонологи | H10: 0 | N10: 0
B11: 38 | C11: neurologi невропатологи | H11: 0 | N11: 0
B12: 39 | C12: psihiatri психиатры | H12: 0 | N12: 0
B13: 40 | C13: narcologi наркологи | H13: 0 | N13: 0
B14: 41 | C14: psihoterapeuţi психотерапевты | H14: 0 | N14: 0
B15: 42 | C15: experţi psihiatrie judiciară судебно-психиатрические эксперты | H15: 0 | N15: 0
B16: 44 | C16: imagişti-radiologi рентгенологи | H16: 0 | N16: 0
B17: 45 | C17: imagişti-radiologi (radioterapeuţi) рентгенотерапевты | H17: 0 | N17: 0
B18: 46 | C18: imagişti- medicina nucleară радиологи (радионуклидная диагностика) | H18: 0 | N18: 0
B19: 47 | C19: imunologi иммунологи | H19: 0 | N19: 0
B20: 48 | C20: sexopatologi сексопатологи | H20: 0 | N20: 0
B21: 49 | C21: andrologi андрологи | H21: 0 | N21: 0
B22: 50 | C22: dermato-venerologi дермато-венерологи | H22: 0 | N22: 0

Sheet 10
B1: 5. Activitatea serviciului stomatologic
B2: Работа стоматологической службы
A3: Denumirea Наименование | B3: Nr. rînd № строки | C3: Număr vizite la stomatologi şi dentişti Число посещений к стоматологам и зубным врачам | E3: În total au fost sanaţi conform planului şi adresărilor Всего санировано в порядке плановой санации и по обращению | F3: Plombaţi dinţi Запломбировано зубов | H3: Extraşi dinţi Удалено зубов | J3: Activitatea de profilaxie Профилактическая работа
C4: total всего | D4: inclusiv primare*) в т. ч. первичных | F4: total всего | G4: inclusiv pe motiv de caries complicat в т. ч. по поводу осложненного кариеса | H4: total всего | I4: inclusiv pe motiv de maladii ale paradontului в т. ч. по поводу заболеваний парoдонта | J4: au fost examinaţi cu scop profilactic total осмотрено с профилактической целью всего | K4: din numărul examinaţilor necesitau sanaţie из числа осмотренных нуждались в санации | L4: au fost sanaţi din numărul depistaţilor pe parcursul sanării planificate санировано из числа выявлен. при плановой санации
A5: A | B5: B | C5: 1 | D5: 2 | E5: 3 | F5: 4 | G5: 5 | H5: 6 | I5: 7 | J5: 8 | K5: 9 | L5: 10
A6: Total Всего | B6: 1 | C6: 406 | D6: 315 | E6: 285 | F6: 618 | G6: 618
A7: inclusiv copii 0 - 17 ani 11 luni 29 zile в том числе дети 0-17лет 11мес.29 дн | B7: 2 | C7: 50 | D7: 25 | E7: 40 | F7: 68 | G7: 58
A8: *) Primară se consideră prima adresare la stomatolog în anul gestionar indiferent de caracterul adresării Первичным считается первое обращение к стоматологу в отчетном году независимо от характера обращения
A9: Nota: în tabela Nr. 5 se includ şi datele din tabela Nr. 6 privind asistenţa stomatologică de urgenţă Примечание: в таблицу № 5 включаются и данные из таблицы № 6 о срочной стоматологической помощи.
A11: Nota: Ziua lucrătoare trebue calculată reeşind din durata zilei lucratore a medicului stomatolog de 6 ore 30 min
B12: 6. Asistenţa stomatologică de urgenţă
B13: Срочная стоматологическая помощь
A14: Denumirea Наименование | B14: Nr. rînd № строки | C14: Număr bolnavi tratați în caz de urgenţă Число пролеченных больных при ургентных состояниях | F14: Plombaţi dinţi pe motiv de Запломбировано зубов по поводу | H14: Extraşi dinţi Удалено зубов | I14: Trataţi bolnavi pe motiv de Пролечено больных по поводу
C15: total всего | D15: inclusiv в том числе
D16: primare первичные | E16: de persoane asigurate застрахованными лицами | F16: pulpită acută острого пульпита | G16: periodontită acută sau exacerbată острого периодонтита или обострения | I16: absces абсцесса | J16: periostită периостита | K16: flegmonă флегмоны | L16: fractură a maxilarului перелома челюсти | M16: stomatită acută острого стоматита
A17: A | B17: B | C17: 1 | D17: 2 | E17: 3 | F17: 4 | G17: 5 | H17: 6 | I17: 7 | J17: 8 | K17: 9 | L17: 10 | M17: 11
A18: Total Всего | B18: 1 | C18: 255 | D18: 255 | E18: 0 | F18: 150 | G18: 88
A19: inclusiv copii 0 - 17 ani 11 luni 29 zile в том числе дети 0-17лет 11мес.29 дн | B19: 2 | C19: 50 | D19: 25 | E19: 0 | F19: 25 | G19: 0
B22: 7. Confecţionarea protezelor dentare
B23: Изготовление зубных протезов
A24: Număr persoane ce au primit proteze dentare Число лиц, получивших протезы | C24: Confecţionate Изготовлено
C25: coroane unice одиночных коронок | G25: proteze mobile съемных протезов | I25: unităţi metalocera-mice şi porcelan единиц металло-керамики и фарфора | J25: proteze cosmetice космети-ческих протезов | K25: alte tipuri de proteze dentare прочих видов зубных протезов
D26: punţi protetice total мостовид-ных протезов всего | E26: în ele в них | G26: total всего | H26: schele-tate бюгель-ных
A27: total всего | B27: din ei locu- itori rurali из них сельских жителей | E27: coroane коронок | F27: dinţi artificiali искус-ствен. зубов
A28: 1 | B28: 2 | C28: 3 | D28: 4 | E28: 5 | F28: 6 | G28: 7 | H28: 8 | I28: 9 | J28: 10 | K28: 11
A29: 91 | B29: 86 | C29: 42 | D29: 34 | E29: 90 | F29: 64 | G29: 45 | H29: 12 | I29: 103
A31: 7.1 Număr persoane се au primit tratament ortodontic: total 1 | G31: 91 | H31: , din ei copii 0-17 ani 11 luni 29 zile 2
A32: Число лиц, получивших ортодонтическое лечение: всего | H32: из них детей 0-17 лет 11 мес. 29 дн.

Sheet 11
B3: 8. Activitatea chirurgicală a stomatologului* | I3: 10. Activitatea cabinetelor de diagnosticare
B4: Хирургическая работа стоматолога | I4: Работа диагностических кабинетов
B6: Denumirea investigaţiei Наименование исследования | C6: Nr rînd № стр. | D6: Număr intervenţii - total Число операций - всего | E6: inclusiv în staţionar в том числе в стационаре | I6: Denumirea investigaţiei Наименование исследования | J6: Nr rînd № стр. | K6: Număr investiga-ţii Число исследо-ваний | L6: inclusiv achitate de CNAM persoanelor asigurate в т. ч. оплаченных НКСМ застрахованным лицам
B7: А | C7: B | D7: 1 | E7: 2 | I7: А | J7: B | K7: 1
B8: Total intervenţii Всего операций | C8: 1.0 | I8: Rezonanţă magnetică nucleară Ядерномагнитный резонанс | J8: 1
B9: pe aparatul osteo-muscular - total на костно-мышечной системе - всего | C9: 2.0 | I9: Tomografia computerizată Kомпьютерная томография | J9: 2
B10: inclusiv: в том числе: - de inserare a implantelor osteointegrante по установке имплантов | C10: 2.1 | I10: Radiologice - total Радиологические – всего | J10: 3
B11: - osteoplastia defectelor osoase și apofizei alvеolare остеопластика костных дефектов и альвeолярного отростка | C11: 2.2 | I11: inclusiv: в том числе: - viziografia визиография | J11: 3.1
B12: - osteoplastia defectelor osoase și apofizei alvеolare сu inserarea simultană a implantelor остеопластика костных дефектов и альвeолярного отростка с одновременной установкой имплантов | C12: 2.3 | I12: Endoscopice - total Эндоскопические - всего | J12: 4
B13: pe piele şi ţesutul celular subcutanat на коже и подкожной клетчатке | C13: 3.0 | I13: inclusiv: в том числе: - esofagogastroduodenoscopie эзофагогастродуоденоскопия | J13: 4.1
B14: alte intervenţii прочие операции | C14: 4.0 | I14: - bronhoscopie бронхоскопия | J14: 4.2
B15: *Notă: în intervenții nu se include extracţia dinţilor | I15: - сolonoscopie колоноскопия | J15: 4.3
B16: Примечание: в операции не включать удаление зубов | I16: - rectoromanoscopie ректороманоскопия | J16: 4.4
B17: 9. Activitatea cabinetelor curativ-auxiliare | I17: - altele другие | J17: 4.5
B18: Работа лечебно-вспомогательных кабинетов | I18: Ecografie - total Эхография (УЗИ) – всего | J18: 5
B19: Denumirea cabinetului Название кабинета | C19: Nr rînd № стр. | D19: Număr persoane, care au terminat tratamentul Число лиц, закончивших лечение | E19: Număr şedinţe efectuate Число отпущенных процедур | F19: inclusiv şedinţe achitate de CNAM persoanelor asigurate (din rub.2) в т. ч. Оплаченных процедур НКСМ застрахованным лицам (из гр.2) | I19: inclusiv: в том числе: - ecografia organelor cavităţii abdominale şi retroperitoneale эхография органов брюшной полости и забрюшинного пространства | J19: 5.1
B20: А | C20: В | D20: 1 | E20: 2 | F20: 3 | I20: - ecografia sarcinii эхография при беременности | J20: 5.2
B21: fizioterapie (inclusiv masaj) физиотерапии (в.т.я. Массаж) | C21: 1 | I21: din ele : из них: - în termen 18-21 săptămîni ale sarcinii в сроке беременности 18-21 недель | J21: 5.2.1
B22: reflexoterapie рефлексотерапии | C22: 2 | I22: - ecografia prostatei эхография предстательной железы | J22: 5.3 | P22: 0
B23: chinetoterapie кинетотерапии | C23: 3 | I23: - ecografia în ginecologie эхография в гинекологии | J23: 5.4
B24: hemosorbţie гемосорбции | C24: 4 | I24: - doplerografia vaselor sangvine доплерография сосудов | J24: 5.5
I25: - ecografia altor organe эхография других органов | J25: 5.6
B26: 11. Diagnostică funcţională Функциональная диагностика | I26: 12. Analize de laborator
B27: Функциональная диагностика | I27: Лабораторные анализы
B28: Numărul persoanelor examinate 1 | I28: Denumirea investigaţiei Наименование исследования | J28: Nr rînd № стр | K28: Număr investigaţii Число исследований
B29: Число обследованных лиц | I29: Total Всего | J29: 1 | M29: =K30+K31+K32+K33+K34 -> 0
B30: Număr investigaţii 2 | I30: inclusiv: в том числе: - hematologice гематологические | J30: 1.1
B31: Число исследований | I31: - citologice цитологические | J31: 1.2
B32: inclusiv achitate de CNAM persoanelor asigurate 2.1 | I32: - biochimice биохимические | J32: 1.3
B33: в т.ч. оплаченных НКСМ застрахованным лицам | I33: - microbiologice микробиологические | J33: 1.4
I34: - imunologice иммунологические | J34: 1.5
D36: Număr analize pozitive la: sifilis 12.1 | J36: gonoree 12.2
D37: Число анализов положительных на сифилис | J37: гонорею
C38: Din numărul total analize de laborator (din rînd.1) efectuate persoanelor asigurate (achitate de CNAM) 12.3 Из общего числа лабораторных анализов (из стр.1)проведено застрахованным лицам (оплаченных НКСМ) .

Sheet 12
C2: 13. Activitatea staţionarului
C3: Деятельность стационара
A5: Nr. rînd. № стр | B5: Profil paturi Профиль коек | C5: Număr paturi Число коек | E5: În anul gestionar В отчетном году | I5: Număr zile-pat spitalizate Проведено больными койко-дней
C6: la finele anului gestionar на конец отчетного года | D6: medii- anuale средне-годовых | E6: bolnavi internaţi total поступило больных всего | F6: inclusiv copii 0-17 ani 11luni 29 zile в т.ч. дети 0-17 лет 11 мес. 29дн. | G6: bolnavi externaţi выписано больных | H6: decedaţi умерло
A7: A | B7: B | C7: 1 | D7: 2 | E7: 3 | F7: 4 | G7: 5 | H7: 6 | I7: 7
A8: 1 | B8: Total Всего
C9: ='[1]2'!$D$11 -> 0 | D9: ='[1]2'!$E$11 -> 0 | E9: ='[1]2'!$F$11 -> 0 | F9: ='[1]2'!$G$11 -> 0 | G9: ='[1]2'!$H$11 -> 0 | H9: ='[1]2'!$I$11 -> 0 | I9: ='[1]2'!$K$11 -> 0
B10: Notă: Datele desfăşurate pe profiuri de prezentat în anexa Nr.1 f30.
B11: Примечание: Развернутые данные по профилям представить в приложении № 1 f30.
C13: 14. Activitatea staţionarului de zi
C14: Деятельность дневного стационара
B16: Număr locurilor total 1.0 | D16: inclusiv pentru copii 1.1 | G16: trataţi bolnavi total 2.0
B17: Число мест всего | C17: ='[1]7'!$D$25 -> 0 | D17: в т.ч. для детей | F17: ='[1]7'!$G$25 -> 0 | G17: пролечено больных всего | I17: ='[1]7'!$J$25 -> 0
B19: inclusiv copii 2.1 | D19: număr zile-pat total 3.0 | G19: inclusiv de către copii 3.1
B20: в т.ч. детей | C20: ='[1]7'!$L$25 -> 0 | D20: проведено койко-дней всего | F20: ='[1]7'!$F$28 -> 0 | G20: в т.ч. детьми | I20: ='[1]7'!$J$28 -> 0
B22: 15. Activitatea chirurgicală (fără activitatea stomatologului )
B23: Хирургическая работа (без работы стоматолога)
B25: Denumirea intervenţiei Название операции | C25: Nr. rînd № стр. | D25: Număr intervenţii - total Число операций - всего | F25: inclusiv în staţionar в том числе в стационаре
B26: A | C26: B | D26: 1 | F26: 2
B27: Total intervenţii Всего операций | C27: 1.0 | H27: ='[1]15'!$D$6 -> 0
B28: inclusiv: в том числе: intervenţii pe sistemul nervos операции на нервной системе | C28: 2.0 | H28: ='[1]15'!$D$7 -> 0
B29: intervenţii pe sistemul endocrin операции на эндокринной системе | C29: 3.0 | H29: ='[1]15'!$D$10 -> 0
B30: intervenţii pe ochi операции на органе зрения | C30: 4.0 | H30: ='[1]15'!$D$12 -> 0
B31: intervenţii pe ureche, nas, faringe операции на органах уха, носа, горла | C31: 5.0 | H31: ='[1]16'!$D$5 -> 0
B32: intervenţii pe aparatul respirator операции на органах дыхания | C32: 6.0 | H32: ='[1]16'!$D$7 -> 0
B33: intervenţii pe inimă (cord) операции на сердце | C33: 7.0 | H33: ='[1]16'!$D$11 -> 0
B34: intervenţii pe vasele de sînge şi limfatice операции на сосудах | C34: 8.0 | H34: ='[1]16'!$D$14 -> 0
B35: intervenţii pe organele cavităţii abdominale операции на органах брюшной полости | C35: 9.0 | H35: ='[1]17'!$D$5 -> 0
B36: intervenţii pe rinichi şi uretere операции на почках и мочеточниках | C36: 10.0 | H36: ='[1]18'!$D$5 -> 0
B37: intervenţii pe prostată операции на предстательной железе | C37: 11.0 | H37: ='[1]18'!$D$6 -> 0
B38: intervenţii pe organele genitale feminine операции на женских половых органах | C38: 12.0 | H38: ='[1]18'!$D$7 -> 0
B39: intervenţii obstetricale акушерские операции | C39: 13.0 | H39: ='[1]18'!$D$10 -> 0
B40: intervenţii pe aparatul osteo-muscular операции на костно-мышечной системе | C40: 14.0 | H40: ='[1]19'!$D$5 -> 0
B41: intervenţii pe glanda mamară операции на молочной железе | C41: 15.0 | H41: ='[1]19'!$D$12 -> 0
B42: intervenţii pe piele şi ţesutul subcutanat операции на коже и подкожной клетчатке | C42: 16.0 | H42: ='[1]19'!$D$13 -> 0
B43: alte intervenţii прочие операции | C43: 17.0 | H43: ='[1]19'!$D$14 -> 0
B45: 16. Activitatea instituţiei de medicină preventivă (dezinfecţie, deratizaţie, dezinsecţie)
B46: Деятельность учреждения превентивной медицины (дезинфекция, дератизация, дезинсекция)
B48: Denumirea activităţii Наименование деятельности | C48: Nr. rînd № стр. | D48: Volumul lucrărilor efectuate (м2 ) Объем выполненных работ (м2 )
B49: A | C49: B | D49: 1
...

Sheet 13
A1: 17. Depistați bolnavi de Trihomoniază, infecții cu Chlamydia și herpes ano-genital
A2: Выявлено больных трихомониазом, хламидийными инфекциями и аногенитальным герпесом
A3: Denumirea Наименование | B3: Cifru conform CIM revizia X Шифр по МКБ Х пере-смотра | C3: Sex Пол | D3: Nr. rînd № стр. | E3: Număr bolnavi cu diagnosticul stabilit caz nou Число больных с впервые в жизни установленным диагнозом | L3: din numărul total de bolnavi locuitori rurali из общего числа больных сельские жители
E4: TOTAL ВСЕГО | F4: inclusiv în vîrstă в том числе в возрасте
F5: pînă la 14 ani до 14 лет | G5: 15-17 ani лет | H5: 18-19 ani лет | I5: 20-29 ani лет | J5: 30-39 ani лет | K5: 40 ani şi peste 40 лет и старше
A6: A | B6: B | C6: C | D6: D | E6: 1 | F6: 2 | G6: 3 | H6: 4 | I6: 5 | J6: 6 | K6: 7 | L6: 8
A7: Trichomoniază Трихомониаз | B7: A 59.0 | C7: b/м | D7: 1
C8: f/ж | D8: 2
A9: Infecţii cu Chlamydia transmise pe cale sexuală Хламидийные инфек-ции, передающиеся половым путем | B9: A 56; A 63 | C9: b/м | D9: 3
C10: f/ж | D10: 4
A11: Infecţii ano-genitale prin virusul herpetic (herpes simplex) Аногенитальные герпетические инфекции (герпес простой) | B11: A 60 | C11: b/м | D11: 5
C12: f/ж | D12: 6

Sheet 14
B2: 3200 2. Activitatea secţiei dializă Деятельность отделения диализа
B4: Denumirea Наименование | C4: Nr rînd № строки | D4: Total Всего
B5: A | C5: B | D5: C
B6: Dializa este prestată * : Диализ осуществляется *: - În cadrul asistenței medicale spitalicești (de fixat în rubrica C: da -1 , nu - 0 ) - В госпитальной системе медицинской помощи (отметить в столбике С: да - 1, нет -0 ) | C6: 1
B7: - În cadrul asistenței medicale specializate de ambulator (de fixat în rubrica C: da -1 , nu - 0) - В амбулаторной специализированной системе медицинской помощи (отметить в столбике С: да - 1, нет -0) | C7: 2
B8: Tipul serviciilor de dializă: Типы услуги диализа: - Hemodializa și alte metode extracorporale (hemofiltrare, hemodiafiltrare, plasmafereza, hemoperfuzia): - da -1 , nu - 0 - Гемодиализ и другие экстракорпоральные методы (гемофильтрация, гемодиафильтрация, плазмаферез, гемосорбция) да - 1, нет -0 | C8: 3
B9: - Dializa peritoneală : - da -1 , nu - 0 - Перитонеальный диализ: да - 1, нет -0 | C9: 4
B10: Număr locuri dialize (aparate “rinichi artificiali”) Число диализных мест ( аппараты «искусственная почка») | C10: 5
B11: Numărul pacienților cu Boala Cronică de Rinichi (BCR), tratați cu hemodializă și alte metode extracorporale pe parcursul anului Число пациентов с Хронической Болезнью Почек (ХПБ), лечившихся гемодиализом и другими экстракорпоральными методами в течении года | C11: 6
B12: Numărul pacienților cu BCR, tratați cu dializa peritoneală pe parcursul anului ** Число пациентов с ХБП, лечившихся перитонеальным диализом в течении года ** | C12: 7
B13: Numărul pacienților cu BCR, spitalizați primar la tratament prin dializă pe parcursul anului Число пациентов с ХБП, впервые госпитализированных на лечение диализом в течении года | C13: 8
B14: Numărul pacienților cu BCR, aflați la tratament prin dializă la finele anului (31 decembrie inclusiv) Число пациентов с ХБП, состоящих на лечении диализом на конец года (31 декабря включительно) | C14: 9
B15: Numărul pacienților cu Leziune Acută a Rinichiului (LAR) (insuficiență renală acută - IRA) tratați cu dializă pe parcursul anului Число пациентов с Острым Поражением Почек - ОПП (Острой Почечной Недостаточностью-ОПН), лечившихся диализом в течении года | C15: 10
A16: 14 | B16: Număr ședințe hemodializă și alte metode extracorporale efectuate pe parcursul anului, în total Число проведенных сеансов гемодиализа и других экстракорпоральных методов в течении года, всего | C16: 11
B17: Inclusiv : в том числе: - ședințe hemodializă (HD); сеансов гемодиализа (ГД) | C17: 12
B18: - ședințe hemofiltrare (HF), hemodiafiltrare (HDF); сеансов гемофильтрации (ГФ), сеансов гемодиафильтрации (ГДФ) | C18: 13
B19: - ședințe plasmafereză (PF): сеансов плазмафереза (ПФ) | C19: 14
B20: - ședințe hemoperfuzie (hemoadsorbție) (HP); сеансов гемосорбции (ГС) | C20: 15
B21: Numărul de ședințe hemodializă și alte metode extracorporale efectuate pe parcursul anului la pacienți cu BCR Число проведенных сеансов гемодиализа и других экстракорпоральных методов в течении года пациентам с ХБП | C21: 16
B22: Numărul de ședințe hemodializă și alte metode extracorporale efectuate pe parcursul anului la pacienți cu LAR (IRA) Число проведенных сеансов гемодиализа и других экстракорпоральных методов в течении года пациентам с ОПП (ОПН) | C22: 17
B23: Numărul pacienților decedați cu BCR la tratament prin dializă Число пациентов умерших с ХБП на диализе | C23: 18
B24: Numărul pacienților decedați cu LAR (IRA) la tratament prin dializă Число пациентов умерших с ОПП (ОПН) на диализе | C24: 19
B25: Din numărul total de ședințe hemodializă și alte metode extracorporale efectuate ( din rind.11), la pacienți din staționar Из общего числа проведенных сеансов диализа и других экстракорпоральных методов (из стр.11), больным из стационара | C25: 20
B26: * în dependență de statutul secției, dializa poate fi prestată pacienților din staționar (spital), ambulator sau mixt (staționar și ambulator) в зависимости от статуса отделения, диализ осуществляется пациентам из стационара (больницы), амбулаторно или смешано (стационар и амбулаторно)
B27: ** pentru pacienții tratați cu dializă peritoneală (DP), datele statistice se referă doar la numărul de pacienți tratați cu DP, fără a indica numărul de ședințe для пациентов лечившихся перитонеальным диализом (ПД), статистические данные относятся только к числу пациентов, без необходимости отметить число сеансов ПД

Sheet indicatori
A1: Calcularea indicatorilor Raport statistic Nr 1-aim
A2: «Privind activitatea agentului economic privat la prestarea serviciilor medicale»
A3: Cod | B3: Denumire indicator | C3: Valoare absoluta | D3: Indicator
A4: aim1_i1 | B4: Ponderea medicilor cumulari | C4: ='2'!J10 -> 1 | D4: ='2'!J10*100/'2'!D10 -> 100
A5: aim1_i2 | B5: Ponderea medicilor dupa virsta total | C5: ='2'!E10+'2'!F10+'2'!G10+'2'!H10+'2'!I10 -> 1 | D5: =('2'!E10+'2'!F10+'2'!G10+'2'!H10+'2'!I10)*100/'2'!D10 -> 100
A6: aim1_i3 | B6: sub 35 ani | C6: ='2'!E10 -> 0 | D6: ='2'!E10*100/'2'!D10 -> 0
A7: aim1_i4 | B7: 36-44 ani | C7: ='2'!F10 -> 0 | D7: ='2'!F10*100/'2'!D10 -> 0
A8: aim1_i5 | B8: 45-54 ani | C8: ='2'!G10 -> 1 | D8: ='2'!G10*100/'2'!D10 -> 100
A9: aim1_i6 | B9: 55-64 ani | C9: ='2'!H10 -> 0 | D9: ='2'!H10*100/'2'!D10 -> 0
